BEGIN:VCALENDAR
VERSION:2.0
PRODID:-//ECS Formation Sabolienne - ECPv6.10.1.1//NONSGML v1.0//EN
CALSCALE:GREGORIAN
METHOD:PUBLISH
X-ORIGINAL-URL:https://www.ecsautoecole.fr
X-WR-CALDESC:Évènements pour ECS Formation Sabolienne
REFRESH-INTERVAL;VALUE=DURATION:PT1H
X-Robots-Tag:noindex
X-PUBLISHED-TTL:PT1H
BEGIN:VTIMEZONE
TZID:Europe/Paris
BEGIN:DAYLIGHT
TZOFFSETFROM:+0100
TZOFFSETTO:+0200
TZNAME:CEST
DTSTART:20270328T010000
END:DAYLIGHT
BEGIN:STANDARD
TZOFFSETFROM:+0200
TZOFFSETTO:+0100
TZNAME:CET
DTSTART:20271031T010000
END:STANDARD
END:VTIMEZONE
BEGIN:VEVENT
DTSTART;TZID=Europe/Paris:20270803T180000
DTEND;TZID=Europe/Paris:20270803T190000
DTSTAMP:20260421T135515
CREATED:20250724T072037Z
LAST-MODIFIED:20250728T124113Z
UID:10000116-1817316000-1817319600@www.ecsautoecole.fr
SUMMARY:Cours de code à Sablé
DESCRIPTION:
URL:https://www.ecsautoecole.fr/event/cours-de-code/2027-08-03/
LOCATION:sablé sur sarthe\, 48 rue du mans\, sablé sur sarthe\, 72300\, France
CATEGORIES:Cours de Code
END:VEVENT
BEGIN:VEVENT
DTSTART;TZID=Europe/Paris:20270804T180000
DTEND;TZID=Europe/Paris:20270804T190000
DTSTAMP:20260421T135515
CREATED:20250724T110200Z
LAST-MODIFIED:20250728T124123Z
UID:10000899-1817402400-1817406000@www.ecsautoecole.fr
SUMMARY:cours de code à Sablé
DESCRIPTION:
URL:https://www.ecsautoecole.fr/event/cours-de-code-2/2027-08-04/
LOCATION:sablé sur sarthe\, 48 rue du mans\, sablé sur sarthe\, 72300\, France
CATEGORIES:Cours de Code
END:VEVENT
BEGIN:VEVENT
DTSTART;TZID=Europe/Paris:20270804T180000
DTEND;TZID=Europe/Paris:20270804T190000
DTSTAMP:20260421T135515
CREATED:20250731T154643Z
LAST-MODIFIED:20250731T154643Z
UID:10009001-1817402400-1817406000@www.ecsautoecole.fr
SUMMARY:Cours de code AMC Formation
DESCRIPTION:
URL:https://www.ecsautoecole.fr/event/cours-de-code-amc-formation/2027-08-04/
LOCATION:AMC FORMATION la flèche
CATEGORIES:Cours de Code
END:VEVENT
BEGIN:VEVENT
DTSTART;TZID=Europe/Paris:20270806T180000
DTEND;TZID=Europe/Paris:20270806T190000
DTSTAMP:20260421T135515
CREATED:20250724T140124Z
LAST-MODIFIED:20250728T124030Z
UID:10001943-1817575200-1817578800@www.ecsautoecole.fr
SUMMARY:Cours de code à Sablé
DESCRIPTION:
URL:https://www.ecsautoecole.fr/event/cours-de-code-3/2027-08-06/
LOCATION:sablé sur sarthe\, 48 rue du mans\, sablé sur sarthe\, 72300\, France
CATEGORIES:Cours de Code
END:VEVENT
BEGIN:VEVENT
DTSTART;TZID=Europe/Paris:20270806T180000
DTEND;TZID=Europe/Paris:20270806T190000
DTSTAMP:20260421T135515
CREATED:20250731T154800Z
LAST-MODIFIED:20250731T154800Z
UID:10009525-1817575200-1817578800@www.ecsautoecole.fr
SUMMARY:Cours de code AMC Formation
DESCRIPTION:
URL:https://www.ecsautoecole.fr/event/cours-de-code-la-fleche/2027-08-06/
LOCATION:AMC FORMATION la flèche
CATEGORIES:Cours de Code
END:VEVENT
BEGIN:VEVENT
DTSTART;TZID=Europe/Paris:20270807T100000
DTEND;TZID=Europe/Paris:20270807T110000
DTSTAMP:20260421T135515
CREATED:20250731T155102Z
LAST-MODIFIED:20250731T155102Z
UID:10010571-1817632800-1817636400@www.ecsautoecole.fr
SUMMARY:Cours de code AMC Formation
DESCRIPTION:
URL:https://www.ecsautoecole.fr/event/cours-de-code-6/2027-08-07/
LOCATION:AMC FORMATION la flèche
CATEGORIES:Cours de Code
END:VEVENT
BEGIN:VEVENT
DTSTART;TZID=Europe/Paris:20270807T130000
DTEND;TZID=Europe/Paris:20270807T140000
DTSTAMP:20260421T135515
CREATED:20250724T140337Z
LAST-MODIFIED:20250728T124054Z
UID:10004290-1817643600-1817647200@www.ecsautoecole.fr
SUMMARY:Cours de code à Sablé
DESCRIPTION:
URL:https://www.ecsautoecole.fr/event/cours-de-code-4/2027-08-07/
LOCATION:sablé sur sarthe\, 48 rue du mans\, sablé sur sarthe\, 72300\, France
CATEGORIES:Cours de Code
END:VEVENT
BEGIN:VEVENT
DTSTART;TZID=Europe/Paris:20270810T180000
DTEND;TZID=Europe/Paris:20270810T190000
DTSTAMP:20260421T135515
CREATED:20250724T072037Z
LAST-MODIFIED:20250728T124113Z
UID:10000117-1817920800-1817924400@www.ecsautoecole.fr
SUMMARY:Cours de code à Sablé
DESCRIPTION:
URL:https://www.ecsautoecole.fr/event/cours-de-code/2027-08-10/
LOCATION:sablé sur sarthe\, 48 rue du mans\, sablé sur sarthe\, 72300\, France
CATEGORIES:Cours de Code
END:VEVENT
BEGIN:VEVENT
DTSTART;TZID=Europe/Paris:20270811T180000
DTEND;TZID=Europe/Paris:20270811T190000
DTSTAMP:20260421T135515
CREATED:20250724T110200Z
LAST-MODIFIED:20250728T124123Z
UID:10000900-1818007200-1818010800@www.ecsautoecole.fr
SUMMARY:cours de code à Sablé
DESCRIPTION:
URL:https://www.ecsautoecole.fr/event/cours-de-code-2/2027-08-11/
LOCATION:sablé sur sarthe\, 48 rue du mans\, sablé sur sarthe\, 72300\, France
CATEGORIES:Cours de Code
END:VEVENT
BEGIN:VEVENT
DTSTART;TZID=Europe/Paris:20270811T180000
DTEND;TZID=Europe/Paris:20270811T190000
DTSTAMP:20260421T135515
CREATED:20250731T154643Z
LAST-MODIFIED:20250731T154643Z
UID:10009002-1818007200-1818010800@www.ecsautoecole.fr
SUMMARY:Cours de code AMC Formation
DESCRIPTION:
URL:https://www.ecsautoecole.fr/event/cours-de-code-amc-formation/2027-08-11/
LOCATION:AMC FORMATION la flèche
CATEGORIES:Cours de Code
END:VEVENT
BEGIN:VEVENT
DTSTART;TZID=Europe/Paris:20270813T180000
DTEND;TZID=Europe/Paris:20270813T190000
DTSTAMP:20260421T135515
CREATED:20250724T140124Z
LAST-MODIFIED:20250728T124030Z
UID:10001944-1818180000-1818183600@www.ecsautoecole.fr
SUMMARY:Cours de code à Sablé
DESCRIPTION:
URL:https://www.ecsautoecole.fr/event/cours-de-code-3/2027-08-13/
LOCATION:sablé sur sarthe\, 48 rue du mans\, sablé sur sarthe\, 72300\, France
CATEGORIES:Cours de Code
END:VEVENT
BEGIN:VEVENT
DTSTART;TZID=Europe/Paris:20270813T180000
DTEND;TZID=Europe/Paris:20270813T190000
DTSTAMP:20260421T135515
CREATED:20250731T154800Z
LAST-MODIFIED:20250731T154800Z
UID:10009526-1818180000-1818183600@www.ecsautoecole.fr
SUMMARY:Cours de code AMC Formation
DESCRIPTION:
URL:https://www.ecsautoecole.fr/event/cours-de-code-la-fleche/2027-08-13/
LOCATION:AMC FORMATION la flèche
CATEGORIES:Cours de Code
END:VEVENT
BEGIN:VEVENT
DTSTART;TZID=Europe/Paris:20270814T100000
DTEND;TZID=Europe/Paris:20270814T110000
DTSTAMP:20260421T135515
CREATED:20250731T155102Z
LAST-MODIFIED:20250731T155102Z
UID:10010572-1818237600-1818241200@www.ecsautoecole.fr
SUMMARY:Cours de code AMC Formation
DESCRIPTION:
URL:https://www.ecsautoecole.fr/event/cours-de-code-6/2027-08-14/
LOCATION:AMC FORMATION la flèche
CATEGORIES:Cours de Code
END:VEVENT
BEGIN:VEVENT
DTSTART;TZID=Europe/Paris:20270814T130000
DTEND;TZID=Europe/Paris:20270814T140000
DTSTAMP:20260421T135515
CREATED:20250724T140337Z
LAST-MODIFIED:20250728T124054Z
UID:10004291-1818248400-1818252000@www.ecsautoecole.fr
SUMMARY:Cours de code à Sablé
DESCRIPTION:
URL:https://www.ecsautoecole.fr/event/cours-de-code-4/2027-08-14/
LOCATION:sablé sur sarthe\, 48 rue du mans\, sablé sur sarthe\, 72300\, France
CATEGORIES:Cours de Code
END:VEVENT
BEGIN:VEVENT
DTSTART;TZID=Europe/Paris:20270817T180000
DTEND;TZID=Europe/Paris:20270817T190000
DTSTAMP:20260421T135515
CREATED:20250724T072037Z
LAST-MODIFIED:20250728T124113Z
UID:10000118-1818525600-1818529200@www.ecsautoecole.fr
SUMMARY:Cours de code à Sablé
DESCRIPTION:
URL:https://www.ecsautoecole.fr/event/cours-de-code/2027-08-17/
LOCATION:sablé sur sarthe\, 48 rue du mans\, sablé sur sarthe\, 72300\, France
CATEGORIES:Cours de Code
END:VEVENT
BEGIN:VEVENT
DTSTART;TZID=Europe/Paris:20270818T180000
DTEND;TZID=Europe/Paris:20270818T190000
DTSTAMP:20260421T135515
CREATED:20250724T110200Z
LAST-MODIFIED:20250728T124123Z
UID:10000901-1818612000-1818615600@www.ecsautoecole.fr
SUMMARY:cours de code à Sablé
DESCRIPTION:
URL:https://www.ecsautoecole.fr/event/cours-de-code-2/2027-08-18/
LOCATION:sablé sur sarthe\, 48 rue du mans\, sablé sur sarthe\, 72300\, France
CATEGORIES:Cours de Code
END:VEVENT
BEGIN:VEVENT
DTSTART;TZID=Europe/Paris:20270818T180000
DTEND;TZID=Europe/Paris:20270818T190000
DTSTAMP:20260421T135515
CREATED:20250731T154643Z
LAST-MODIFIED:20250731T154643Z
UID:10009003-1818612000-1818615600@www.ecsautoecole.fr
SUMMARY:Cours de code AMC Formation
DESCRIPTION:
URL:https://www.ecsautoecole.fr/event/cours-de-code-amc-formation/2027-08-18/
LOCATION:AMC FORMATION la flèche
CATEGORIES:Cours de Code
END:VEVENT
BEGIN:VEVENT
DTSTART;TZID=Europe/Paris:20270820T180000
DTEND;TZID=Europe/Paris:20270820T190000
DTSTAMP:20260421T135515
CREATED:20250724T140124Z
LAST-MODIFIED:20250728T124030Z
UID:10001945-1818784800-1818788400@www.ecsautoecole.fr
SUMMARY:Cours de code à Sablé
DESCRIPTION:
URL:https://www.ecsautoecole.fr/event/cours-de-code-3/2027-08-20/
LOCATION:sablé sur sarthe\, 48 rue du mans\, sablé sur sarthe\, 72300\, France
CATEGORIES:Cours de Code
END:VEVENT
BEGIN:VEVENT
DTSTART;TZID=Europe/Paris:20270820T180000
DTEND;TZID=Europe/Paris:20270820T190000
DTSTAMP:20260421T135515
CREATED:20250731T154800Z
LAST-MODIFIED:20250731T154800Z
UID:10009527-1818784800-1818788400@www.ecsautoecole.fr
SUMMARY:Cours de code AMC Formation
DESCRIPTION:
URL:https://www.ecsautoecole.fr/event/cours-de-code-la-fleche/2027-08-20/
LOCATION:AMC FORMATION la flèche
CATEGORIES:Cours de Code
END:VEVENT
BEGIN:VEVENT
DTSTART;TZID=Europe/Paris:20270821T100000
DTEND;TZID=Europe/Paris:20270821T110000
DTSTAMP:20260421T135515
CREATED:20250731T155102Z
LAST-MODIFIED:20250731T155102Z
UID:10010573-1818842400-1818846000@www.ecsautoecole.fr
SUMMARY:Cours de code AMC Formation
DESCRIPTION:
URL:https://www.ecsautoecole.fr/event/cours-de-code-6/2027-08-21/
LOCATION:AMC FORMATION la flèche
CATEGORIES:Cours de Code
END:VEVENT
BEGIN:VEVENT
DTSTART;TZID=Europe/Paris:20270821T130000
DTEND;TZID=Europe/Paris:20270821T140000
DTSTAMP:20260421T135515
CREATED:20250724T140337Z
LAST-MODIFIED:20250728T124054Z
UID:10004292-1818853200-1818856800@www.ecsautoecole.fr
SUMMARY:Cours de code à Sablé
DESCRIPTION:
URL:https://www.ecsautoecole.fr/event/cours-de-code-4/2027-08-21/
LOCATION:sablé sur sarthe\, 48 rue du mans\, sablé sur sarthe\, 72300\, France
CATEGORIES:Cours de Code
END:VEVENT
BEGIN:VEVENT
DTSTART;TZID=Europe/Paris:20270824T180000
DTEND;TZID=Europe/Paris:20270824T190000
DTSTAMP:20260421T135515
CREATED:20250724T072037Z
LAST-MODIFIED:20250728T124113Z
UID:10000119-1819130400-1819134000@www.ecsautoecole.fr
SUMMARY:Cours de code à Sablé
DESCRIPTION:
URL:https://www.ecsautoecole.fr/event/cours-de-code/2027-08-24/
LOCATION:sablé sur sarthe\, 48 rue du mans\, sablé sur sarthe\, 72300\, France
CATEGORIES:Cours de Code
END:VEVENT
BEGIN:VEVENT
DTSTART;TZID=Europe/Paris:20270825T180000
DTEND;TZID=Europe/Paris:20270825T190000
DTSTAMP:20260421T135515
CREATED:20250724T110200Z
LAST-MODIFIED:20250728T124123Z
UID:10000902-1819216800-1819220400@www.ecsautoecole.fr
SUMMARY:cours de code à Sablé
DESCRIPTION:
URL:https://www.ecsautoecole.fr/event/cours-de-code-2/2027-08-25/
LOCATION:sablé sur sarthe\, 48 rue du mans\, sablé sur sarthe\, 72300\, France
CATEGORIES:Cours de Code
END:VEVENT
BEGIN:VEVENT
DTSTART;TZID=Europe/Paris:20270825T180000
DTEND;TZID=Europe/Paris:20270825T190000
DTSTAMP:20260421T135515
CREATED:20250731T154643Z
LAST-MODIFIED:20250731T154643Z
UID:10009004-1819216800-1819220400@www.ecsautoecole.fr
SUMMARY:Cours de code AMC Formation
DESCRIPTION:
URL:https://www.ecsautoecole.fr/event/cours-de-code-amc-formation/2027-08-25/
LOCATION:AMC FORMATION la flèche
CATEGORIES:Cours de Code
END:VEVENT
BEGIN:VEVENT
DTSTART;TZID=Europe/Paris:20270827T180000
DTEND;TZID=Europe/Paris:20270827T190000
DTSTAMP:20260421T135515
CREATED:20250724T140124Z
LAST-MODIFIED:20250728T124030Z
UID:10001946-1819389600-1819393200@www.ecsautoecole.fr
SUMMARY:Cours de code à Sablé
DESCRIPTION:
URL:https://www.ecsautoecole.fr/event/cours-de-code-3/2027-08-27/
LOCATION:sablé sur sarthe\, 48 rue du mans\, sablé sur sarthe\, 72300\, France
CATEGORIES:Cours de Code
END:VEVENT
BEGIN:VEVENT
DTSTART;TZID=Europe/Paris:20270827T180000
DTEND;TZID=Europe/Paris:20270827T190000
DTSTAMP:20260421T135515
CREATED:20250731T154800Z
LAST-MODIFIED:20250731T154800Z
UID:10009528-1819389600-1819393200@www.ecsautoecole.fr
SUMMARY:Cours de code AMC Formation
DESCRIPTION:
URL:https://www.ecsautoecole.fr/event/cours-de-code-la-fleche/2027-08-27/
LOCATION:AMC FORMATION la flèche
CATEGORIES:Cours de Code
END:VEVENT
BEGIN:VEVENT
DTSTART;TZID=Europe/Paris:20270828T100000
DTEND;TZID=Europe/Paris:20270828T110000
DTSTAMP:20260421T135515
CREATED:20250731T155102Z
LAST-MODIFIED:20250731T155102Z
UID:10010574-1819447200-1819450800@www.ecsautoecole.fr
SUMMARY:Cours de code AMC Formation
DESCRIPTION:
URL:https://www.ecsautoecole.fr/event/cours-de-code-6/2027-08-28/
LOCATION:AMC FORMATION la flèche
CATEGORIES:Cours de Code
END:VEVENT
BEGIN:VEVENT
DTSTART;TZID=Europe/Paris:20270828T130000
DTEND;TZID=Europe/Paris:20270828T140000
DTSTAMP:20260421T135515
CREATED:20250724T140337Z
LAST-MODIFIED:20250728T124054Z
UID:10004293-1819458000-1819461600@www.ecsautoecole.fr
SUMMARY:Cours de code à Sablé
DESCRIPTION:
URL:https://www.ecsautoecole.fr/event/cours-de-code-4/2027-08-28/
LOCATION:sablé sur sarthe\, 48 rue du mans\, sablé sur sarthe\, 72300\, France
CATEGORIES:Cours de Code
END:VEVENT
BEGIN:VEVENT
DTSTART;TZID=Europe/Paris:20270831T180000
DTEND;TZID=Europe/Paris:20270831T190000
DTSTAMP:20260421T135515
CREATED:20250724T072037Z
LAST-MODIFIED:20250728T124113Z
UID:10000120-1819735200-1819738800@www.ecsautoecole.fr
SUMMARY:Cours de code à Sablé
DESCRIPTION:
URL:https://www.ecsautoecole.fr/event/cours-de-code/2027-08-31/
LOCATION:sablé sur sarthe\, 48 rue du mans\, sablé sur sarthe\, 72300\, France
CATEGORIES:Cours de Code
END:VEVENT
END:VCALENDAR