BEGIN:VCALENDAR
VERSION:2.0
PRODID:-//ECS Formation Sabolienne - ECPv6.10.1.1//NONSGML v1.0//EN
CALSCALE:GREGORIAN
METHOD:PUBLISH
X-WR-CALNAME:ECS Formation Sabolienne
X-ORIGINAL-URL:https://www.ecsautoecole.fr
X-WR-CALDESC:Évènements pour ECS Formation Sabolienne
REFRESH-INTERVAL;VALUE=DURATION:PT1H
X-Robots-Tag:noindex
X-PUBLISHED-TTL:PT1H
BEGIN:VTIMEZONE
TZID:Europe/Paris
BEGIN:DAYLIGHT
TZOFFSETFROM:+0100
TZOFFSETTO:+0200
TZNAME:CEST
DTSTART:20280326T010000
END:DAYLIGHT
BEGIN:STANDARD
TZOFFSETFROM:+0200
TZOFFSETTO:+0100
TZNAME:CET
DTSTART:20281029T010000
END:STANDARD
END:VTIMEZONE
BEGIN:VEVENT
DTSTART;TZID=Europe/Paris:20280301T180000
DTEND;TZID=Europe/Paris:20280301T190000
DTSTAMP:20260422T003958
CREATED:20250724T110200Z
LAST-MODIFIED:20250728T124123Z
UID:10000929-1835546400-1835550000@www.ecsautoecole.fr
SUMMARY:cours de code à Sablé
DESCRIPTION:
URL:https://www.ecsautoecole.fr/event/cours-de-code-2/2028-03-01/
LOCATION:sablé sur sarthe\, 48 rue du mans\, sablé sur sarthe\, 72300\, France
CATEGORIES:Cours de Code
END:VEVENT
BEGIN:VEVENT
DTSTART;TZID=Europe/Paris:20280301T180000
DTEND;TZID=Europe/Paris:20280301T190000
DTSTAMP:20260422T003958
CREATED:20250731T154643Z
LAST-MODIFIED:20250731T154643Z
UID:10009031-1835546400-1835550000@www.ecsautoecole.fr
SUMMARY:Cours de code AMC Formation
DESCRIPTION:
URL:https://www.ecsautoecole.fr/event/cours-de-code-amc-formation/2028-03-01/
LOCATION:AMC FORMATION la flèche
CATEGORIES:Cours de Code
END:VEVENT
BEGIN:VEVENT
DTSTART;TZID=Europe/Paris:20280303T180000
DTEND;TZID=Europe/Paris:20280303T190000
DTSTAMP:20260422T003958
CREATED:20250724T140124Z
LAST-MODIFIED:20250728T124030Z
UID:10001973-1835719200-1835722800@www.ecsautoecole.fr
SUMMARY:Cours de code à Sablé
DESCRIPTION:
URL:https://www.ecsautoecole.fr/event/cours-de-code-3/2028-03-03/
LOCATION:sablé sur sarthe\, 48 rue du mans\, sablé sur sarthe\, 72300\, France
CATEGORIES:Cours de Code
END:VEVENT
BEGIN:VEVENT
DTSTART;TZID=Europe/Paris:20280303T180000
DTEND;TZID=Europe/Paris:20280303T190000
DTSTAMP:20260422T003958
CREATED:20250731T154800Z
LAST-MODIFIED:20250731T154800Z
UID:10009555-1835719200-1835722800@www.ecsautoecole.fr
SUMMARY:Cours de code AMC Formation
DESCRIPTION:
URL:https://www.ecsautoecole.fr/event/cours-de-code-la-fleche/2028-03-03/
LOCATION:AMC FORMATION la flèche
CATEGORIES:Cours de Code
END:VEVENT
BEGIN:VEVENT
DTSTART;TZID=Europe/Paris:20280304T100000
DTEND;TZID=Europe/Paris:20280304T110000
DTSTAMP:20260422T003958
CREATED:20250731T155102Z
LAST-MODIFIED:20250731T155102Z
UID:10010601-1835776800-1835780400@www.ecsautoecole.fr
SUMMARY:Cours de code AMC Formation
DESCRIPTION:
URL:https://www.ecsautoecole.fr/event/cours-de-code-6/2028-03-04/
LOCATION:AMC FORMATION la flèche
CATEGORIES:Cours de Code
END:VEVENT
BEGIN:VEVENT
DTSTART;TZID=Europe/Paris:20280304T130000
DTEND;TZID=Europe/Paris:20280304T140000
DTSTAMP:20260422T003958
CREATED:20250724T140337Z
LAST-MODIFIED:20250728T124054Z
UID:10004320-1835787600-1835791200@www.ecsautoecole.fr
SUMMARY:Cours de code à Sablé
DESCRIPTION:
URL:https://www.ecsautoecole.fr/event/cours-de-code-4/2028-03-04/
LOCATION:sablé sur sarthe\, 48 rue du mans\, sablé sur sarthe\, 72300\, France
CATEGORIES:Cours de Code
END:VEVENT
BEGIN:VEVENT
DTSTART;TZID=Europe/Paris:20280307T180000
DTEND;TZID=Europe/Paris:20280307T190000
DTSTAMP:20260422T003958
CREATED:20250724T072037Z
LAST-MODIFIED:20250728T124113Z
UID:10000147-1836064800-1836068400@www.ecsautoecole.fr
SUMMARY:Cours de code à Sablé
DESCRIPTION:
URL:https://www.ecsautoecole.fr/event/cours-de-code/2028-03-07/
LOCATION:sablé sur sarthe\, 48 rue du mans\, sablé sur sarthe\, 72300\, France
CATEGORIES:Cours de Code
END:VEVENT
BEGIN:VEVENT
DTSTART;TZID=Europe/Paris:20280308T180000
DTEND;TZID=Europe/Paris:20280308T190000
DTSTAMP:20260422T003958
CREATED:20250724T110200Z
LAST-MODIFIED:20250728T124123Z
UID:10000930-1836151200-1836154800@www.ecsautoecole.fr
SUMMARY:cours de code à Sablé
DESCRIPTION:
URL:https://www.ecsautoecole.fr/event/cours-de-code-2/2028-03-08/
LOCATION:sablé sur sarthe\, 48 rue du mans\, sablé sur sarthe\, 72300\, France
CATEGORIES:Cours de Code
END:VEVENT
BEGIN:VEVENT
DTSTART;TZID=Europe/Paris:20280308T180000
DTEND;TZID=Europe/Paris:20280308T190000
DTSTAMP:20260422T003958
CREATED:20250731T154643Z
LAST-MODIFIED:20250731T154643Z
UID:10009032-1836151200-1836154800@www.ecsautoecole.fr
SUMMARY:Cours de code AMC Formation
DESCRIPTION:
URL:https://www.ecsautoecole.fr/event/cours-de-code-amc-formation/2028-03-08/
LOCATION:AMC FORMATION la flèche
CATEGORIES:Cours de Code
END:VEVENT
BEGIN:VEVENT
DTSTART;TZID=Europe/Paris:20280310T180000
DTEND;TZID=Europe/Paris:20280310T190000
DTSTAMP:20260422T003958
CREATED:20250724T140124Z
LAST-MODIFIED:20250728T124030Z
UID:10001974-1836324000-1836327600@www.ecsautoecole.fr
SUMMARY:Cours de code à Sablé
DESCRIPTION:
URL:https://www.ecsautoecole.fr/event/cours-de-code-3/2028-03-10/
LOCATION:sablé sur sarthe\, 48 rue du mans\, sablé sur sarthe\, 72300\, France
CATEGORIES:Cours de Code
END:VEVENT
BEGIN:VEVENT
DTSTART;TZID=Europe/Paris:20280310T180000
DTEND;TZID=Europe/Paris:20280310T190000
DTSTAMP:20260422T003958
CREATED:20250731T154800Z
LAST-MODIFIED:20250731T154800Z
UID:10009556-1836324000-1836327600@www.ecsautoecole.fr
SUMMARY:Cours de code AMC Formation
DESCRIPTION:
URL:https://www.ecsautoecole.fr/event/cours-de-code-la-fleche/2028-03-10/
LOCATION:AMC FORMATION la flèche
CATEGORIES:Cours de Code
END:VEVENT
BEGIN:VEVENT
DTSTART;TZID=Europe/Paris:20280311T100000
DTEND;TZID=Europe/Paris:20280311T110000
DTSTAMP:20260422T003958
CREATED:20250731T155102Z
LAST-MODIFIED:20250731T155102Z
UID:10010602-1836381600-1836385200@www.ecsautoecole.fr
SUMMARY:Cours de code AMC Formation
DESCRIPTION:
URL:https://www.ecsautoecole.fr/event/cours-de-code-6/2028-03-11/
LOCATION:AMC FORMATION la flèche
CATEGORIES:Cours de Code
END:VEVENT
BEGIN:VEVENT
DTSTART;TZID=Europe/Paris:20280311T130000
DTEND;TZID=Europe/Paris:20280311T140000
DTSTAMP:20260422T003958
CREATED:20250724T140337Z
LAST-MODIFIED:20250728T124054Z
UID:10004321-1836392400-1836396000@www.ecsautoecole.fr
SUMMARY:Cours de code à Sablé
DESCRIPTION:
URL:https://www.ecsautoecole.fr/event/cours-de-code-4/2028-03-11/
LOCATION:sablé sur sarthe\, 48 rue du mans\, sablé sur sarthe\, 72300\, France
CATEGORIES:Cours de Code
END:VEVENT
BEGIN:VEVENT
DTSTART;TZID=Europe/Paris:20280314T180000
DTEND;TZID=Europe/Paris:20280314T190000
DTSTAMP:20260422T003958
CREATED:20250724T072037Z
LAST-MODIFIED:20250728T124113Z
UID:10000148-1836669600-1836673200@www.ecsautoecole.fr
SUMMARY:Cours de code à Sablé
DESCRIPTION:
URL:https://www.ecsautoecole.fr/event/cours-de-code/2028-03-14/
LOCATION:sablé sur sarthe\, 48 rue du mans\, sablé sur sarthe\, 72300\, France
CATEGORIES:Cours de Code
END:VEVENT
BEGIN:VEVENT
DTSTART;TZID=Europe/Paris:20280315T180000
DTEND;TZID=Europe/Paris:20280315T190000
DTSTAMP:20260422T003958
CREATED:20250724T110200Z
LAST-MODIFIED:20250728T124123Z
UID:10000931-1836756000-1836759600@www.ecsautoecole.fr
SUMMARY:cours de code à Sablé
DESCRIPTION:
URL:https://www.ecsautoecole.fr/event/cours-de-code-2/2028-03-15/
LOCATION:sablé sur sarthe\, 48 rue du mans\, sablé sur sarthe\, 72300\, France
CATEGORIES:Cours de Code
END:VEVENT
BEGIN:VEVENT
DTSTART;TZID=Europe/Paris:20280315T180000
DTEND;TZID=Europe/Paris:20280315T190000
DTSTAMP:20260422T003958
CREATED:20250731T154643Z
LAST-MODIFIED:20250731T154643Z
UID:10009033-1836756000-1836759600@www.ecsautoecole.fr
SUMMARY:Cours de code AMC Formation
DESCRIPTION:
URL:https://www.ecsautoecole.fr/event/cours-de-code-amc-formation/2028-03-15/
LOCATION:AMC FORMATION la flèche
CATEGORIES:Cours de Code
END:VEVENT
BEGIN:VEVENT
DTSTART;TZID=Europe/Paris:20280317T180000
DTEND;TZID=Europe/Paris:20280317T190000
DTSTAMP:20260422T003958
CREATED:20250724T140124Z
LAST-MODIFIED:20250728T124030Z
UID:10001975-1836928800-1836932400@www.ecsautoecole.fr
SUMMARY:Cours de code à Sablé
DESCRIPTION:
URL:https://www.ecsautoecole.fr/event/cours-de-code-3/2028-03-17/
LOCATION:sablé sur sarthe\, 48 rue du mans\, sablé sur sarthe\, 72300\, France
CATEGORIES:Cours de Code
END:VEVENT
BEGIN:VEVENT
DTSTART;TZID=Europe/Paris:20280317T180000
DTEND;TZID=Europe/Paris:20280317T190000
DTSTAMP:20260422T003958
CREATED:20250731T154800Z
LAST-MODIFIED:20250731T154800Z
UID:10009557-1836928800-1836932400@www.ecsautoecole.fr
SUMMARY:Cours de code AMC Formation
DESCRIPTION:
URL:https://www.ecsautoecole.fr/event/cours-de-code-la-fleche/2028-03-17/
LOCATION:AMC FORMATION la flèche
CATEGORIES:Cours de Code
END:VEVENT
BEGIN:VEVENT
DTSTART;TZID=Europe/Paris:20280318T100000
DTEND;TZID=Europe/Paris:20280318T110000
DTSTAMP:20260422T003958
CREATED:20250731T155102Z
LAST-MODIFIED:20250731T155102Z
UID:10010603-1836986400-1836990000@www.ecsautoecole.fr
SUMMARY:Cours de code AMC Formation
DESCRIPTION:
URL:https://www.ecsautoecole.fr/event/cours-de-code-6/2028-03-18/
LOCATION:AMC FORMATION la flèche
CATEGORIES:Cours de Code
END:VEVENT
BEGIN:VEVENT
DTSTART;TZID=Europe/Paris:20280318T130000
DTEND;TZID=Europe/Paris:20280318T140000
DTSTAMP:20260422T003958
CREATED:20250724T140337Z
LAST-MODIFIED:20250728T124054Z
UID:10004322-1836997200-1837000800@www.ecsautoecole.fr
SUMMARY:Cours de code à Sablé
DESCRIPTION:
URL:https://www.ecsautoecole.fr/event/cours-de-code-4/2028-03-18/
LOCATION:sablé sur sarthe\, 48 rue du mans\, sablé sur sarthe\, 72300\, France
CATEGORIES:Cours de Code
END:VEVENT
BEGIN:VEVENT
DTSTART;TZID=Europe/Paris:20280321T180000
DTEND;TZID=Europe/Paris:20280321T190000
DTSTAMP:20260422T003958
CREATED:20250724T072037Z
LAST-MODIFIED:20250728T124113Z
UID:10000149-1837274400-1837278000@www.ecsautoecole.fr
SUMMARY:Cours de code à Sablé
DESCRIPTION:
URL:https://www.ecsautoecole.fr/event/cours-de-code/2028-03-21/
LOCATION:sablé sur sarthe\, 48 rue du mans\, sablé sur sarthe\, 72300\, France
CATEGORIES:Cours de Code
END:VEVENT
BEGIN:VEVENT
DTSTART;TZID=Europe/Paris:20280322T180000
DTEND;TZID=Europe/Paris:20280322T190000
DTSTAMP:20260422T003958
CREATED:20250724T110200Z
LAST-MODIFIED:20250728T124123Z
UID:10000932-1837360800-1837364400@www.ecsautoecole.fr
SUMMARY:cours de code à Sablé
DESCRIPTION:
URL:https://www.ecsautoecole.fr/event/cours-de-code-2/2028-03-22/
LOCATION:sablé sur sarthe\, 48 rue du mans\, sablé sur sarthe\, 72300\, France
CATEGORIES:Cours de Code
END:VEVENT
BEGIN:VEVENT
DTSTART;TZID=Europe/Paris:20280322T180000
DTEND;TZID=Europe/Paris:20280322T190000
DTSTAMP:20260422T003958
CREATED:20250731T154643Z
LAST-MODIFIED:20250731T154643Z
UID:10009034-1837360800-1837364400@www.ecsautoecole.fr
SUMMARY:Cours de code AMC Formation
DESCRIPTION:
URL:https://www.ecsautoecole.fr/event/cours-de-code-amc-formation/2028-03-22/
LOCATION:AMC FORMATION la flèche
CATEGORIES:Cours de Code
END:VEVENT
BEGIN:VEVENT
DTSTART;TZID=Europe/Paris:20280324T180000
DTEND;TZID=Europe/Paris:20280324T190000
DTSTAMP:20260422T003958
CREATED:20250724T140124Z
LAST-MODIFIED:20250728T124030Z
UID:10001976-1837533600-1837537200@www.ecsautoecole.fr
SUMMARY:Cours de code à Sablé
DESCRIPTION:
URL:https://www.ecsautoecole.fr/event/cours-de-code-3/2028-03-24/
LOCATION:sablé sur sarthe\, 48 rue du mans\, sablé sur sarthe\, 72300\, France
CATEGORIES:Cours de Code
END:VEVENT
BEGIN:VEVENT
DTSTART;TZID=Europe/Paris:20280324T180000
DTEND;TZID=Europe/Paris:20280324T190000
DTSTAMP:20260422T003958
CREATED:20250731T154800Z
LAST-MODIFIED:20250731T154800Z
UID:10009558-1837533600-1837537200@www.ecsautoecole.fr
SUMMARY:Cours de code AMC Formation
DESCRIPTION:
URL:https://www.ecsautoecole.fr/event/cours-de-code-la-fleche/2028-03-24/
LOCATION:AMC FORMATION la flèche
CATEGORIES:Cours de Code
END:VEVENT
BEGIN:VEVENT
DTSTART;TZID=Europe/Paris:20280325T100000
DTEND;TZID=Europe/Paris:20280325T110000
DTSTAMP:20260422T003958
CREATED:20250731T155102Z
LAST-MODIFIED:20250731T155102Z
UID:10010604-1837591200-1837594800@www.ecsautoecole.fr
SUMMARY:Cours de code AMC Formation
DESCRIPTION:
URL:https://www.ecsautoecole.fr/event/cours-de-code-6/2028-03-25/
LOCATION:AMC FORMATION la flèche
CATEGORIES:Cours de Code
END:VEVENT
BEGIN:VEVENT
DTSTART;TZID=Europe/Paris:20280325T130000
DTEND;TZID=Europe/Paris:20280325T140000
DTSTAMP:20260422T003958
CREATED:20250724T140337Z
LAST-MODIFIED:20250728T124054Z
UID:10004323-1837602000-1837605600@www.ecsautoecole.fr
SUMMARY:Cours de code à Sablé
DESCRIPTION:
URL:https://www.ecsautoecole.fr/event/cours-de-code-4/2028-03-25/
LOCATION:sablé sur sarthe\, 48 rue du mans\, sablé sur sarthe\, 72300\, France
CATEGORIES:Cours de Code
END:VEVENT
BEGIN:VEVENT
DTSTART;TZID=Europe/Paris:20280328T180000
DTEND;TZID=Europe/Paris:20280328T190000
DTSTAMP:20260422T003958
CREATED:20250724T072037Z
LAST-MODIFIED:20250728T124113Z
UID:10000150-1837879200-1837882800@www.ecsautoecole.fr
SUMMARY:Cours de code à Sablé
DESCRIPTION:
URL:https://www.ecsautoecole.fr/event/cours-de-code/2028-03-28/
LOCATION:sablé sur sarthe\, 48 rue du mans\, sablé sur sarthe\, 72300\, France
CATEGORIES:Cours de Code
END:VEVENT
BEGIN:VEVENT
DTSTART;TZID=Europe/Paris:20280329T180000
DTEND;TZID=Europe/Paris:20280329T190000
DTSTAMP:20260422T003958
CREATED:20250724T110200Z
LAST-MODIFIED:20250728T124123Z
UID:10000933-1837965600-1837969200@www.ecsautoecole.fr
SUMMARY:cours de code à Sablé
DESCRIPTION:
URL:https://www.ecsautoecole.fr/event/cours-de-code-2/2028-03-29/
LOCATION:sablé sur sarthe\, 48 rue du mans\, sablé sur sarthe\, 72300\, France
CATEGORIES:Cours de Code
END:VEVENT
BEGIN:VEVENT
DTSTART;TZID=Europe/Paris:20280329T180000
DTEND;TZID=Europe/Paris:20280329T190000
DTSTAMP:20260422T003958
CREATED:20250731T154643Z
LAST-MODIFIED:20250731T154643Z
UID:10009035-1837965600-1837969200@www.ecsautoecole.fr
SUMMARY:Cours de code AMC Formation
DESCRIPTION:
URL:https://www.ecsautoecole.fr/event/cours-de-code-amc-formation/2028-03-29/
LOCATION:AMC FORMATION la flèche
CATEGORIES:Cours de Code
END:VEVENT
END:VCALENDAR