BEGIN:VCALENDAR
VERSION:2.0
PRODID:-//ECS Formation Sabolienne - ECPv6.10.1.1//NONSGML v1.0//EN
CALSCALE:GREGORIAN
METHOD:PUBLISH
X-WR-CALNAME:ECS Formation Sabolienne
X-ORIGINAL-URL:https://www.ecsautoecole.fr
X-WR-CALDESC:Évènements pour ECS Formation Sabolienne
REFRESH-INTERVAL;VALUE=DURATION:PT1H
X-Robots-Tag:noindex
X-PUBLISHED-TTL:PT1H
BEGIN:VTIMEZONE
TZID:Europe/Paris
BEGIN:DAYLIGHT
TZOFFSETFROM:+0100
TZOFFSETTO:+0200
TZNAME:CEST
DTSTART:20280326T010000
END:DAYLIGHT
BEGIN:STANDARD
TZOFFSETFROM:+0200
TZOFFSETTO:+0100
TZNAME:CET
DTSTART:20281029T010000
END:STANDARD
END:VTIMEZONE
BEGIN:VEVENT
DTSTART;TZID=Europe/Paris:20280701T100000
DTEND;TZID=Europe/Paris:20280701T110000
DTSTAMP:20260422T091746
CREATED:20250731T155102Z
LAST-MODIFIED:20250731T155102Z
UID:10010618-1846058400-1846062000@www.ecsautoecole.fr
SUMMARY:Cours de code AMC Formation
DESCRIPTION:
URL:https://www.ecsautoecole.fr/event/cours-de-code-6/2028-07-01/
LOCATION:AMC FORMATION la flèche
CATEGORIES:Cours de Code
END:VEVENT
BEGIN:VEVENT
DTSTART;TZID=Europe/Paris:20280701T130000
DTEND;TZID=Europe/Paris:20280701T140000
DTSTAMP:20260422T091746
CREATED:20250724T140337Z
LAST-MODIFIED:20250728T124054Z
UID:10004337-1846069200-1846072800@www.ecsautoecole.fr
SUMMARY:Cours de code à Sablé
DESCRIPTION:
URL:https://www.ecsautoecole.fr/event/cours-de-code-4/2028-07-01/
LOCATION:sablé sur sarthe\, 48 rue du mans\, sablé sur sarthe\, 72300\, France
CATEGORIES:Cours de Code
END:VEVENT
BEGIN:VEVENT
DTSTART;TZID=Europe/Paris:20280704T180000
DTEND;TZID=Europe/Paris:20280704T190000
DTSTAMP:20260422T091746
CREATED:20250724T072037Z
LAST-MODIFIED:20250728T124113Z
UID:10000164-1846346400-1846350000@www.ecsautoecole.fr
SUMMARY:Cours de code à Sablé
DESCRIPTION:
URL:https://www.ecsautoecole.fr/event/cours-de-code/2028-07-04/
LOCATION:sablé sur sarthe\, 48 rue du mans\, sablé sur sarthe\, 72300\, France
CATEGORIES:Cours de Code
END:VEVENT
BEGIN:VEVENT
DTSTART;TZID=Europe/Paris:20280705T180000
DTEND;TZID=Europe/Paris:20280705T190000
DTSTAMP:20260422T091746
CREATED:20250724T110200Z
LAST-MODIFIED:20250728T124123Z
UID:10000947-1846432800-1846436400@www.ecsautoecole.fr
SUMMARY:cours de code à Sablé
DESCRIPTION:
URL:https://www.ecsautoecole.fr/event/cours-de-code-2/2028-07-05/
LOCATION:sablé sur sarthe\, 48 rue du mans\, sablé sur sarthe\, 72300\, France
CATEGORIES:Cours de Code
END:VEVENT
BEGIN:VEVENT
DTSTART;TZID=Europe/Paris:20280705T180000
DTEND;TZID=Europe/Paris:20280705T190000
DTSTAMP:20260422T091746
CREATED:20250731T154643Z
LAST-MODIFIED:20250731T154643Z
UID:10009049-1846432800-1846436400@www.ecsautoecole.fr
SUMMARY:Cours de code AMC Formation
DESCRIPTION:
URL:https://www.ecsautoecole.fr/event/cours-de-code-amc-formation/2028-07-05/
LOCATION:AMC FORMATION la flèche
CATEGORIES:Cours de Code
END:VEVENT
BEGIN:VEVENT
DTSTART;TZID=Europe/Paris:20280707T180000
DTEND;TZID=Europe/Paris:20280707T190000
DTSTAMP:20260422T091746
CREATED:20250724T140124Z
LAST-MODIFIED:20250728T124030Z
UID:10001991-1846605600-1846609200@www.ecsautoecole.fr
SUMMARY:Cours de code à Sablé
DESCRIPTION:
URL:https://www.ecsautoecole.fr/event/cours-de-code-3/2028-07-07/
LOCATION:sablé sur sarthe\, 48 rue du mans\, sablé sur sarthe\, 72300\, France
CATEGORIES:Cours de Code
END:VEVENT
BEGIN:VEVENT
DTSTART;TZID=Europe/Paris:20280707T180000
DTEND;TZID=Europe/Paris:20280707T190000
DTSTAMP:20260422T091746
CREATED:20250731T154800Z
LAST-MODIFIED:20250731T154800Z
UID:10009573-1846605600-1846609200@www.ecsautoecole.fr
SUMMARY:Cours de code AMC Formation
DESCRIPTION:
URL:https://www.ecsautoecole.fr/event/cours-de-code-la-fleche/2028-07-07/
LOCATION:AMC FORMATION la flèche
CATEGORIES:Cours de Code
END:VEVENT
BEGIN:VEVENT
DTSTART;TZID=Europe/Paris:20280708T100000
DTEND;TZID=Europe/Paris:20280708T110000
DTSTAMP:20260422T091746
CREATED:20250731T155102Z
LAST-MODIFIED:20250731T155102Z
UID:10010619-1846663200-1846666800@www.ecsautoecole.fr
SUMMARY:Cours de code AMC Formation
DESCRIPTION:
URL:https://www.ecsautoecole.fr/event/cours-de-code-6/2028-07-08/
LOCATION:AMC FORMATION la flèche
CATEGORIES:Cours de Code
END:VEVENT
BEGIN:VEVENT
DTSTART;TZID=Europe/Paris:20280708T130000
DTEND;TZID=Europe/Paris:20280708T140000
DTSTAMP:20260422T091746
CREATED:20250724T140337Z
LAST-MODIFIED:20250728T124054Z
UID:10004338-1846674000-1846677600@www.ecsautoecole.fr
SUMMARY:Cours de code à Sablé
DESCRIPTION:
URL:https://www.ecsautoecole.fr/event/cours-de-code-4/2028-07-08/
LOCATION:sablé sur sarthe\, 48 rue du mans\, sablé sur sarthe\, 72300\, France
CATEGORIES:Cours de Code
END:VEVENT
BEGIN:VEVENT
DTSTART;TZID=Europe/Paris:20280711T180000
DTEND;TZID=Europe/Paris:20280711T190000
DTSTAMP:20260422T091746
CREATED:20250724T072037Z
LAST-MODIFIED:20250728T124113Z
UID:10000165-1846951200-1846954800@www.ecsautoecole.fr
SUMMARY:Cours de code à Sablé
DESCRIPTION:
URL:https://www.ecsautoecole.fr/event/cours-de-code/2028-07-11/
LOCATION:sablé sur sarthe\, 48 rue du mans\, sablé sur sarthe\, 72300\, France
CATEGORIES:Cours de Code
END:VEVENT
BEGIN:VEVENT
DTSTART;TZID=Europe/Paris:20280712T180000
DTEND;TZID=Europe/Paris:20280712T190000
DTSTAMP:20260422T091746
CREATED:20250724T110200Z
LAST-MODIFIED:20250728T124123Z
UID:10000948-1847037600-1847041200@www.ecsautoecole.fr
SUMMARY:cours de code à Sablé
DESCRIPTION:
URL:https://www.ecsautoecole.fr/event/cours-de-code-2/2028-07-12/
LOCATION:sablé sur sarthe\, 48 rue du mans\, sablé sur sarthe\, 72300\, France
CATEGORIES:Cours de Code
END:VEVENT
BEGIN:VEVENT
DTSTART;TZID=Europe/Paris:20280712T180000
DTEND;TZID=Europe/Paris:20280712T190000
DTSTAMP:20260422T091746
CREATED:20250731T154643Z
LAST-MODIFIED:20250731T154643Z
UID:10009050-1847037600-1847041200@www.ecsautoecole.fr
SUMMARY:Cours de code AMC Formation
DESCRIPTION:
URL:https://www.ecsautoecole.fr/event/cours-de-code-amc-formation/2028-07-12/
LOCATION:AMC FORMATION la flèche
CATEGORIES:Cours de Code
END:VEVENT
BEGIN:VEVENT
DTSTART;TZID=Europe/Paris:20280714T180000
DTEND;TZID=Europe/Paris:20280714T190000
DTSTAMP:20260422T091746
CREATED:20250724T140124Z
LAST-MODIFIED:20250728T124030Z
UID:10001992-1847210400-1847214000@www.ecsautoecole.fr
SUMMARY:Cours de code à Sablé
DESCRIPTION:
URL:https://www.ecsautoecole.fr/event/cours-de-code-3/2028-07-14/
LOCATION:sablé sur sarthe\, 48 rue du mans\, sablé sur sarthe\, 72300\, France
CATEGORIES:Cours de Code
END:VEVENT
BEGIN:VEVENT
DTSTART;TZID=Europe/Paris:20280714T180000
DTEND;TZID=Europe/Paris:20280714T190000
DTSTAMP:20260422T091746
CREATED:20250731T154800Z
LAST-MODIFIED:20250731T154800Z
UID:10009574-1847210400-1847214000@www.ecsautoecole.fr
SUMMARY:Cours de code AMC Formation
DESCRIPTION:
URL:https://www.ecsautoecole.fr/event/cours-de-code-la-fleche/2028-07-14/
LOCATION:AMC FORMATION la flèche
CATEGORIES:Cours de Code
END:VEVENT
BEGIN:VEVENT
DTSTART;TZID=Europe/Paris:20280715T100000
DTEND;TZID=Europe/Paris:20280715T110000
DTSTAMP:20260422T091746
CREATED:20250731T155102Z
LAST-MODIFIED:20250731T155102Z
UID:10010620-1847268000-1847271600@www.ecsautoecole.fr
SUMMARY:Cours de code AMC Formation
DESCRIPTION:
URL:https://www.ecsautoecole.fr/event/cours-de-code-6/2028-07-15/
LOCATION:AMC FORMATION la flèche
CATEGORIES:Cours de Code
END:VEVENT
BEGIN:VEVENT
DTSTART;TZID=Europe/Paris:20280715T130000
DTEND;TZID=Europe/Paris:20280715T140000
DTSTAMP:20260422T091746
CREATED:20250724T140337Z
LAST-MODIFIED:20250728T124054Z
UID:10004339-1847278800-1847282400@www.ecsautoecole.fr
SUMMARY:Cours de code à Sablé
DESCRIPTION:
URL:https://www.ecsautoecole.fr/event/cours-de-code-4/2028-07-15/
LOCATION:sablé sur sarthe\, 48 rue du mans\, sablé sur sarthe\, 72300\, France
CATEGORIES:Cours de Code
END:VEVENT
BEGIN:VEVENT
DTSTART;TZID=Europe/Paris:20280718T180000
DTEND;TZID=Europe/Paris:20280718T190000
DTSTAMP:20260422T091746
CREATED:20250724T072037Z
LAST-MODIFIED:20250728T124113Z
UID:10000166-1847556000-1847559600@www.ecsautoecole.fr
SUMMARY:Cours de code à Sablé
DESCRIPTION:
URL:https://www.ecsautoecole.fr/event/cours-de-code/2028-07-18/
LOCATION:sablé sur sarthe\, 48 rue du mans\, sablé sur sarthe\, 72300\, France
CATEGORIES:Cours de Code
END:VEVENT
BEGIN:VEVENT
DTSTART;TZID=Europe/Paris:20280719T180000
DTEND;TZID=Europe/Paris:20280719T190000
DTSTAMP:20260422T091746
CREATED:20250724T110200Z
LAST-MODIFIED:20250728T124123Z
UID:10000949-1847642400-1847646000@www.ecsautoecole.fr
SUMMARY:cours de code à Sablé
DESCRIPTION:
URL:https://www.ecsautoecole.fr/event/cours-de-code-2/2028-07-19/
LOCATION:sablé sur sarthe\, 48 rue du mans\, sablé sur sarthe\, 72300\, France
CATEGORIES:Cours de Code
END:VEVENT
BEGIN:VEVENT
DTSTART;TZID=Europe/Paris:20280719T180000
DTEND;TZID=Europe/Paris:20280719T190000
DTSTAMP:20260422T091746
CREATED:20250731T154643Z
LAST-MODIFIED:20250731T154643Z
UID:10009051-1847642400-1847646000@www.ecsautoecole.fr
SUMMARY:Cours de code AMC Formation
DESCRIPTION:
URL:https://www.ecsautoecole.fr/event/cours-de-code-amc-formation/2028-07-19/
LOCATION:AMC FORMATION la flèche
CATEGORIES:Cours de Code
END:VEVENT
BEGIN:VEVENT
DTSTART;TZID=Europe/Paris:20280721T180000
DTEND;TZID=Europe/Paris:20280721T190000
DTSTAMP:20260422T091746
CREATED:20250724T140124Z
LAST-MODIFIED:20250728T124030Z
UID:10001993-1847815200-1847818800@www.ecsautoecole.fr
SUMMARY:Cours de code à Sablé
DESCRIPTION:
URL:https://www.ecsautoecole.fr/event/cours-de-code-3/2028-07-21/
LOCATION:sablé sur sarthe\, 48 rue du mans\, sablé sur sarthe\, 72300\, France
CATEGORIES:Cours de Code
END:VEVENT
BEGIN:VEVENT
DTSTART;TZID=Europe/Paris:20280721T180000
DTEND;TZID=Europe/Paris:20280721T190000
DTSTAMP:20260422T091746
CREATED:20250731T154800Z
LAST-MODIFIED:20250731T154800Z
UID:10009575-1847815200-1847818800@www.ecsautoecole.fr
SUMMARY:Cours de code AMC Formation
DESCRIPTION:
URL:https://www.ecsautoecole.fr/event/cours-de-code-la-fleche/2028-07-21/
LOCATION:AMC FORMATION la flèche
CATEGORIES:Cours de Code
END:VEVENT
BEGIN:VEVENT
DTSTART;TZID=Europe/Paris:20280722T100000
DTEND;TZID=Europe/Paris:20280722T110000
DTSTAMP:20260422T091746
CREATED:20250731T155102Z
LAST-MODIFIED:20250731T155102Z
UID:10010621-1847872800-1847876400@www.ecsautoecole.fr
SUMMARY:Cours de code AMC Formation
DESCRIPTION:
URL:https://www.ecsautoecole.fr/event/cours-de-code-6/2028-07-22/
LOCATION:AMC FORMATION la flèche
CATEGORIES:Cours de Code
END:VEVENT
BEGIN:VEVENT
DTSTART;TZID=Europe/Paris:20280722T130000
DTEND;TZID=Europe/Paris:20280722T140000
DTSTAMP:20260422T091746
CREATED:20250724T140337Z
LAST-MODIFIED:20250728T124054Z
UID:10004340-1847883600-1847887200@www.ecsautoecole.fr
SUMMARY:Cours de code à Sablé
DESCRIPTION:
URL:https://www.ecsautoecole.fr/event/cours-de-code-4/2028-07-22/
LOCATION:sablé sur sarthe\, 48 rue du mans\, sablé sur sarthe\, 72300\, France
CATEGORIES:Cours de Code
END:VEVENT
BEGIN:VEVENT
DTSTART;TZID=Europe/Paris:20280725T180000
DTEND;TZID=Europe/Paris:20280725T190000
DTSTAMP:20260422T091746
CREATED:20250724T072037Z
LAST-MODIFIED:20250728T124113Z
UID:10000167-1848160800-1848164400@www.ecsautoecole.fr
SUMMARY:Cours de code à Sablé
DESCRIPTION:
URL:https://www.ecsautoecole.fr/event/cours-de-code/2028-07-25/
LOCATION:sablé sur sarthe\, 48 rue du mans\, sablé sur sarthe\, 72300\, France
CATEGORIES:Cours de Code
END:VEVENT
BEGIN:VEVENT
DTSTART;TZID=Europe/Paris:20280726T180000
DTEND;TZID=Europe/Paris:20280726T190000
DTSTAMP:20260422T091746
CREATED:20250724T110200Z
LAST-MODIFIED:20250728T124123Z
UID:10000950-1848247200-1848250800@www.ecsautoecole.fr
SUMMARY:cours de code à Sablé
DESCRIPTION:
URL:https://www.ecsautoecole.fr/event/cours-de-code-2/2028-07-26/
LOCATION:sablé sur sarthe\, 48 rue du mans\, sablé sur sarthe\, 72300\, France
CATEGORIES:Cours de Code
END:VEVENT
BEGIN:VEVENT
DTSTART;TZID=Europe/Paris:20280726T180000
DTEND;TZID=Europe/Paris:20280726T190000
DTSTAMP:20260422T091746
CREATED:20250731T154643Z
LAST-MODIFIED:20250731T154643Z
UID:10009052-1848247200-1848250800@www.ecsautoecole.fr
SUMMARY:Cours de code AMC Formation
DESCRIPTION:
URL:https://www.ecsautoecole.fr/event/cours-de-code-amc-formation/2028-07-26/
LOCATION:AMC FORMATION la flèche
CATEGORIES:Cours de Code
END:VEVENT
BEGIN:VEVENT
DTSTART;TZID=Europe/Paris:20280728T180000
DTEND;TZID=Europe/Paris:20280728T190000
DTSTAMP:20260422T091746
CREATED:20250724T140124Z
LAST-MODIFIED:20250728T124030Z
UID:10001994-1848420000-1848423600@www.ecsautoecole.fr
SUMMARY:Cours de code à Sablé
DESCRIPTION:
URL:https://www.ecsautoecole.fr/event/cours-de-code-3/2028-07-28/
LOCATION:sablé sur sarthe\, 48 rue du mans\, sablé sur sarthe\, 72300\, France
CATEGORIES:Cours de Code
END:VEVENT
BEGIN:VEVENT
DTSTART;TZID=Europe/Paris:20280728T180000
DTEND;TZID=Europe/Paris:20280728T190000
DTSTAMP:20260422T091746
CREATED:20250731T154800Z
LAST-MODIFIED:20250731T154800Z
UID:10009576-1848420000-1848423600@www.ecsautoecole.fr
SUMMARY:Cours de code AMC Formation
DESCRIPTION:
URL:https://www.ecsautoecole.fr/event/cours-de-code-la-fleche/2028-07-28/
LOCATION:AMC FORMATION la flèche
CATEGORIES:Cours de Code
END:VEVENT
BEGIN:VEVENT
DTSTART;TZID=Europe/Paris:20280729T100000
DTEND;TZID=Europe/Paris:20280729T110000
DTSTAMP:20260422T091746
CREATED:20250731T155102Z
LAST-MODIFIED:20250731T155102Z
UID:10010622-1848477600-1848481200@www.ecsautoecole.fr
SUMMARY:Cours de code AMC Formation
DESCRIPTION:
URL:https://www.ecsautoecole.fr/event/cours-de-code-6/2028-07-29/
LOCATION:AMC FORMATION la flèche
CATEGORIES:Cours de Code
END:VEVENT
BEGIN:VEVENT
DTSTART;TZID=Europe/Paris:20280729T130000
DTEND;TZID=Europe/Paris:20280729T140000
DTSTAMP:20260422T091746
CREATED:20250724T140337Z
LAST-MODIFIED:20250728T124054Z
UID:10004341-1848488400-1848492000@www.ecsautoecole.fr
SUMMARY:Cours de code à Sablé
DESCRIPTION:
URL:https://www.ecsautoecole.fr/event/cours-de-code-4/2028-07-29/
LOCATION:sablé sur sarthe\, 48 rue du mans\, sablé sur sarthe\, 72300\, France
CATEGORIES:Cours de Code
END:VEVENT
END:VCALENDAR