BEGIN:VCALENDAR
VERSION:2.0
PRODID:-//ECS Formation Sabolienne - ECPv6.10.1.1//NONSGML v1.0//EN
CALSCALE:GREGORIAN
METHOD:PUBLISH
X-WR-CALNAME:ECS Formation Sabolienne
X-ORIGINAL-URL:https://www.ecsautoecole.fr
X-WR-CALDESC:Évènements pour ECS Formation Sabolienne
REFRESH-INTERVAL;VALUE=DURATION:PT1H
X-Robots-Tag:noindex
X-PUBLISHED-TTL:PT1H
BEGIN:VTIMEZONE
TZID:Europe/Paris
BEGIN:DAYLIGHT
TZOFFSETFROM:+0100
TZOFFSETTO:+0200
TZNAME:CEST
DTSTART:20280326T010000
END:DAYLIGHT
BEGIN:STANDARD
TZOFFSETFROM:+0200
TZOFFSETTO:+0100
TZNAME:CET
DTSTART:20281029T010000
END:STANDARD
END:VTIMEZONE
BEGIN:VEVENT
DTSTART;TZID=Europe/Paris:20280801T180000
DTEND;TZID=Europe/Paris:20280801T190000
DTSTAMP:20260422T122305
CREATED:20250724T072037Z
LAST-MODIFIED:20250728T124113Z
UID:10000168-1848765600-1848769200@www.ecsautoecole.fr
SUMMARY:Cours de code à Sablé
DESCRIPTION:
URL:https://www.ecsautoecole.fr/event/cours-de-code/2028-08-01/
LOCATION:sablé sur sarthe\, 48 rue du mans\, sablé sur sarthe\, 72300\, France
CATEGORIES:Cours de Code
END:VEVENT
BEGIN:VEVENT
DTSTART;TZID=Europe/Paris:20280802T180000
DTEND;TZID=Europe/Paris:20280802T190000
DTSTAMP:20260422T122305
CREATED:20250724T110200Z
LAST-MODIFIED:20250728T124123Z
UID:10000951-1848852000-1848855600@www.ecsautoecole.fr
SUMMARY:cours de code à Sablé
DESCRIPTION:
URL:https://www.ecsautoecole.fr/event/cours-de-code-2/2028-08-02/
LOCATION:sablé sur sarthe\, 48 rue du mans\, sablé sur sarthe\, 72300\, France
CATEGORIES:Cours de Code
END:VEVENT
BEGIN:VEVENT
DTSTART;TZID=Europe/Paris:20280802T180000
DTEND;TZID=Europe/Paris:20280802T190000
DTSTAMP:20260422T122305
CREATED:20250731T154643Z
LAST-MODIFIED:20250731T154643Z
UID:10009053-1848852000-1848855600@www.ecsautoecole.fr
SUMMARY:Cours de code AMC Formation
DESCRIPTION:
URL:https://www.ecsautoecole.fr/event/cours-de-code-amc-formation/2028-08-02/
LOCATION:AMC FORMATION la flèche
CATEGORIES:Cours de Code
END:VEVENT
BEGIN:VEVENT
DTSTART;TZID=Europe/Paris:20280804T180000
DTEND;TZID=Europe/Paris:20280804T190000
DTSTAMP:20260422T122305
CREATED:20250724T140124Z
LAST-MODIFIED:20250728T124030Z
UID:10001995-1849024800-1849028400@www.ecsautoecole.fr
SUMMARY:Cours de code à Sablé
DESCRIPTION:
URL:https://www.ecsautoecole.fr/event/cours-de-code-3/2028-08-04/
LOCATION:sablé sur sarthe\, 48 rue du mans\, sablé sur sarthe\, 72300\, France
CATEGORIES:Cours de Code
END:VEVENT
BEGIN:VEVENT
DTSTART;TZID=Europe/Paris:20280804T180000
DTEND;TZID=Europe/Paris:20280804T190000
DTSTAMP:20260422T122305
CREATED:20250731T154800Z
LAST-MODIFIED:20250731T154800Z
UID:10009577-1849024800-1849028400@www.ecsautoecole.fr
SUMMARY:Cours de code AMC Formation
DESCRIPTION:
URL:https://www.ecsautoecole.fr/event/cours-de-code-la-fleche/2028-08-04/
LOCATION:AMC FORMATION la flèche
CATEGORIES:Cours de Code
END:VEVENT
BEGIN:VEVENT
DTSTART;TZID=Europe/Paris:20280805T100000
DTEND;TZID=Europe/Paris:20280805T110000
DTSTAMP:20260422T122305
CREATED:20250731T155102Z
LAST-MODIFIED:20250731T155102Z
UID:10010623-1849082400-1849086000@www.ecsautoecole.fr
SUMMARY:Cours de code AMC Formation
DESCRIPTION:
URL:https://www.ecsautoecole.fr/event/cours-de-code-6/2028-08-05/
LOCATION:AMC FORMATION la flèche
CATEGORIES:Cours de Code
END:VEVENT
BEGIN:VEVENT
DTSTART;TZID=Europe/Paris:20280805T130000
DTEND;TZID=Europe/Paris:20280805T140000
DTSTAMP:20260422T122305
CREATED:20250724T140337Z
LAST-MODIFIED:20250728T124054Z
UID:10004342-1849093200-1849096800@www.ecsautoecole.fr
SUMMARY:Cours de code à Sablé
DESCRIPTION:
URL:https://www.ecsautoecole.fr/event/cours-de-code-4/2028-08-05/
LOCATION:sablé sur sarthe\, 48 rue du mans\, sablé sur sarthe\, 72300\, France
CATEGORIES:Cours de Code
END:VEVENT
BEGIN:VEVENT
DTSTART;TZID=Europe/Paris:20280808T180000
DTEND;TZID=Europe/Paris:20280808T190000
DTSTAMP:20260422T122305
CREATED:20250724T072037Z
LAST-MODIFIED:20250728T124113Z
UID:10000169-1849370400-1849374000@www.ecsautoecole.fr
SUMMARY:Cours de code à Sablé
DESCRIPTION:
URL:https://www.ecsautoecole.fr/event/cours-de-code/2028-08-08/
LOCATION:sablé sur sarthe\, 48 rue du mans\, sablé sur sarthe\, 72300\, France
CATEGORIES:Cours de Code
END:VEVENT
BEGIN:VEVENT
DTSTART;TZID=Europe/Paris:20280809T180000
DTEND;TZID=Europe/Paris:20280809T190000
DTSTAMP:20260422T122305
CREATED:20250724T110200Z
LAST-MODIFIED:20250728T124123Z
UID:10000952-1849456800-1849460400@www.ecsautoecole.fr
SUMMARY:cours de code à Sablé
DESCRIPTION:
URL:https://www.ecsautoecole.fr/event/cours-de-code-2/2028-08-09/
LOCATION:sablé sur sarthe\, 48 rue du mans\, sablé sur sarthe\, 72300\, France
CATEGORIES:Cours de Code
END:VEVENT
BEGIN:VEVENT
DTSTART;TZID=Europe/Paris:20280809T180000
DTEND;TZID=Europe/Paris:20280809T190000
DTSTAMP:20260422T122305
CREATED:20250731T154643Z
LAST-MODIFIED:20250731T154643Z
UID:10009054-1849456800-1849460400@www.ecsautoecole.fr
SUMMARY:Cours de code AMC Formation
DESCRIPTION:
URL:https://www.ecsautoecole.fr/event/cours-de-code-amc-formation/2028-08-09/
LOCATION:AMC FORMATION la flèche
CATEGORIES:Cours de Code
END:VEVENT
BEGIN:VEVENT
DTSTART;TZID=Europe/Paris:20280811T180000
DTEND;TZID=Europe/Paris:20280811T190000
DTSTAMP:20260422T122305
CREATED:20250724T140124Z
LAST-MODIFIED:20250728T124030Z
UID:10001996-1849629600-1849633200@www.ecsautoecole.fr
SUMMARY:Cours de code à Sablé
DESCRIPTION:
URL:https://www.ecsautoecole.fr/event/cours-de-code-3/2028-08-11/
LOCATION:sablé sur sarthe\, 48 rue du mans\, sablé sur sarthe\, 72300\, France
CATEGORIES:Cours de Code
END:VEVENT
BEGIN:VEVENT
DTSTART;TZID=Europe/Paris:20280811T180000
DTEND;TZID=Europe/Paris:20280811T190000
DTSTAMP:20260422T122305
CREATED:20250731T154800Z
LAST-MODIFIED:20250731T154800Z
UID:10009578-1849629600-1849633200@www.ecsautoecole.fr
SUMMARY:Cours de code AMC Formation
DESCRIPTION:
URL:https://www.ecsautoecole.fr/event/cours-de-code-la-fleche/2028-08-11/
LOCATION:AMC FORMATION la flèche
CATEGORIES:Cours de Code
END:VEVENT
BEGIN:VEVENT
DTSTART;TZID=Europe/Paris:20280812T100000
DTEND;TZID=Europe/Paris:20280812T110000
DTSTAMP:20260422T122305
CREATED:20250731T155102Z
LAST-MODIFIED:20250731T155102Z
UID:10010624-1849687200-1849690800@www.ecsautoecole.fr
SUMMARY:Cours de code AMC Formation
DESCRIPTION:
URL:https://www.ecsautoecole.fr/event/cours-de-code-6/2028-08-12/
LOCATION:AMC FORMATION la flèche
CATEGORIES:Cours de Code
END:VEVENT
BEGIN:VEVENT
DTSTART;TZID=Europe/Paris:20280812T130000
DTEND;TZID=Europe/Paris:20280812T140000
DTSTAMP:20260422T122305
CREATED:20250724T140337Z
LAST-MODIFIED:20250728T124054Z
UID:10004343-1849698000-1849701600@www.ecsautoecole.fr
SUMMARY:Cours de code à Sablé
DESCRIPTION:
URL:https://www.ecsautoecole.fr/event/cours-de-code-4/2028-08-12/
LOCATION:sablé sur sarthe\, 48 rue du mans\, sablé sur sarthe\, 72300\, France
CATEGORIES:Cours de Code
END:VEVENT
BEGIN:VEVENT
DTSTART;TZID=Europe/Paris:20280815T180000
DTEND;TZID=Europe/Paris:20280815T190000
DTSTAMP:20260422T122305
CREATED:20250724T072037Z
LAST-MODIFIED:20250728T124113Z
UID:10000170-1849975200-1849978800@www.ecsautoecole.fr
SUMMARY:Cours de code à Sablé
DESCRIPTION:
URL:https://www.ecsautoecole.fr/event/cours-de-code/2028-08-15/
LOCATION:sablé sur sarthe\, 48 rue du mans\, sablé sur sarthe\, 72300\, France
CATEGORIES:Cours de Code
END:VEVENT
BEGIN:VEVENT
DTSTART;TZID=Europe/Paris:20280816T180000
DTEND;TZID=Europe/Paris:20280816T190000
DTSTAMP:20260422T122305
CREATED:20250724T110200Z
LAST-MODIFIED:20250728T124123Z
UID:10000953-1850061600-1850065200@www.ecsautoecole.fr
SUMMARY:cours de code à Sablé
DESCRIPTION:
URL:https://www.ecsautoecole.fr/event/cours-de-code-2/2028-08-16/
LOCATION:sablé sur sarthe\, 48 rue du mans\, sablé sur sarthe\, 72300\, France
CATEGORIES:Cours de Code
END:VEVENT
BEGIN:VEVENT
DTSTART;TZID=Europe/Paris:20280816T180000
DTEND;TZID=Europe/Paris:20280816T190000
DTSTAMP:20260422T122305
CREATED:20250731T154643Z
LAST-MODIFIED:20250731T154643Z
UID:10009055-1850061600-1850065200@www.ecsautoecole.fr
SUMMARY:Cours de code AMC Formation
DESCRIPTION:
URL:https://www.ecsautoecole.fr/event/cours-de-code-amc-formation/2028-08-16/
LOCATION:AMC FORMATION la flèche
CATEGORIES:Cours de Code
END:VEVENT
BEGIN:VEVENT
DTSTART;TZID=Europe/Paris:20280818T180000
DTEND;TZID=Europe/Paris:20280818T190000
DTSTAMP:20260422T122305
CREATED:20250724T140124Z
LAST-MODIFIED:20250728T124030Z
UID:10001997-1850234400-1850238000@www.ecsautoecole.fr
SUMMARY:Cours de code à Sablé
DESCRIPTION:
URL:https://www.ecsautoecole.fr/event/cours-de-code-3/2028-08-18/
LOCATION:sablé sur sarthe\, 48 rue du mans\, sablé sur sarthe\, 72300\, France
CATEGORIES:Cours de Code
END:VEVENT
BEGIN:VEVENT
DTSTART;TZID=Europe/Paris:20280818T180000
DTEND;TZID=Europe/Paris:20280818T190000
DTSTAMP:20260422T122305
CREATED:20250731T154800Z
LAST-MODIFIED:20250731T154800Z
UID:10009579-1850234400-1850238000@www.ecsautoecole.fr
SUMMARY:Cours de code AMC Formation
DESCRIPTION:
URL:https://www.ecsautoecole.fr/event/cours-de-code-la-fleche/2028-08-18/
LOCATION:AMC FORMATION la flèche
CATEGORIES:Cours de Code
END:VEVENT
BEGIN:VEVENT
DTSTART;TZID=Europe/Paris:20280819T100000
DTEND;TZID=Europe/Paris:20280819T110000
DTSTAMP:20260422T122305
CREATED:20250731T155102Z
LAST-MODIFIED:20250731T155102Z
UID:10010625-1850292000-1850295600@www.ecsautoecole.fr
SUMMARY:Cours de code AMC Formation
DESCRIPTION:
URL:https://www.ecsautoecole.fr/event/cours-de-code-6/2028-08-19/
LOCATION:AMC FORMATION la flèche
CATEGORIES:Cours de Code
END:VEVENT
BEGIN:VEVENT
DTSTART;TZID=Europe/Paris:20280819T130000
DTEND;TZID=Europe/Paris:20280819T140000
DTSTAMP:20260422T122305
CREATED:20250724T140337Z
LAST-MODIFIED:20250728T124054Z
UID:10004344-1850302800-1850306400@www.ecsautoecole.fr
SUMMARY:Cours de code à Sablé
DESCRIPTION:
URL:https://www.ecsautoecole.fr/event/cours-de-code-4/2028-08-19/
LOCATION:sablé sur sarthe\, 48 rue du mans\, sablé sur sarthe\, 72300\, France
CATEGORIES:Cours de Code
END:VEVENT
BEGIN:VEVENT
DTSTART;TZID=Europe/Paris:20280822T180000
DTEND;TZID=Europe/Paris:20280822T190000
DTSTAMP:20260422T122305
CREATED:20250724T072037Z
LAST-MODIFIED:20250728T124113Z
UID:10000171-1850580000-1850583600@www.ecsautoecole.fr
SUMMARY:Cours de code à Sablé
DESCRIPTION:
URL:https://www.ecsautoecole.fr/event/cours-de-code/2028-08-22/
LOCATION:sablé sur sarthe\, 48 rue du mans\, sablé sur sarthe\, 72300\, France
CATEGORIES:Cours de Code
END:VEVENT
BEGIN:VEVENT
DTSTART;TZID=Europe/Paris:20280823T180000
DTEND;TZID=Europe/Paris:20280823T190000
DTSTAMP:20260422T122305
CREATED:20250724T110200Z
LAST-MODIFIED:20250728T124123Z
UID:10000954-1850666400-1850670000@www.ecsautoecole.fr
SUMMARY:cours de code à Sablé
DESCRIPTION:
URL:https://www.ecsautoecole.fr/event/cours-de-code-2/2028-08-23/
LOCATION:sablé sur sarthe\, 48 rue du mans\, sablé sur sarthe\, 72300\, France
CATEGORIES:Cours de Code
END:VEVENT
BEGIN:VEVENT
DTSTART;TZID=Europe/Paris:20280823T180000
DTEND;TZID=Europe/Paris:20280823T190000
DTSTAMP:20260422T122305
CREATED:20250731T154643Z
LAST-MODIFIED:20250731T154643Z
UID:10009056-1850666400-1850670000@www.ecsautoecole.fr
SUMMARY:Cours de code AMC Formation
DESCRIPTION:
URL:https://www.ecsautoecole.fr/event/cours-de-code-amc-formation/2028-08-23/
LOCATION:AMC FORMATION la flèche
CATEGORIES:Cours de Code
END:VEVENT
BEGIN:VEVENT
DTSTART;TZID=Europe/Paris:20280825T180000
DTEND;TZID=Europe/Paris:20280825T190000
DTSTAMP:20260422T122305
CREATED:20250724T140124Z
LAST-MODIFIED:20250728T124030Z
UID:10001998-1850839200-1850842800@www.ecsautoecole.fr
SUMMARY:Cours de code à Sablé
DESCRIPTION:
URL:https://www.ecsautoecole.fr/event/cours-de-code-3/2028-08-25/
LOCATION:sablé sur sarthe\, 48 rue du mans\, sablé sur sarthe\, 72300\, France
CATEGORIES:Cours de Code
END:VEVENT
BEGIN:VEVENT
DTSTART;TZID=Europe/Paris:20280825T180000
DTEND;TZID=Europe/Paris:20280825T190000
DTSTAMP:20260422T122305
CREATED:20250731T154800Z
LAST-MODIFIED:20250731T154800Z
UID:10009580-1850839200-1850842800@www.ecsautoecole.fr
SUMMARY:Cours de code AMC Formation
DESCRIPTION:
URL:https://www.ecsautoecole.fr/event/cours-de-code-la-fleche/2028-08-25/
LOCATION:AMC FORMATION la flèche
CATEGORIES:Cours de Code
END:VEVENT
BEGIN:VEVENT
DTSTART;TZID=Europe/Paris:20280826T100000
DTEND;TZID=Europe/Paris:20280826T110000
DTSTAMP:20260422T122305
CREATED:20250731T155102Z
LAST-MODIFIED:20250731T155102Z
UID:10010626-1850896800-1850900400@www.ecsautoecole.fr
SUMMARY:Cours de code AMC Formation
DESCRIPTION:
URL:https://www.ecsautoecole.fr/event/cours-de-code-6/2028-08-26/
LOCATION:AMC FORMATION la flèche
CATEGORIES:Cours de Code
END:VEVENT
BEGIN:VEVENT
DTSTART;TZID=Europe/Paris:20280826T130000
DTEND;TZID=Europe/Paris:20280826T140000
DTSTAMP:20260422T122305
CREATED:20250724T140337Z
LAST-MODIFIED:20250728T124054Z
UID:10004345-1850907600-1850911200@www.ecsautoecole.fr
SUMMARY:Cours de code à Sablé
DESCRIPTION:
URL:https://www.ecsautoecole.fr/event/cours-de-code-4/2028-08-26/
LOCATION:sablé sur sarthe\, 48 rue du mans\, sablé sur sarthe\, 72300\, France
CATEGORIES:Cours de Code
END:VEVENT
BEGIN:VEVENT
DTSTART;TZID=Europe/Paris:20280829T180000
DTEND;TZID=Europe/Paris:20280829T190000
DTSTAMP:20260422T122305
CREATED:20250724T072037Z
LAST-MODIFIED:20250728T124113Z
UID:10000172-1851184800-1851188400@www.ecsautoecole.fr
SUMMARY:Cours de code à Sablé
DESCRIPTION:
URL:https://www.ecsautoecole.fr/event/cours-de-code/2028-08-29/
LOCATION:sablé sur sarthe\, 48 rue du mans\, sablé sur sarthe\, 72300\, France
CATEGORIES:Cours de Code
END:VEVENT
BEGIN:VEVENT
DTSTART;TZID=Europe/Paris:20280830T180000
DTEND;TZID=Europe/Paris:20280830T190000
DTSTAMP:20260422T122305
CREATED:20250724T110200Z
LAST-MODIFIED:20250728T124123Z
UID:10000955-1851271200-1851274800@www.ecsautoecole.fr
SUMMARY:cours de code à Sablé
DESCRIPTION:
URL:https://www.ecsautoecole.fr/event/cours-de-code-2/2028-08-30/
LOCATION:sablé sur sarthe\, 48 rue du mans\, sablé sur sarthe\, 72300\, France
CATEGORIES:Cours de Code
END:VEVENT
END:VCALENDAR