BEGIN:VCALENDAR
VERSION:2.0
PRODID:-//ECS Formation Sabolienne - ECPv6.10.1.1//NONSGML v1.0//EN
CALSCALE:GREGORIAN
METHOD:PUBLISH
X-ORIGINAL-URL:https://www.ecsautoecole.fr
X-WR-CALDESC:Évènements pour ECS Formation Sabolienne
REFRESH-INTERVAL;VALUE=DURATION:PT1H
X-Robots-Tag:noindex
X-PUBLISHED-TTL:PT1H
BEGIN:VTIMEZONE
TZID:Europe/Paris
BEGIN:DAYLIGHT
TZOFFSETFROM:+0100
TZOFFSETTO:+0200
TZNAME:CEST
DTSTART:20280326T010000
END:DAYLIGHT
BEGIN:STANDARD
TZOFFSETFROM:+0200
TZOFFSETTO:+0100
TZNAME:CET
DTSTART:20281029T010000
END:STANDARD
END:VTIMEZONE
BEGIN:VEVENT
DTSTART;TZID=Europe/Paris:20280901T180000
DTEND;TZID=Europe/Paris:20280901T190000
DTSTAMP:20260422T140920
CREATED:20250724T140124Z
LAST-MODIFIED:20250728T124030Z
UID:10001999-1851444000-1851447600@www.ecsautoecole.fr
SUMMARY:Cours de code à Sablé
DESCRIPTION:
URL:https://www.ecsautoecole.fr/event/cours-de-code-3/2028-09-01/
LOCATION:sablé sur sarthe\, 48 rue du mans\, sablé sur sarthe\, 72300\, France
CATEGORIES:Cours de Code
END:VEVENT
BEGIN:VEVENT
DTSTART;TZID=Europe/Paris:20280901T180000
DTEND;TZID=Europe/Paris:20280901T190000
DTSTAMP:20260422T140920
CREATED:20250731T154800Z
LAST-MODIFIED:20250731T154800Z
UID:10009581-1851444000-1851447600@www.ecsautoecole.fr
SUMMARY:Cours de code AMC Formation
DESCRIPTION:
URL:https://www.ecsautoecole.fr/event/cours-de-code-la-fleche/2028-09-01/
LOCATION:AMC FORMATION la flèche
CATEGORIES:Cours de Code
END:VEVENT
BEGIN:VEVENT
DTSTART;TZID=Europe/Paris:20280902T100000
DTEND;TZID=Europe/Paris:20280902T110000
DTSTAMP:20260422T140920
CREATED:20250731T155102Z
LAST-MODIFIED:20250731T155102Z
UID:10010627-1851501600-1851505200@www.ecsautoecole.fr
SUMMARY:Cours de code AMC Formation
DESCRIPTION:
URL:https://www.ecsautoecole.fr/event/cours-de-code-6/2028-09-02/
LOCATION:AMC FORMATION la flèche
CATEGORIES:Cours de Code
END:VEVENT
BEGIN:VEVENT
DTSTART;TZID=Europe/Paris:20280902T130000
DTEND;TZID=Europe/Paris:20280902T140000
DTSTAMP:20260422T140920
CREATED:20250724T140337Z
LAST-MODIFIED:20250728T124054Z
UID:10004346-1851512400-1851516000@www.ecsautoecole.fr
SUMMARY:Cours de code à Sablé
DESCRIPTION:
URL:https://www.ecsautoecole.fr/event/cours-de-code-4/2028-09-02/
LOCATION:sablé sur sarthe\, 48 rue du mans\, sablé sur sarthe\, 72300\, France
CATEGORIES:Cours de Code
END:VEVENT
BEGIN:VEVENT
DTSTART;TZID=Europe/Paris:20280905T180000
DTEND;TZID=Europe/Paris:20280905T190000
DTSTAMP:20260422T140920
CREATED:20250724T072037Z
LAST-MODIFIED:20250728T124113Z
UID:10000173-1851789600-1851793200@www.ecsautoecole.fr
SUMMARY:Cours de code à Sablé
DESCRIPTION:
URL:https://www.ecsautoecole.fr/event/cours-de-code/2028-09-05/
LOCATION:sablé sur sarthe\, 48 rue du mans\, sablé sur sarthe\, 72300\, France
CATEGORIES:Cours de Code
END:VEVENT
BEGIN:VEVENT
DTSTART;TZID=Europe/Paris:20280906T180000
DTEND;TZID=Europe/Paris:20280906T190000
DTSTAMP:20260422T140920
CREATED:20250724T110200Z
LAST-MODIFIED:20250728T124123Z
UID:10000956-1851876000-1851879600@www.ecsautoecole.fr
SUMMARY:cours de code à Sablé
DESCRIPTION:
URL:https://www.ecsautoecole.fr/event/cours-de-code-2/2028-09-06/
LOCATION:sablé sur sarthe\, 48 rue du mans\, sablé sur sarthe\, 72300\, France
CATEGORIES:Cours de Code
END:VEVENT
BEGIN:VEVENT
DTSTART;TZID=Europe/Paris:20280906T180000
DTEND;TZID=Europe/Paris:20280906T190000
DTSTAMP:20260422T140920
CREATED:20250731T154643Z
LAST-MODIFIED:20250731T154643Z
UID:10009058-1851876000-1851879600@www.ecsautoecole.fr
SUMMARY:Cours de code AMC Formation
DESCRIPTION:
URL:https://www.ecsautoecole.fr/event/cours-de-code-amc-formation/2028-09-06/
LOCATION:AMC FORMATION la flèche
CATEGORIES:Cours de Code
END:VEVENT
BEGIN:VEVENT
DTSTART;TZID=Europe/Paris:20280908T180000
DTEND;TZID=Europe/Paris:20280908T190000
DTSTAMP:20260422T140920
CREATED:20250724T140124Z
LAST-MODIFIED:20250728T124030Z
UID:10002000-1852048800-1852052400@www.ecsautoecole.fr
SUMMARY:Cours de code à Sablé
DESCRIPTION:
URL:https://www.ecsautoecole.fr/event/cours-de-code-3/2028-09-08/
LOCATION:sablé sur sarthe\, 48 rue du mans\, sablé sur sarthe\, 72300\, France
CATEGORIES:Cours de Code
END:VEVENT
BEGIN:VEVENT
DTSTART;TZID=Europe/Paris:20280908T180000
DTEND;TZID=Europe/Paris:20280908T190000
DTSTAMP:20260422T140920
CREATED:20250731T154800Z
LAST-MODIFIED:20250731T154800Z
UID:10009582-1852048800-1852052400@www.ecsautoecole.fr
SUMMARY:Cours de code AMC Formation
DESCRIPTION:
URL:https://www.ecsautoecole.fr/event/cours-de-code-la-fleche/2028-09-08/
LOCATION:AMC FORMATION la flèche
CATEGORIES:Cours de Code
END:VEVENT
BEGIN:VEVENT
DTSTART;TZID=Europe/Paris:20280909T100000
DTEND;TZID=Europe/Paris:20280909T110000
DTSTAMP:20260422T140920
CREATED:20250731T155102Z
LAST-MODIFIED:20250731T155102Z
UID:10010628-1852106400-1852110000@www.ecsautoecole.fr
SUMMARY:Cours de code AMC Formation
DESCRIPTION:
URL:https://www.ecsautoecole.fr/event/cours-de-code-6/2028-09-09/
LOCATION:AMC FORMATION la flèche
CATEGORIES:Cours de Code
END:VEVENT
BEGIN:VEVENT
DTSTART;TZID=Europe/Paris:20280909T130000
DTEND;TZID=Europe/Paris:20280909T140000
DTSTAMP:20260422T140920
CREATED:20250724T140337Z
LAST-MODIFIED:20250728T124054Z
UID:10004347-1852117200-1852120800@www.ecsautoecole.fr
SUMMARY:Cours de code à Sablé
DESCRIPTION:
URL:https://www.ecsautoecole.fr/event/cours-de-code-4/2028-09-09/
LOCATION:sablé sur sarthe\, 48 rue du mans\, sablé sur sarthe\, 72300\, France
CATEGORIES:Cours de Code
END:VEVENT
BEGIN:VEVENT
DTSTART;TZID=Europe/Paris:20280912T180000
DTEND;TZID=Europe/Paris:20280912T190000
DTSTAMP:20260422T140920
CREATED:20250724T072037Z
LAST-MODIFIED:20250728T124113Z
UID:10000174-1852394400-1852398000@www.ecsautoecole.fr
SUMMARY:Cours de code à Sablé
DESCRIPTION:
URL:https://www.ecsautoecole.fr/event/cours-de-code/2028-09-12/
LOCATION:sablé sur sarthe\, 48 rue du mans\, sablé sur sarthe\, 72300\, France
CATEGORIES:Cours de Code
END:VEVENT
BEGIN:VEVENT
DTSTART;TZID=Europe/Paris:20280913T180000
DTEND;TZID=Europe/Paris:20280913T190000
DTSTAMP:20260422T140920
CREATED:20250724T110200Z
LAST-MODIFIED:20250728T124123Z
UID:10000957-1852480800-1852484400@www.ecsautoecole.fr
SUMMARY:cours de code à Sablé
DESCRIPTION:
URL:https://www.ecsautoecole.fr/event/cours-de-code-2/2028-09-13/
LOCATION:sablé sur sarthe\, 48 rue du mans\, sablé sur sarthe\, 72300\, France
CATEGORIES:Cours de Code
END:VEVENT
BEGIN:VEVENT
DTSTART;TZID=Europe/Paris:20280913T180000
DTEND;TZID=Europe/Paris:20280913T190000
DTSTAMP:20260422T140920
CREATED:20250731T154643Z
LAST-MODIFIED:20250731T154643Z
UID:10009059-1852480800-1852484400@www.ecsautoecole.fr
SUMMARY:Cours de code AMC Formation
DESCRIPTION:
URL:https://www.ecsautoecole.fr/event/cours-de-code-amc-formation/2028-09-13/
LOCATION:AMC FORMATION la flèche
CATEGORIES:Cours de Code
END:VEVENT
BEGIN:VEVENT
DTSTART;TZID=Europe/Paris:20280915T180000
DTEND;TZID=Europe/Paris:20280915T190000
DTSTAMP:20260422T140920
CREATED:20250724T140124Z
LAST-MODIFIED:20250728T124030Z
UID:10002001-1852653600-1852657200@www.ecsautoecole.fr
SUMMARY:Cours de code à Sablé
DESCRIPTION:
URL:https://www.ecsautoecole.fr/event/cours-de-code-3/2028-09-15/
LOCATION:sablé sur sarthe\, 48 rue du mans\, sablé sur sarthe\, 72300\, France
CATEGORIES:Cours de Code
END:VEVENT
BEGIN:VEVENT
DTSTART;TZID=Europe/Paris:20280915T180000
DTEND;TZID=Europe/Paris:20280915T190000
DTSTAMP:20260422T140920
CREATED:20250731T154800Z
LAST-MODIFIED:20250731T154800Z
UID:10009583-1852653600-1852657200@www.ecsautoecole.fr
SUMMARY:Cours de code AMC Formation
DESCRIPTION:
URL:https://www.ecsautoecole.fr/event/cours-de-code-la-fleche/2028-09-15/
LOCATION:AMC FORMATION la flèche
CATEGORIES:Cours de Code
END:VEVENT
BEGIN:VEVENT
DTSTART;TZID=Europe/Paris:20280916T100000
DTEND;TZID=Europe/Paris:20280916T110000
DTSTAMP:20260422T140920
CREATED:20250731T155102Z
LAST-MODIFIED:20250731T155102Z
UID:10010629-1852711200-1852714800@www.ecsautoecole.fr
SUMMARY:Cours de code AMC Formation
DESCRIPTION:
URL:https://www.ecsautoecole.fr/event/cours-de-code-6/2028-09-16/
LOCATION:AMC FORMATION la flèche
CATEGORIES:Cours de Code
END:VEVENT
BEGIN:VEVENT
DTSTART;TZID=Europe/Paris:20280916T130000
DTEND;TZID=Europe/Paris:20280916T140000
DTSTAMP:20260422T140920
CREATED:20250724T140337Z
LAST-MODIFIED:20250728T124054Z
UID:10004348-1852722000-1852725600@www.ecsautoecole.fr
SUMMARY:Cours de code à Sablé
DESCRIPTION:
URL:https://www.ecsautoecole.fr/event/cours-de-code-4/2028-09-16/
LOCATION:sablé sur sarthe\, 48 rue du mans\, sablé sur sarthe\, 72300\, France
CATEGORIES:Cours de Code
END:VEVENT
BEGIN:VEVENT
DTSTART;TZID=Europe/Paris:20280919T180000
DTEND;TZID=Europe/Paris:20280919T190000
DTSTAMP:20260422T140920
CREATED:20250724T072037Z
LAST-MODIFIED:20250728T124113Z
UID:10000175-1852999200-1853002800@www.ecsautoecole.fr
SUMMARY:Cours de code à Sablé
DESCRIPTION:
URL:https://www.ecsautoecole.fr/event/cours-de-code/2028-09-19/
LOCATION:sablé sur sarthe\, 48 rue du mans\, sablé sur sarthe\, 72300\, France
CATEGORIES:Cours de Code
END:VEVENT
BEGIN:VEVENT
DTSTART;TZID=Europe/Paris:20280920T180000
DTEND;TZID=Europe/Paris:20280920T190000
DTSTAMP:20260422T140920
CREATED:20250724T110200Z
LAST-MODIFIED:20250728T124123Z
UID:10000958-1853085600-1853089200@www.ecsautoecole.fr
SUMMARY:cours de code à Sablé
DESCRIPTION:
URL:https://www.ecsautoecole.fr/event/cours-de-code-2/2028-09-20/
LOCATION:sablé sur sarthe\, 48 rue du mans\, sablé sur sarthe\, 72300\, France
CATEGORIES:Cours de Code
END:VEVENT
BEGIN:VEVENT
DTSTART;TZID=Europe/Paris:20280920T180000
DTEND;TZID=Europe/Paris:20280920T190000
DTSTAMP:20260422T140920
CREATED:20250731T154643Z
LAST-MODIFIED:20250731T154643Z
UID:10009060-1853085600-1853089200@www.ecsautoecole.fr
SUMMARY:Cours de code AMC Formation
DESCRIPTION:
URL:https://www.ecsautoecole.fr/event/cours-de-code-amc-formation/2028-09-20/
LOCATION:AMC FORMATION la flèche
CATEGORIES:Cours de Code
END:VEVENT
BEGIN:VEVENT
DTSTART;TZID=Europe/Paris:20280922T180000
DTEND;TZID=Europe/Paris:20280922T190000
DTSTAMP:20260422T140920
CREATED:20250724T140124Z
LAST-MODIFIED:20250728T124030Z
UID:10002002-1853258400-1853262000@www.ecsautoecole.fr
SUMMARY:Cours de code à Sablé
DESCRIPTION:
URL:https://www.ecsautoecole.fr/event/cours-de-code-3/2028-09-22/
LOCATION:sablé sur sarthe\, 48 rue du mans\, sablé sur sarthe\, 72300\, France
CATEGORIES:Cours de Code
END:VEVENT
BEGIN:VEVENT
DTSTART;TZID=Europe/Paris:20280922T180000
DTEND;TZID=Europe/Paris:20280922T190000
DTSTAMP:20260422T140920
CREATED:20250731T154800Z
LAST-MODIFIED:20250731T154800Z
UID:10009584-1853258400-1853262000@www.ecsautoecole.fr
SUMMARY:Cours de code AMC Formation
DESCRIPTION:
URL:https://www.ecsautoecole.fr/event/cours-de-code-la-fleche/2028-09-22/
LOCATION:AMC FORMATION la flèche
CATEGORIES:Cours de Code
END:VEVENT
BEGIN:VEVENT
DTSTART;TZID=Europe/Paris:20280923T100000
DTEND;TZID=Europe/Paris:20280923T110000
DTSTAMP:20260422T140920
CREATED:20250731T155102Z
LAST-MODIFIED:20250731T155102Z
UID:10010630-1853316000-1853319600@www.ecsautoecole.fr
SUMMARY:Cours de code AMC Formation
DESCRIPTION:
URL:https://www.ecsautoecole.fr/event/cours-de-code-6/2028-09-23/
LOCATION:AMC FORMATION la flèche
CATEGORIES:Cours de Code
END:VEVENT
BEGIN:VEVENT
DTSTART;TZID=Europe/Paris:20280923T130000
DTEND;TZID=Europe/Paris:20280923T140000
DTSTAMP:20260422T140920
CREATED:20250724T140337Z
LAST-MODIFIED:20250728T124054Z
UID:10004349-1853326800-1853330400@www.ecsautoecole.fr
SUMMARY:Cours de code à Sablé
DESCRIPTION:
URL:https://www.ecsautoecole.fr/event/cours-de-code-4/2028-09-23/
LOCATION:sablé sur sarthe\, 48 rue du mans\, sablé sur sarthe\, 72300\, France
CATEGORIES:Cours de Code
END:VEVENT
BEGIN:VEVENT
DTSTART;TZID=Europe/Paris:20280926T180000
DTEND;TZID=Europe/Paris:20280926T190000
DTSTAMP:20260422T140920
CREATED:20250724T072037Z
LAST-MODIFIED:20250728T124113Z
UID:10000176-1853604000-1853607600@www.ecsautoecole.fr
SUMMARY:Cours de code à Sablé
DESCRIPTION:
URL:https://www.ecsautoecole.fr/event/cours-de-code/2028-09-26/
LOCATION:sablé sur sarthe\, 48 rue du mans\, sablé sur sarthe\, 72300\, France
CATEGORIES:Cours de Code
END:VEVENT
BEGIN:VEVENT
DTSTART;TZID=Europe/Paris:20280927T180000
DTEND;TZID=Europe/Paris:20280927T190000
DTSTAMP:20260422T140920
CREATED:20250724T110200Z
LAST-MODIFIED:20250728T124123Z
UID:10000959-1853690400-1853694000@www.ecsautoecole.fr
SUMMARY:cours de code à Sablé
DESCRIPTION:
URL:https://www.ecsautoecole.fr/event/cours-de-code-2/2028-09-27/
LOCATION:sablé sur sarthe\, 48 rue du mans\, sablé sur sarthe\, 72300\, France
CATEGORIES:Cours de Code
END:VEVENT
BEGIN:VEVENT
DTSTART;TZID=Europe/Paris:20280927T180000
DTEND;TZID=Europe/Paris:20280927T190000
DTSTAMP:20260422T140920
CREATED:20250731T154643Z
LAST-MODIFIED:20250731T154643Z
UID:10009061-1853690400-1853694000@www.ecsautoecole.fr
SUMMARY:Cours de code AMC Formation
DESCRIPTION:
URL:https://www.ecsautoecole.fr/event/cours-de-code-amc-formation/2028-09-27/
LOCATION:AMC FORMATION la flèche
CATEGORIES:Cours de Code
END:VEVENT
BEGIN:VEVENT
DTSTART;TZID=Europe/Paris:20280929T180000
DTEND;TZID=Europe/Paris:20280929T190000
DTSTAMP:20260422T140920
CREATED:20250724T140124Z
LAST-MODIFIED:20250728T124030Z
UID:10002003-1853863200-1853866800@www.ecsautoecole.fr
SUMMARY:Cours de code à Sablé
DESCRIPTION:
URL:https://www.ecsautoecole.fr/event/cours-de-code-3/2028-09-29/
LOCATION:sablé sur sarthe\, 48 rue du mans\, sablé sur sarthe\, 72300\, France
CATEGORIES:Cours de Code
END:VEVENT
BEGIN:VEVENT
DTSTART;TZID=Europe/Paris:20280929T180000
DTEND;TZID=Europe/Paris:20280929T190000
DTSTAMP:20260422T140920
CREATED:20250731T154800Z
LAST-MODIFIED:20250731T154800Z
UID:10009585-1853863200-1853866800@www.ecsautoecole.fr
SUMMARY:Cours de code AMC Formation
DESCRIPTION:
URL:https://www.ecsautoecole.fr/event/cours-de-code-la-fleche/2028-09-29/
LOCATION:AMC FORMATION la flèche
CATEGORIES:Cours de Code
END:VEVENT
END:VCALENDAR