BEGIN:VCALENDAR
VERSION:2.0
PRODID:-//ECS Formation Sabolienne - ECPv6.10.1.1//NONSGML v1.0//EN
CALSCALE:GREGORIAN
METHOD:PUBLISH
X-WR-CALNAME:ECS Formation Sabolienne
X-ORIGINAL-URL:https://www.ecsautoecole.fr
X-WR-CALDESC:Évènements pour ECS Formation Sabolienne
REFRESH-INTERVAL;VALUE=DURATION:PT1H
X-Robots-Tag:noindex
X-PUBLISHED-TTL:PT1H
BEGIN:VTIMEZONE
TZID:Europe/Paris
BEGIN:DAYLIGHT
TZOFFSETFROM:+0100
TZOFFSETTO:+0200
TZNAME:CEST
DTSTART:20290325T010000
END:DAYLIGHT
BEGIN:STANDARD
TZOFFSETFROM:+0200
TZOFFSETTO:+0100
TZNAME:CET
DTSTART:20291028T010000
END:STANDARD
END:VTIMEZONE
BEGIN:VEVENT
DTSTART;TZID=Europe/Paris:20290601T180000
DTEND;TZID=Europe/Paris:20290601T190000
DTSTAMP:20260423T040231
CREATED:20250724T140124Z
LAST-MODIFIED:20250728T124030Z
UID:10002038-1875031200-1875034800@www.ecsautoecole.fr
SUMMARY:Cours de code à Sablé
DESCRIPTION:
URL:https://www.ecsautoecole.fr/event/cours-de-code-3/2029-06-01/
LOCATION:sablé sur sarthe\, 48 rue du mans\, sablé sur sarthe\, 72300\, France
CATEGORIES:Cours de Code
END:VEVENT
BEGIN:VEVENT
DTSTART;TZID=Europe/Paris:20290601T180000
DTEND;TZID=Europe/Paris:20290601T190000
DTSTAMP:20260423T040231
CREATED:20250731T154800Z
LAST-MODIFIED:20250731T154800Z
UID:10009620-1875031200-1875034800@www.ecsautoecole.fr
SUMMARY:Cours de code AMC Formation
DESCRIPTION:
URL:https://www.ecsautoecole.fr/event/cours-de-code-la-fleche/2029-06-01/
LOCATION:AMC FORMATION la flèche
CATEGORIES:Cours de Code
END:VEVENT
BEGIN:VEVENT
DTSTART;TZID=Europe/Paris:20290602T100000
DTEND;TZID=Europe/Paris:20290602T110000
DTSTAMP:20260423T040231
CREATED:20250731T155102Z
LAST-MODIFIED:20250731T155102Z
UID:10010666-1875088800-1875092400@www.ecsautoecole.fr
SUMMARY:Cours de code AMC Formation
DESCRIPTION:
URL:https://www.ecsautoecole.fr/event/cours-de-code-6/2029-06-02/
LOCATION:AMC FORMATION la flèche
CATEGORIES:Cours de Code
END:VEVENT
BEGIN:VEVENT
DTSTART;TZID=Europe/Paris:20290602T130000
DTEND;TZID=Europe/Paris:20290602T140000
DTSTAMP:20260423T040231
CREATED:20250724T140337Z
LAST-MODIFIED:20250728T124054Z
UID:10004385-1875099600-1875103200@www.ecsautoecole.fr
SUMMARY:Cours de code à Sablé
DESCRIPTION:
URL:https://www.ecsautoecole.fr/event/cours-de-code-4/2029-06-02/
LOCATION:sablé sur sarthe\, 48 rue du mans\, sablé sur sarthe\, 72300\, France
CATEGORIES:Cours de Code
END:VEVENT
BEGIN:VEVENT
DTSTART;TZID=Europe/Paris:20290605T180000
DTEND;TZID=Europe/Paris:20290605T190000
DTSTAMP:20260423T040231
CREATED:20250724T072037Z
LAST-MODIFIED:20250728T124113Z
UID:10000212-1875376800-1875380400@www.ecsautoecole.fr
SUMMARY:Cours de code à Sablé
DESCRIPTION:
URL:https://www.ecsautoecole.fr/event/cours-de-code/2029-06-05/
LOCATION:sablé sur sarthe\, 48 rue du mans\, sablé sur sarthe\, 72300\, France
CATEGORIES:Cours de Code
END:VEVENT
BEGIN:VEVENT
DTSTART;TZID=Europe/Paris:20290606T180000
DTEND;TZID=Europe/Paris:20290606T190000
DTSTAMP:20260423T040231
CREATED:20250724T110200Z
LAST-MODIFIED:20250728T124123Z
UID:10000995-1875463200-1875466800@www.ecsautoecole.fr
SUMMARY:cours de code à Sablé
DESCRIPTION:
URL:https://www.ecsautoecole.fr/event/cours-de-code-2/2029-06-06/
LOCATION:sablé sur sarthe\, 48 rue du mans\, sablé sur sarthe\, 72300\, France
CATEGORIES:Cours de Code
END:VEVENT
BEGIN:VEVENT
DTSTART;TZID=Europe/Paris:20290606T180000
DTEND;TZID=Europe/Paris:20290606T190000
DTSTAMP:20260423T040231
CREATED:20250731T154643Z
LAST-MODIFIED:20250731T154643Z
UID:10009097-1875463200-1875466800@www.ecsautoecole.fr
SUMMARY:Cours de code AMC Formation
DESCRIPTION:
URL:https://www.ecsautoecole.fr/event/cours-de-code-amc-formation/2029-06-06/
LOCATION:AMC FORMATION la flèche
CATEGORIES:Cours de Code
END:VEVENT
BEGIN:VEVENT
DTSTART;TZID=Europe/Paris:20290608T180000
DTEND;TZID=Europe/Paris:20290608T190000
DTSTAMP:20260423T040231
CREATED:20250724T140124Z
LAST-MODIFIED:20250728T124030Z
UID:10002039-1875636000-1875639600@www.ecsautoecole.fr
SUMMARY:Cours de code à Sablé
DESCRIPTION:
URL:https://www.ecsautoecole.fr/event/cours-de-code-3/2029-06-08/
LOCATION:sablé sur sarthe\, 48 rue du mans\, sablé sur sarthe\, 72300\, France
CATEGORIES:Cours de Code
END:VEVENT
BEGIN:VEVENT
DTSTART;TZID=Europe/Paris:20290608T180000
DTEND;TZID=Europe/Paris:20290608T190000
DTSTAMP:20260423T040231
CREATED:20250731T154800Z
LAST-MODIFIED:20250731T154800Z
UID:10009621-1875636000-1875639600@www.ecsautoecole.fr
SUMMARY:Cours de code AMC Formation
DESCRIPTION:
URL:https://www.ecsautoecole.fr/event/cours-de-code-la-fleche/2029-06-08/
LOCATION:AMC FORMATION la flèche
CATEGORIES:Cours de Code
END:VEVENT
BEGIN:VEVENT
DTSTART;TZID=Europe/Paris:20290609T100000
DTEND;TZID=Europe/Paris:20290609T110000
DTSTAMP:20260423T040231
CREATED:20250731T155102Z
LAST-MODIFIED:20250731T155102Z
UID:10010667-1875693600-1875697200@www.ecsautoecole.fr
SUMMARY:Cours de code AMC Formation
DESCRIPTION:
URL:https://www.ecsautoecole.fr/event/cours-de-code-6/2029-06-09/
LOCATION:AMC FORMATION la flèche
CATEGORIES:Cours de Code
END:VEVENT
BEGIN:VEVENT
DTSTART;TZID=Europe/Paris:20290609T130000
DTEND;TZID=Europe/Paris:20290609T140000
DTSTAMP:20260423T040231
CREATED:20250724T140337Z
LAST-MODIFIED:20250728T124054Z
UID:10004386-1875704400-1875708000@www.ecsautoecole.fr
SUMMARY:Cours de code à Sablé
DESCRIPTION:
URL:https://www.ecsautoecole.fr/event/cours-de-code-4/2029-06-09/
LOCATION:sablé sur sarthe\, 48 rue du mans\, sablé sur sarthe\, 72300\, France
CATEGORIES:Cours de Code
END:VEVENT
BEGIN:VEVENT
DTSTART;TZID=Europe/Paris:20290612T180000
DTEND;TZID=Europe/Paris:20290612T190000
DTSTAMP:20260423T040231
CREATED:20250724T072037Z
LAST-MODIFIED:20250728T124113Z
UID:10000213-1875981600-1875985200@www.ecsautoecole.fr
SUMMARY:Cours de code à Sablé
DESCRIPTION:
URL:https://www.ecsautoecole.fr/event/cours-de-code/2029-06-12/
LOCATION:sablé sur sarthe\, 48 rue du mans\, sablé sur sarthe\, 72300\, France
CATEGORIES:Cours de Code
END:VEVENT
BEGIN:VEVENT
DTSTART;TZID=Europe/Paris:20290613T180000
DTEND;TZID=Europe/Paris:20290613T190000
DTSTAMP:20260423T040231
CREATED:20250724T110200Z
LAST-MODIFIED:20250728T124123Z
UID:10000996-1876068000-1876071600@www.ecsautoecole.fr
SUMMARY:cours de code à Sablé
DESCRIPTION:
URL:https://www.ecsautoecole.fr/event/cours-de-code-2/2029-06-13/
LOCATION:sablé sur sarthe\, 48 rue du mans\, sablé sur sarthe\, 72300\, France
CATEGORIES:Cours de Code
END:VEVENT
BEGIN:VEVENT
DTSTART;TZID=Europe/Paris:20290613T180000
DTEND;TZID=Europe/Paris:20290613T190000
DTSTAMP:20260423T040231
CREATED:20250731T154643Z
LAST-MODIFIED:20250731T154643Z
UID:10009098-1876068000-1876071600@www.ecsautoecole.fr
SUMMARY:Cours de code AMC Formation
DESCRIPTION:
URL:https://www.ecsautoecole.fr/event/cours-de-code-amc-formation/2029-06-13/
LOCATION:AMC FORMATION la flèche
CATEGORIES:Cours de Code
END:VEVENT
BEGIN:VEVENT
DTSTART;TZID=Europe/Paris:20290615T180000
DTEND;TZID=Europe/Paris:20290615T190000
DTSTAMP:20260423T040231
CREATED:20250724T140124Z
LAST-MODIFIED:20250728T124030Z
UID:10002040-1876240800-1876244400@www.ecsautoecole.fr
SUMMARY:Cours de code à Sablé
DESCRIPTION:
URL:https://www.ecsautoecole.fr/event/cours-de-code-3/2029-06-15/
LOCATION:sablé sur sarthe\, 48 rue du mans\, sablé sur sarthe\, 72300\, France
CATEGORIES:Cours de Code
END:VEVENT
BEGIN:VEVENT
DTSTART;TZID=Europe/Paris:20290615T180000
DTEND;TZID=Europe/Paris:20290615T190000
DTSTAMP:20260423T040231
CREATED:20250731T154800Z
LAST-MODIFIED:20250731T154800Z
UID:10009622-1876240800-1876244400@www.ecsautoecole.fr
SUMMARY:Cours de code AMC Formation
DESCRIPTION:
URL:https://www.ecsautoecole.fr/event/cours-de-code-la-fleche/2029-06-15/
LOCATION:AMC FORMATION la flèche
CATEGORIES:Cours de Code
END:VEVENT
BEGIN:VEVENT
DTSTART;TZID=Europe/Paris:20290616T100000
DTEND;TZID=Europe/Paris:20290616T110000
DTSTAMP:20260423T040231
CREATED:20250731T155102Z
LAST-MODIFIED:20250731T155102Z
UID:10010668-1876298400-1876302000@www.ecsautoecole.fr
SUMMARY:Cours de code AMC Formation
DESCRIPTION:
URL:https://www.ecsautoecole.fr/event/cours-de-code-6/2029-06-16/
LOCATION:AMC FORMATION la flèche
CATEGORIES:Cours de Code
END:VEVENT
BEGIN:VEVENT
DTSTART;TZID=Europe/Paris:20290616T130000
DTEND;TZID=Europe/Paris:20290616T140000
DTSTAMP:20260423T040231
CREATED:20250724T140337Z
LAST-MODIFIED:20250728T124054Z
UID:10004387-1876309200-1876312800@www.ecsautoecole.fr
SUMMARY:Cours de code à Sablé
DESCRIPTION:
URL:https://www.ecsautoecole.fr/event/cours-de-code-4/2029-06-16/
LOCATION:sablé sur sarthe\, 48 rue du mans\, sablé sur sarthe\, 72300\, France
CATEGORIES:Cours de Code
END:VEVENT
BEGIN:VEVENT
DTSTART;TZID=Europe/Paris:20290619T180000
DTEND;TZID=Europe/Paris:20290619T190000
DTSTAMP:20260423T040231
CREATED:20250724T072037Z
LAST-MODIFIED:20250728T124113Z
UID:10000214-1876586400-1876590000@www.ecsautoecole.fr
SUMMARY:Cours de code à Sablé
DESCRIPTION:
URL:https://www.ecsautoecole.fr/event/cours-de-code/2029-06-19/
LOCATION:sablé sur sarthe\, 48 rue du mans\, sablé sur sarthe\, 72300\, France
CATEGORIES:Cours de Code
END:VEVENT
BEGIN:VEVENT
DTSTART;TZID=Europe/Paris:20290620T180000
DTEND;TZID=Europe/Paris:20290620T190000
DTSTAMP:20260423T040231
CREATED:20250724T110200Z
LAST-MODIFIED:20250728T124123Z
UID:10000997-1876672800-1876676400@www.ecsautoecole.fr
SUMMARY:cours de code à Sablé
DESCRIPTION:
URL:https://www.ecsautoecole.fr/event/cours-de-code-2/2029-06-20/
LOCATION:sablé sur sarthe\, 48 rue du mans\, sablé sur sarthe\, 72300\, France
CATEGORIES:Cours de Code
END:VEVENT
BEGIN:VEVENT
DTSTART;TZID=Europe/Paris:20290620T180000
DTEND;TZID=Europe/Paris:20290620T190000
DTSTAMP:20260423T040231
CREATED:20250731T154643Z
LAST-MODIFIED:20250731T154643Z
UID:10009099-1876672800-1876676400@www.ecsautoecole.fr
SUMMARY:Cours de code AMC Formation
DESCRIPTION:
URL:https://www.ecsautoecole.fr/event/cours-de-code-amc-formation/2029-06-20/
LOCATION:AMC FORMATION la flèche
CATEGORIES:Cours de Code
END:VEVENT
BEGIN:VEVENT
DTSTART;TZID=Europe/Paris:20290622T180000
DTEND;TZID=Europe/Paris:20290622T190000
DTSTAMP:20260423T040231
CREATED:20250724T140124Z
LAST-MODIFIED:20250728T124030Z
UID:10002041-1876845600-1876849200@www.ecsautoecole.fr
SUMMARY:Cours de code à Sablé
DESCRIPTION:
URL:https://www.ecsautoecole.fr/event/cours-de-code-3/2029-06-22/
LOCATION:sablé sur sarthe\, 48 rue du mans\, sablé sur sarthe\, 72300\, France
CATEGORIES:Cours de Code
END:VEVENT
BEGIN:VEVENT
DTSTART;TZID=Europe/Paris:20290622T180000
DTEND;TZID=Europe/Paris:20290622T190000
DTSTAMP:20260423T040231
CREATED:20250731T154800Z
LAST-MODIFIED:20250731T154800Z
UID:10009623-1876845600-1876849200@www.ecsautoecole.fr
SUMMARY:Cours de code AMC Formation
DESCRIPTION:
URL:https://www.ecsautoecole.fr/event/cours-de-code-la-fleche/2029-06-22/
LOCATION:AMC FORMATION la flèche
CATEGORIES:Cours de Code
END:VEVENT
BEGIN:VEVENT
DTSTART;TZID=Europe/Paris:20290623T100000
DTEND;TZID=Europe/Paris:20290623T110000
DTSTAMP:20260423T040231
CREATED:20250731T155102Z
LAST-MODIFIED:20250731T155102Z
UID:10010669-1876903200-1876906800@www.ecsautoecole.fr
SUMMARY:Cours de code AMC Formation
DESCRIPTION:
URL:https://www.ecsautoecole.fr/event/cours-de-code-6/2029-06-23/
LOCATION:AMC FORMATION la flèche
CATEGORIES:Cours de Code
END:VEVENT
BEGIN:VEVENT
DTSTART;TZID=Europe/Paris:20290623T130000
DTEND;TZID=Europe/Paris:20290623T140000
DTSTAMP:20260423T040231
CREATED:20250724T140337Z
LAST-MODIFIED:20250728T124054Z
UID:10004388-1876914000-1876917600@www.ecsautoecole.fr
SUMMARY:Cours de code à Sablé
DESCRIPTION:
URL:https://www.ecsautoecole.fr/event/cours-de-code-4/2029-06-23/
LOCATION:sablé sur sarthe\, 48 rue du mans\, sablé sur sarthe\, 72300\, France
CATEGORIES:Cours de Code
END:VEVENT
BEGIN:VEVENT
DTSTART;TZID=Europe/Paris:20290626T180000
DTEND;TZID=Europe/Paris:20290626T190000
DTSTAMP:20260423T040231
CREATED:20250724T072037Z
LAST-MODIFIED:20250728T124113Z
UID:10000215-1877191200-1877194800@www.ecsautoecole.fr
SUMMARY:Cours de code à Sablé
DESCRIPTION:
URL:https://www.ecsautoecole.fr/event/cours-de-code/2029-06-26/
LOCATION:sablé sur sarthe\, 48 rue du mans\, sablé sur sarthe\, 72300\, France
CATEGORIES:Cours de Code
END:VEVENT
BEGIN:VEVENT
DTSTART;TZID=Europe/Paris:20290627T180000
DTEND;TZID=Europe/Paris:20290627T190000
DTSTAMP:20260423T040231
CREATED:20250724T110200Z
LAST-MODIFIED:20250728T124123Z
UID:10000998-1877277600-1877281200@www.ecsautoecole.fr
SUMMARY:cours de code à Sablé
DESCRIPTION:
URL:https://www.ecsautoecole.fr/event/cours-de-code-2/2029-06-27/
LOCATION:sablé sur sarthe\, 48 rue du mans\, sablé sur sarthe\, 72300\, France
CATEGORIES:Cours de Code
END:VEVENT
BEGIN:VEVENT
DTSTART;TZID=Europe/Paris:20290627T180000
DTEND;TZID=Europe/Paris:20290627T190000
DTSTAMP:20260423T040231
CREATED:20250731T154643Z
LAST-MODIFIED:20250731T154643Z
UID:10009100-1877277600-1877281200@www.ecsautoecole.fr
SUMMARY:Cours de code AMC Formation
DESCRIPTION:
URL:https://www.ecsautoecole.fr/event/cours-de-code-amc-formation/2029-06-27/
LOCATION:AMC FORMATION la flèche
CATEGORIES:Cours de Code
END:VEVENT
BEGIN:VEVENT
DTSTART;TZID=Europe/Paris:20290629T180000
DTEND;TZID=Europe/Paris:20290629T190000
DTSTAMP:20260423T040231
CREATED:20250724T140124Z
LAST-MODIFIED:20250728T124030Z
UID:10002042-1877450400-1877454000@www.ecsautoecole.fr
SUMMARY:Cours de code à Sablé
DESCRIPTION:
URL:https://www.ecsautoecole.fr/event/cours-de-code-3/2029-06-29/
LOCATION:sablé sur sarthe\, 48 rue du mans\, sablé sur sarthe\, 72300\, France
CATEGORIES:Cours de Code
END:VEVENT
BEGIN:VEVENT
DTSTART;TZID=Europe/Paris:20290629T180000
DTEND;TZID=Europe/Paris:20290629T190000
DTSTAMP:20260423T040231
CREATED:20250731T154800Z
LAST-MODIFIED:20250731T154800Z
UID:10009624-1877450400-1877454000@www.ecsautoecole.fr
SUMMARY:Cours de code AMC Formation
DESCRIPTION:
URL:https://www.ecsautoecole.fr/event/cours-de-code-la-fleche/2029-06-29/
LOCATION:AMC FORMATION la flèche
CATEGORIES:Cours de Code
END:VEVENT
END:VCALENDAR