BEGIN:VCALENDAR
VERSION:2.0
PRODID:-//ECS Formation Sabolienne - ECPv6.10.1.1//NONSGML v1.0//EN
CALSCALE:GREGORIAN
METHOD:PUBLISH
X-ORIGINAL-URL:https://www.ecsautoecole.fr
X-WR-CALDESC:Évènements pour ECS Formation Sabolienne
REFRESH-INTERVAL;VALUE=DURATION:PT1H
X-Robots-Tag:noindex
X-PUBLISHED-TTL:PT1H
BEGIN:VTIMEZONE
TZID:Europe/Paris
BEGIN:DAYLIGHT
TZOFFSETFROM:+0100
TZOFFSETTO:+0200
TZNAME:CEST
DTSTART:20290325T010000
END:DAYLIGHT
BEGIN:STANDARD
TZOFFSETFROM:+0200
TZOFFSETTO:+0100
TZNAME:CET
DTSTART:20291028T010000
END:STANDARD
END:VTIMEZONE
BEGIN:VEVENT
DTSTART;TZID=Europe/Paris:20291002T180000
DTEND;TZID=Europe/Paris:20291002T190000
DTSTAMP:20260423T120757
CREATED:20250724T072037Z
LAST-MODIFIED:20250728T124113Z
UID:10000229-1885658400-1885662000@www.ecsautoecole.fr
SUMMARY:Cours de code à Sablé
DESCRIPTION:
URL:https://www.ecsautoecole.fr/event/cours-de-code/2029-10-02/
LOCATION:sablé sur sarthe\, 48 rue du mans\, sablé sur sarthe\, 72300\, France
CATEGORIES:Cours de Code
END:VEVENT
BEGIN:VEVENT
DTSTART;TZID=Europe/Paris:20291003T180000
DTEND;TZID=Europe/Paris:20291003T190000
DTSTAMP:20260423T120757
CREATED:20250724T110200Z
LAST-MODIFIED:20250728T124123Z
UID:10001012-1885744800-1885748400@www.ecsautoecole.fr
SUMMARY:cours de code à Sablé
DESCRIPTION:
URL:https://www.ecsautoecole.fr/event/cours-de-code-2/2029-10-03/
LOCATION:sablé sur sarthe\, 48 rue du mans\, sablé sur sarthe\, 72300\, France
CATEGORIES:Cours de Code
END:VEVENT
BEGIN:VEVENT
DTSTART;TZID=Europe/Paris:20291003T180000
DTEND;TZID=Europe/Paris:20291003T190000
DTSTAMP:20260423T120757
CREATED:20250731T154643Z
LAST-MODIFIED:20250731T154643Z
UID:10009114-1885744800-1885748400@www.ecsautoecole.fr
SUMMARY:Cours de code AMC Formation
DESCRIPTION:
URL:https://www.ecsautoecole.fr/event/cours-de-code-amc-formation/2029-10-03/
LOCATION:AMC FORMATION la flèche
CATEGORIES:Cours de Code
END:VEVENT
BEGIN:VEVENT
DTSTART;TZID=Europe/Paris:20291005T180000
DTEND;TZID=Europe/Paris:20291005T190000
DTSTAMP:20260423T120757
CREATED:20250724T140124Z
LAST-MODIFIED:20250728T124030Z
UID:10002056-1885917600-1885921200@www.ecsautoecole.fr
SUMMARY:Cours de code à Sablé
DESCRIPTION:
URL:https://www.ecsautoecole.fr/event/cours-de-code-3/2029-10-05/
LOCATION:sablé sur sarthe\, 48 rue du mans\, sablé sur sarthe\, 72300\, France
CATEGORIES:Cours de Code
END:VEVENT
BEGIN:VEVENT
DTSTART;TZID=Europe/Paris:20291005T180000
DTEND;TZID=Europe/Paris:20291005T190000
DTSTAMP:20260423T120757
CREATED:20250731T154800Z
LAST-MODIFIED:20250731T154800Z
UID:10009638-1885917600-1885921200@www.ecsautoecole.fr
SUMMARY:Cours de code AMC Formation
DESCRIPTION:
URL:https://www.ecsautoecole.fr/event/cours-de-code-la-fleche/2029-10-05/
LOCATION:AMC FORMATION la flèche
CATEGORIES:Cours de Code
END:VEVENT
BEGIN:VEVENT
DTSTART;TZID=Europe/Paris:20291006T100000
DTEND;TZID=Europe/Paris:20291006T110000
DTSTAMP:20260423T120757
CREATED:20250731T155102Z
LAST-MODIFIED:20250731T155102Z
UID:10010684-1885975200-1885978800@www.ecsautoecole.fr
SUMMARY:Cours de code AMC Formation
DESCRIPTION:
URL:https://www.ecsautoecole.fr/event/cours-de-code-6/2029-10-06/
LOCATION:AMC FORMATION la flèche
CATEGORIES:Cours de Code
END:VEVENT
BEGIN:VEVENT
DTSTART;TZID=Europe/Paris:20291006T130000
DTEND;TZID=Europe/Paris:20291006T140000
DTSTAMP:20260423T120757
CREATED:20250724T140337Z
LAST-MODIFIED:20250728T124054Z
UID:10004403-1885986000-1885989600@www.ecsautoecole.fr
SUMMARY:Cours de code à Sablé
DESCRIPTION:
URL:https://www.ecsautoecole.fr/event/cours-de-code-4/2029-10-06/
LOCATION:sablé sur sarthe\, 48 rue du mans\, sablé sur sarthe\, 72300\, France
CATEGORIES:Cours de Code
END:VEVENT
BEGIN:VEVENT
DTSTART;TZID=Europe/Paris:20291009T180000
DTEND;TZID=Europe/Paris:20291009T190000
DTSTAMP:20260423T120757
CREATED:20250724T072037Z
LAST-MODIFIED:20250728T124113Z
UID:10000230-1886263200-1886266800@www.ecsautoecole.fr
SUMMARY:Cours de code à Sablé
DESCRIPTION:
URL:https://www.ecsautoecole.fr/event/cours-de-code/2029-10-09/
LOCATION:sablé sur sarthe\, 48 rue du mans\, sablé sur sarthe\, 72300\, France
CATEGORIES:Cours de Code
END:VEVENT
BEGIN:VEVENT
DTSTART;TZID=Europe/Paris:20291010T180000
DTEND;TZID=Europe/Paris:20291010T190000
DTSTAMP:20260423T120757
CREATED:20250724T110200Z
LAST-MODIFIED:20250728T124123Z
UID:10001013-1886349600-1886353200@www.ecsautoecole.fr
SUMMARY:cours de code à Sablé
DESCRIPTION:
URL:https://www.ecsautoecole.fr/event/cours-de-code-2/2029-10-10/
LOCATION:sablé sur sarthe\, 48 rue du mans\, sablé sur sarthe\, 72300\, France
CATEGORIES:Cours de Code
END:VEVENT
BEGIN:VEVENT
DTSTART;TZID=Europe/Paris:20291010T180000
DTEND;TZID=Europe/Paris:20291010T190000
DTSTAMP:20260423T120757
CREATED:20250731T154643Z
LAST-MODIFIED:20250731T154643Z
UID:10009115-1886349600-1886353200@www.ecsautoecole.fr
SUMMARY:Cours de code AMC Formation
DESCRIPTION:
URL:https://www.ecsautoecole.fr/event/cours-de-code-amc-formation/2029-10-10/
LOCATION:AMC FORMATION la flèche
CATEGORIES:Cours de Code
END:VEVENT
BEGIN:VEVENT
DTSTART;TZID=Europe/Paris:20291012T180000
DTEND;TZID=Europe/Paris:20291012T190000
DTSTAMP:20260423T120757
CREATED:20250724T140124Z
LAST-MODIFIED:20250728T124030Z
UID:10002057-1886522400-1886526000@www.ecsautoecole.fr
SUMMARY:Cours de code à Sablé
DESCRIPTION:
URL:https://www.ecsautoecole.fr/event/cours-de-code-3/2029-10-12/
LOCATION:sablé sur sarthe\, 48 rue du mans\, sablé sur sarthe\, 72300\, France
CATEGORIES:Cours de Code
END:VEVENT
BEGIN:VEVENT
DTSTART;TZID=Europe/Paris:20291012T180000
DTEND;TZID=Europe/Paris:20291012T190000
DTSTAMP:20260423T120757
CREATED:20250731T154800Z
LAST-MODIFIED:20250731T154800Z
UID:10009639-1886522400-1886526000@www.ecsautoecole.fr
SUMMARY:Cours de code AMC Formation
DESCRIPTION:
URL:https://www.ecsautoecole.fr/event/cours-de-code-la-fleche/2029-10-12/
LOCATION:AMC FORMATION la flèche
CATEGORIES:Cours de Code
END:VEVENT
BEGIN:VEVENT
DTSTART;TZID=Europe/Paris:20291013T100000
DTEND;TZID=Europe/Paris:20291013T110000
DTSTAMP:20260423T120757
CREATED:20250731T155102Z
LAST-MODIFIED:20250731T155102Z
UID:10010685-1886580000-1886583600@www.ecsautoecole.fr
SUMMARY:Cours de code AMC Formation
DESCRIPTION:
URL:https://www.ecsautoecole.fr/event/cours-de-code-6/2029-10-13/
LOCATION:AMC FORMATION la flèche
CATEGORIES:Cours de Code
END:VEVENT
BEGIN:VEVENT
DTSTART;TZID=Europe/Paris:20291013T130000
DTEND;TZID=Europe/Paris:20291013T140000
DTSTAMP:20260423T120757
CREATED:20250724T140337Z
LAST-MODIFIED:20250728T124054Z
UID:10004404-1886590800-1886594400@www.ecsautoecole.fr
SUMMARY:Cours de code à Sablé
DESCRIPTION:
URL:https://www.ecsautoecole.fr/event/cours-de-code-4/2029-10-13/
LOCATION:sablé sur sarthe\, 48 rue du mans\, sablé sur sarthe\, 72300\, France
CATEGORIES:Cours de Code
END:VEVENT
BEGIN:VEVENT
DTSTART;TZID=Europe/Paris:20291016T180000
DTEND;TZID=Europe/Paris:20291016T190000
DTSTAMP:20260423T120757
CREATED:20250724T072037Z
LAST-MODIFIED:20250728T124113Z
UID:10000231-1886868000-1886871600@www.ecsautoecole.fr
SUMMARY:Cours de code à Sablé
DESCRIPTION:
URL:https://www.ecsautoecole.fr/event/cours-de-code/2029-10-16/
LOCATION:sablé sur sarthe\, 48 rue du mans\, sablé sur sarthe\, 72300\, France
CATEGORIES:Cours de Code
END:VEVENT
BEGIN:VEVENT
DTSTART;TZID=Europe/Paris:20291017T180000
DTEND;TZID=Europe/Paris:20291017T190000
DTSTAMP:20260423T120757
CREATED:20250724T110200Z
LAST-MODIFIED:20250728T124123Z
UID:10001014-1886954400-1886958000@www.ecsautoecole.fr
SUMMARY:cours de code à Sablé
DESCRIPTION:
URL:https://www.ecsautoecole.fr/event/cours-de-code-2/2029-10-17/
LOCATION:sablé sur sarthe\, 48 rue du mans\, sablé sur sarthe\, 72300\, France
CATEGORIES:Cours de Code
END:VEVENT
BEGIN:VEVENT
DTSTART;TZID=Europe/Paris:20291017T180000
DTEND;TZID=Europe/Paris:20291017T190000
DTSTAMP:20260423T120757
CREATED:20250731T154643Z
LAST-MODIFIED:20250731T154643Z
UID:10009116-1886954400-1886958000@www.ecsautoecole.fr
SUMMARY:Cours de code AMC Formation
DESCRIPTION:
URL:https://www.ecsautoecole.fr/event/cours-de-code-amc-formation/2029-10-17/
LOCATION:AMC FORMATION la flèche
CATEGORIES:Cours de Code
END:VEVENT
BEGIN:VEVENT
DTSTART;TZID=Europe/Paris:20291019T180000
DTEND;TZID=Europe/Paris:20291019T190000
DTSTAMP:20260423T120757
CREATED:20250724T140124Z
LAST-MODIFIED:20250728T124030Z
UID:10002058-1887127200-1887130800@www.ecsautoecole.fr
SUMMARY:Cours de code à Sablé
DESCRIPTION:
URL:https://www.ecsautoecole.fr/event/cours-de-code-3/2029-10-19/
LOCATION:sablé sur sarthe\, 48 rue du mans\, sablé sur sarthe\, 72300\, France
CATEGORIES:Cours de Code
END:VEVENT
BEGIN:VEVENT
DTSTART;TZID=Europe/Paris:20291019T180000
DTEND;TZID=Europe/Paris:20291019T190000
DTSTAMP:20260423T120757
CREATED:20250731T154800Z
LAST-MODIFIED:20250731T154800Z
UID:10009640-1887127200-1887130800@www.ecsautoecole.fr
SUMMARY:Cours de code AMC Formation
DESCRIPTION:
URL:https://www.ecsautoecole.fr/event/cours-de-code-la-fleche/2029-10-19/
LOCATION:AMC FORMATION la flèche
CATEGORIES:Cours de Code
END:VEVENT
BEGIN:VEVENT
DTSTART;TZID=Europe/Paris:20291020T100000
DTEND;TZID=Europe/Paris:20291020T110000
DTSTAMP:20260423T120757
CREATED:20250731T155102Z
LAST-MODIFIED:20250731T155102Z
UID:10010686-1887184800-1887188400@www.ecsautoecole.fr
SUMMARY:Cours de code AMC Formation
DESCRIPTION:
URL:https://www.ecsautoecole.fr/event/cours-de-code-6/2029-10-20/
LOCATION:AMC FORMATION la flèche
CATEGORIES:Cours de Code
END:VEVENT
BEGIN:VEVENT
DTSTART;TZID=Europe/Paris:20291020T130000
DTEND;TZID=Europe/Paris:20291020T140000
DTSTAMP:20260423T120757
CREATED:20250724T140337Z
LAST-MODIFIED:20250728T124054Z
UID:10004405-1887195600-1887199200@www.ecsautoecole.fr
SUMMARY:Cours de code à Sablé
DESCRIPTION:
URL:https://www.ecsautoecole.fr/event/cours-de-code-4/2029-10-20/
LOCATION:sablé sur sarthe\, 48 rue du mans\, sablé sur sarthe\, 72300\, France
CATEGORIES:Cours de Code
END:VEVENT
BEGIN:VEVENT
DTSTART;TZID=Europe/Paris:20291023T180000
DTEND;TZID=Europe/Paris:20291023T190000
DTSTAMP:20260423T120757
CREATED:20250724T072037Z
LAST-MODIFIED:20250728T124113Z
UID:10000232-1887472800-1887476400@www.ecsautoecole.fr
SUMMARY:Cours de code à Sablé
DESCRIPTION:
URL:https://www.ecsautoecole.fr/event/cours-de-code/2029-10-23/
LOCATION:sablé sur sarthe\, 48 rue du mans\, sablé sur sarthe\, 72300\, France
CATEGORIES:Cours de Code
END:VEVENT
BEGIN:VEVENT
DTSTART;TZID=Europe/Paris:20291024T180000
DTEND;TZID=Europe/Paris:20291024T190000
DTSTAMP:20260423T120757
CREATED:20250724T110200Z
LAST-MODIFIED:20250728T124123Z
UID:10001015-1887559200-1887562800@www.ecsautoecole.fr
SUMMARY:cours de code à Sablé
DESCRIPTION:
URL:https://www.ecsautoecole.fr/event/cours-de-code-2/2029-10-24/
LOCATION:sablé sur sarthe\, 48 rue du mans\, sablé sur sarthe\, 72300\, France
CATEGORIES:Cours de Code
END:VEVENT
BEGIN:VEVENT
DTSTART;TZID=Europe/Paris:20291024T180000
DTEND;TZID=Europe/Paris:20291024T190000
DTSTAMP:20260423T120757
CREATED:20250731T154643Z
LAST-MODIFIED:20250731T154643Z
UID:10009117-1887559200-1887562800@www.ecsautoecole.fr
SUMMARY:Cours de code AMC Formation
DESCRIPTION:
URL:https://www.ecsautoecole.fr/event/cours-de-code-amc-formation/2029-10-24/
LOCATION:AMC FORMATION la flèche
CATEGORIES:Cours de Code
END:VEVENT
BEGIN:VEVENT
DTSTART;TZID=Europe/Paris:20291026T180000
DTEND;TZID=Europe/Paris:20291026T190000
DTSTAMP:20260423T120757
CREATED:20250724T140124Z
LAST-MODIFIED:20250728T124030Z
UID:10002059-1887732000-1887735600@www.ecsautoecole.fr
SUMMARY:Cours de code à Sablé
DESCRIPTION:
URL:https://www.ecsautoecole.fr/event/cours-de-code-3/2029-10-26/
LOCATION:sablé sur sarthe\, 48 rue du mans\, sablé sur sarthe\, 72300\, France
CATEGORIES:Cours de Code
END:VEVENT
BEGIN:VEVENT
DTSTART;TZID=Europe/Paris:20291026T180000
DTEND;TZID=Europe/Paris:20291026T190000
DTSTAMP:20260423T120757
CREATED:20250731T154800Z
LAST-MODIFIED:20250731T154800Z
UID:10009641-1887732000-1887735600@www.ecsautoecole.fr
SUMMARY:Cours de code AMC Formation
DESCRIPTION:
URL:https://www.ecsautoecole.fr/event/cours-de-code-la-fleche/2029-10-26/
LOCATION:AMC FORMATION la flèche
CATEGORIES:Cours de Code
END:VEVENT
BEGIN:VEVENT
DTSTART;TZID=Europe/Paris:20291027T100000
DTEND;TZID=Europe/Paris:20291027T110000
DTSTAMP:20260423T120757
CREATED:20250731T155102Z
LAST-MODIFIED:20250731T155102Z
UID:10010687-1887789600-1887793200@www.ecsautoecole.fr
SUMMARY:Cours de code AMC Formation
DESCRIPTION:
URL:https://www.ecsautoecole.fr/event/cours-de-code-6/2029-10-27/
LOCATION:AMC FORMATION la flèche
CATEGORIES:Cours de Code
END:VEVENT
BEGIN:VEVENT
DTSTART;TZID=Europe/Paris:20291027T130000
DTEND;TZID=Europe/Paris:20291027T140000
DTSTAMP:20260423T120757
CREATED:20250724T140337Z
LAST-MODIFIED:20250728T124054Z
UID:10004406-1887800400-1887804000@www.ecsautoecole.fr
SUMMARY:Cours de code à Sablé
DESCRIPTION:
URL:https://www.ecsautoecole.fr/event/cours-de-code-4/2029-10-27/
LOCATION:sablé sur sarthe\, 48 rue du mans\, sablé sur sarthe\, 72300\, France
CATEGORIES:Cours de Code
END:VEVENT
BEGIN:VEVENT
DTSTART;TZID=Europe/Paris:20291030T180000
DTEND;TZID=Europe/Paris:20291030T190000
DTSTAMP:20260423T120757
CREATED:20250724T072037Z
LAST-MODIFIED:20250728T124113Z
UID:10000233-1888077600-1888081200@www.ecsautoecole.fr
SUMMARY:Cours de code à Sablé
DESCRIPTION:
URL:https://www.ecsautoecole.fr/event/cours-de-code/2029-10-30/
LOCATION:sablé sur sarthe\, 48 rue du mans\, sablé sur sarthe\, 72300\, France
CATEGORIES:Cours de Code
END:VEVENT
BEGIN:VEVENT
DTSTART;TZID=Europe/Paris:20291031T180000
DTEND;TZID=Europe/Paris:20291031T190000
DTSTAMP:20260423T120757
CREATED:20250724T110200Z
LAST-MODIFIED:20250728T124123Z
UID:10001016-1888164000-1888167600@www.ecsautoecole.fr
SUMMARY:cours de code à Sablé
DESCRIPTION:
URL:https://www.ecsautoecole.fr/event/cours-de-code-2/2029-10-31/
LOCATION:sablé sur sarthe\, 48 rue du mans\, sablé sur sarthe\, 72300\, France
CATEGORIES:Cours de Code
END:VEVENT
END:VCALENDAR