BEGIN:VCALENDAR
VERSION:2.0
PRODID:-//ECS Formation Sabolienne - ECPv6.10.1.1//NONSGML v1.0//EN
CALSCALE:GREGORIAN
METHOD:PUBLISH
X-ORIGINAL-URL:https://www.ecsautoecole.fr
X-WR-CALDESC:Évènements pour ECS Formation Sabolienne
REFRESH-INTERVAL;VALUE=DURATION:PT1H
X-Robots-Tag:noindex
X-PUBLISHED-TTL:PT1H
BEGIN:VTIMEZONE
TZID:Europe/Paris
BEGIN:DAYLIGHT
TZOFFSETFROM:+0100
TZOFFSETTO:+0200
TZNAME:CEST
DTSTART:20290325T010000
END:DAYLIGHT
BEGIN:STANDARD
TZOFFSETFROM:+0200
TZOFFSETTO:+0100
TZNAME:CET
DTSTART:20291028T010000
END:STANDARD
END:VTIMEZONE
BEGIN:VEVENT
DTSTART;TZID=Europe/Paris:20291102T180000
DTEND;TZID=Europe/Paris:20291102T190000
DTSTAMP:20260423T150444
CREATED:20250724T140124Z
LAST-MODIFIED:20250728T124030Z
UID:10002060-1888336800-1888340400@www.ecsautoecole.fr
SUMMARY:Cours de code à Sablé
DESCRIPTION:
URL:https://www.ecsautoecole.fr/event/cours-de-code-3/2029-11-02/
LOCATION:sablé sur sarthe\, 48 rue du mans\, sablé sur sarthe\, 72300\, France
CATEGORIES:Cours de Code
END:VEVENT
BEGIN:VEVENT
DTSTART;TZID=Europe/Paris:20291102T180000
DTEND;TZID=Europe/Paris:20291102T190000
DTSTAMP:20260423T150444
CREATED:20250731T154800Z
LAST-MODIFIED:20250731T154800Z
UID:10009642-1888336800-1888340400@www.ecsautoecole.fr
SUMMARY:Cours de code AMC Formation
DESCRIPTION:
URL:https://www.ecsautoecole.fr/event/cours-de-code-la-fleche/2029-11-02/
LOCATION:AMC FORMATION la flèche
CATEGORIES:Cours de Code
END:VEVENT
BEGIN:VEVENT
DTSTART;TZID=Europe/Paris:20291103T100000
DTEND;TZID=Europe/Paris:20291103T110000
DTSTAMP:20260423T150444
CREATED:20250731T155102Z
LAST-MODIFIED:20250731T155102Z
UID:10010688-1888394400-1888398000@www.ecsautoecole.fr
SUMMARY:Cours de code AMC Formation
DESCRIPTION:
URL:https://www.ecsautoecole.fr/event/cours-de-code-6/2029-11-03/
LOCATION:AMC FORMATION la flèche
CATEGORIES:Cours de Code
END:VEVENT
BEGIN:VEVENT
DTSTART;TZID=Europe/Paris:20291103T130000
DTEND;TZID=Europe/Paris:20291103T140000
DTSTAMP:20260423T150444
CREATED:20250724T140337Z
LAST-MODIFIED:20250728T124054Z
UID:10004407-1888405200-1888408800@www.ecsautoecole.fr
SUMMARY:Cours de code à Sablé
DESCRIPTION:
URL:https://www.ecsautoecole.fr/event/cours-de-code-4/2029-11-03/
LOCATION:sablé sur sarthe\, 48 rue du mans\, sablé sur sarthe\, 72300\, France
CATEGORIES:Cours de Code
END:VEVENT
BEGIN:VEVENT
DTSTART;TZID=Europe/Paris:20291106T180000
DTEND;TZID=Europe/Paris:20291106T190000
DTSTAMP:20260423T150444
CREATED:20250724T072037Z
LAST-MODIFIED:20250728T124113Z
UID:10000234-1888682400-1888686000@www.ecsautoecole.fr
SUMMARY:Cours de code à Sablé
DESCRIPTION:
URL:https://www.ecsautoecole.fr/event/cours-de-code/2029-11-06/
LOCATION:sablé sur sarthe\, 48 rue du mans\, sablé sur sarthe\, 72300\, France
CATEGORIES:Cours de Code
END:VEVENT
BEGIN:VEVENT
DTSTART;TZID=Europe/Paris:20291107T180000
DTEND;TZID=Europe/Paris:20291107T190000
DTSTAMP:20260423T150444
CREATED:20250724T110200Z
LAST-MODIFIED:20250728T124123Z
UID:10001017-1888768800-1888772400@www.ecsautoecole.fr
SUMMARY:cours de code à Sablé
DESCRIPTION:
URL:https://www.ecsautoecole.fr/event/cours-de-code-2/2029-11-07/
LOCATION:sablé sur sarthe\, 48 rue du mans\, sablé sur sarthe\, 72300\, France
CATEGORIES:Cours de Code
END:VEVENT
BEGIN:VEVENT
DTSTART;TZID=Europe/Paris:20291107T180000
DTEND;TZID=Europe/Paris:20291107T190000
DTSTAMP:20260423T150444
CREATED:20250731T154643Z
LAST-MODIFIED:20250731T154643Z
UID:10009119-1888768800-1888772400@www.ecsautoecole.fr
SUMMARY:Cours de code AMC Formation
DESCRIPTION:
URL:https://www.ecsautoecole.fr/event/cours-de-code-amc-formation/2029-11-07/
LOCATION:AMC FORMATION la flèche
CATEGORIES:Cours de Code
END:VEVENT
BEGIN:VEVENT
DTSTART;TZID=Europe/Paris:20291109T180000
DTEND;TZID=Europe/Paris:20291109T190000
DTSTAMP:20260423T150444
CREATED:20250724T140124Z
LAST-MODIFIED:20250728T124030Z
UID:10002061-1888941600-1888945200@www.ecsautoecole.fr
SUMMARY:Cours de code à Sablé
DESCRIPTION:
URL:https://www.ecsautoecole.fr/event/cours-de-code-3/2029-11-09/
LOCATION:sablé sur sarthe\, 48 rue du mans\, sablé sur sarthe\, 72300\, France
CATEGORIES:Cours de Code
END:VEVENT
BEGIN:VEVENT
DTSTART;TZID=Europe/Paris:20291109T180000
DTEND;TZID=Europe/Paris:20291109T190000
DTSTAMP:20260423T150444
CREATED:20250731T154800Z
LAST-MODIFIED:20250731T154800Z
UID:10009643-1888941600-1888945200@www.ecsautoecole.fr
SUMMARY:Cours de code AMC Formation
DESCRIPTION:
URL:https://www.ecsautoecole.fr/event/cours-de-code-la-fleche/2029-11-09/
LOCATION:AMC FORMATION la flèche
CATEGORIES:Cours de Code
END:VEVENT
BEGIN:VEVENT
DTSTART;TZID=Europe/Paris:20291110T100000
DTEND;TZID=Europe/Paris:20291110T110000
DTSTAMP:20260423T150444
CREATED:20250731T155102Z
LAST-MODIFIED:20250731T155102Z
UID:10010689-1888999200-1889002800@www.ecsautoecole.fr
SUMMARY:Cours de code AMC Formation
DESCRIPTION:
URL:https://www.ecsautoecole.fr/event/cours-de-code-6/2029-11-10/
LOCATION:AMC FORMATION la flèche
CATEGORIES:Cours de Code
END:VEVENT
BEGIN:VEVENT
DTSTART;TZID=Europe/Paris:20291110T130000
DTEND;TZID=Europe/Paris:20291110T140000
DTSTAMP:20260423T150444
CREATED:20250724T140337Z
LAST-MODIFIED:20250728T124054Z
UID:10004408-1889010000-1889013600@www.ecsautoecole.fr
SUMMARY:Cours de code à Sablé
DESCRIPTION:
URL:https://www.ecsautoecole.fr/event/cours-de-code-4/2029-11-10/
LOCATION:sablé sur sarthe\, 48 rue du mans\, sablé sur sarthe\, 72300\, France
CATEGORIES:Cours de Code
END:VEVENT
BEGIN:VEVENT
DTSTART;TZID=Europe/Paris:20291113T180000
DTEND;TZID=Europe/Paris:20291113T190000
DTSTAMP:20260423T150444
CREATED:20250724T072037Z
LAST-MODIFIED:20250728T124113Z
UID:10000235-1889287200-1889290800@www.ecsautoecole.fr
SUMMARY:Cours de code à Sablé
DESCRIPTION:
URL:https://www.ecsautoecole.fr/event/cours-de-code/2029-11-13/
LOCATION:sablé sur sarthe\, 48 rue du mans\, sablé sur sarthe\, 72300\, France
CATEGORIES:Cours de Code
END:VEVENT
BEGIN:VEVENT
DTSTART;TZID=Europe/Paris:20291114T180000
DTEND;TZID=Europe/Paris:20291114T190000
DTSTAMP:20260423T150444
CREATED:20250724T110200Z
LAST-MODIFIED:20250728T124123Z
UID:10001018-1889373600-1889377200@www.ecsautoecole.fr
SUMMARY:cours de code à Sablé
DESCRIPTION:
URL:https://www.ecsautoecole.fr/event/cours-de-code-2/2029-11-14/
LOCATION:sablé sur sarthe\, 48 rue du mans\, sablé sur sarthe\, 72300\, France
CATEGORIES:Cours de Code
END:VEVENT
BEGIN:VEVENT
DTSTART;TZID=Europe/Paris:20291114T180000
DTEND;TZID=Europe/Paris:20291114T190000
DTSTAMP:20260423T150444
CREATED:20250731T154643Z
LAST-MODIFIED:20250731T154643Z
UID:10009120-1889373600-1889377200@www.ecsautoecole.fr
SUMMARY:Cours de code AMC Formation
DESCRIPTION:
URL:https://www.ecsautoecole.fr/event/cours-de-code-amc-formation/2029-11-14/
LOCATION:AMC FORMATION la flèche
CATEGORIES:Cours de Code
END:VEVENT
BEGIN:VEVENT
DTSTART;TZID=Europe/Paris:20291116T180000
DTEND;TZID=Europe/Paris:20291116T190000
DTSTAMP:20260423T150444
CREATED:20250724T140124Z
LAST-MODIFIED:20250728T124030Z
UID:10002062-1889546400-1889550000@www.ecsautoecole.fr
SUMMARY:Cours de code à Sablé
DESCRIPTION:
URL:https://www.ecsautoecole.fr/event/cours-de-code-3/2029-11-16/
LOCATION:sablé sur sarthe\, 48 rue du mans\, sablé sur sarthe\, 72300\, France
CATEGORIES:Cours de Code
END:VEVENT
BEGIN:VEVENT
DTSTART;TZID=Europe/Paris:20291116T180000
DTEND;TZID=Europe/Paris:20291116T190000
DTSTAMP:20260423T150444
CREATED:20250731T154800Z
LAST-MODIFIED:20250731T154800Z
UID:10009644-1889546400-1889550000@www.ecsautoecole.fr
SUMMARY:Cours de code AMC Formation
DESCRIPTION:
URL:https://www.ecsautoecole.fr/event/cours-de-code-la-fleche/2029-11-16/
LOCATION:AMC FORMATION la flèche
CATEGORIES:Cours de Code
END:VEVENT
BEGIN:VEVENT
DTSTART;TZID=Europe/Paris:20291117T100000
DTEND;TZID=Europe/Paris:20291117T110000
DTSTAMP:20260423T150444
CREATED:20250731T155102Z
LAST-MODIFIED:20250731T155102Z
UID:10010690-1889604000-1889607600@www.ecsautoecole.fr
SUMMARY:Cours de code AMC Formation
DESCRIPTION:
URL:https://www.ecsautoecole.fr/event/cours-de-code-6/2029-11-17/
LOCATION:AMC FORMATION la flèche
CATEGORIES:Cours de Code
END:VEVENT
BEGIN:VEVENT
DTSTART;TZID=Europe/Paris:20291117T130000
DTEND;TZID=Europe/Paris:20291117T140000
DTSTAMP:20260423T150444
CREATED:20250724T140337Z
LAST-MODIFIED:20250728T124054Z
UID:10004409-1889614800-1889618400@www.ecsautoecole.fr
SUMMARY:Cours de code à Sablé
DESCRIPTION:
URL:https://www.ecsautoecole.fr/event/cours-de-code-4/2029-11-17/
LOCATION:sablé sur sarthe\, 48 rue du mans\, sablé sur sarthe\, 72300\, France
CATEGORIES:Cours de Code
END:VEVENT
BEGIN:VEVENT
DTSTART;TZID=Europe/Paris:20291120T180000
DTEND;TZID=Europe/Paris:20291120T190000
DTSTAMP:20260423T150445
CREATED:20250724T072037Z
LAST-MODIFIED:20250728T124113Z
UID:10000236-1889892000-1889895600@www.ecsautoecole.fr
SUMMARY:Cours de code à Sablé
DESCRIPTION:
URL:https://www.ecsautoecole.fr/event/cours-de-code/2029-11-20/
LOCATION:sablé sur sarthe\, 48 rue du mans\, sablé sur sarthe\, 72300\, France
CATEGORIES:Cours de Code
END:VEVENT
BEGIN:VEVENT
DTSTART;TZID=Europe/Paris:20291121T180000
DTEND;TZID=Europe/Paris:20291121T190000
DTSTAMP:20260423T150445
CREATED:20250724T110200Z
LAST-MODIFIED:20250728T124123Z
UID:10001019-1889978400-1889982000@www.ecsautoecole.fr
SUMMARY:cours de code à Sablé
DESCRIPTION:
URL:https://www.ecsautoecole.fr/event/cours-de-code-2/2029-11-21/
LOCATION:sablé sur sarthe\, 48 rue du mans\, sablé sur sarthe\, 72300\, France
CATEGORIES:Cours de Code
END:VEVENT
BEGIN:VEVENT
DTSTART;TZID=Europe/Paris:20291121T180000
DTEND;TZID=Europe/Paris:20291121T190000
DTSTAMP:20260423T150445
CREATED:20250731T154643Z
LAST-MODIFIED:20250731T154643Z
UID:10009121-1889978400-1889982000@www.ecsautoecole.fr
SUMMARY:Cours de code AMC Formation
DESCRIPTION:
URL:https://www.ecsautoecole.fr/event/cours-de-code-amc-formation/2029-11-21/
LOCATION:AMC FORMATION la flèche
CATEGORIES:Cours de Code
END:VEVENT
BEGIN:VEVENT
DTSTART;TZID=Europe/Paris:20291123T180000
DTEND;TZID=Europe/Paris:20291123T190000
DTSTAMP:20260423T150445
CREATED:20250724T140124Z
LAST-MODIFIED:20250728T124030Z
UID:10002063-1890151200-1890154800@www.ecsautoecole.fr
SUMMARY:Cours de code à Sablé
DESCRIPTION:
URL:https://www.ecsautoecole.fr/event/cours-de-code-3/2029-11-23/
LOCATION:sablé sur sarthe\, 48 rue du mans\, sablé sur sarthe\, 72300\, France
CATEGORIES:Cours de Code
END:VEVENT
BEGIN:VEVENT
DTSTART;TZID=Europe/Paris:20291123T180000
DTEND;TZID=Europe/Paris:20291123T190000
DTSTAMP:20260423T150445
CREATED:20250731T154800Z
LAST-MODIFIED:20250731T154800Z
UID:10009645-1890151200-1890154800@www.ecsautoecole.fr
SUMMARY:Cours de code AMC Formation
DESCRIPTION:
URL:https://www.ecsautoecole.fr/event/cours-de-code-la-fleche/2029-11-23/
LOCATION:AMC FORMATION la flèche
CATEGORIES:Cours de Code
END:VEVENT
BEGIN:VEVENT
DTSTART;TZID=Europe/Paris:20291124T100000
DTEND;TZID=Europe/Paris:20291124T110000
DTSTAMP:20260423T150445
CREATED:20250731T155102Z
LAST-MODIFIED:20250731T155102Z
UID:10010691-1890208800-1890212400@www.ecsautoecole.fr
SUMMARY:Cours de code AMC Formation
DESCRIPTION:
URL:https://www.ecsautoecole.fr/event/cours-de-code-6/2029-11-24/
LOCATION:AMC FORMATION la flèche
CATEGORIES:Cours de Code
END:VEVENT
BEGIN:VEVENT
DTSTART;TZID=Europe/Paris:20291124T130000
DTEND;TZID=Europe/Paris:20291124T140000
DTSTAMP:20260423T150445
CREATED:20250724T140337Z
LAST-MODIFIED:20250728T124054Z
UID:10004410-1890219600-1890223200@www.ecsautoecole.fr
SUMMARY:Cours de code à Sablé
DESCRIPTION:
URL:https://www.ecsautoecole.fr/event/cours-de-code-4/2029-11-24/
LOCATION:sablé sur sarthe\, 48 rue du mans\, sablé sur sarthe\, 72300\, France
CATEGORIES:Cours de Code
END:VEVENT
BEGIN:VEVENT
DTSTART;TZID=Europe/Paris:20291127T180000
DTEND;TZID=Europe/Paris:20291127T190000
DTSTAMP:20260423T150445
CREATED:20250724T072037Z
LAST-MODIFIED:20250728T124113Z
UID:10000237-1890496800-1890500400@www.ecsautoecole.fr
SUMMARY:Cours de code à Sablé
DESCRIPTION:
URL:https://www.ecsautoecole.fr/event/cours-de-code/2029-11-27/
LOCATION:sablé sur sarthe\, 48 rue du mans\, sablé sur sarthe\, 72300\, France
CATEGORIES:Cours de Code
END:VEVENT
BEGIN:VEVENT
DTSTART;TZID=Europe/Paris:20291128T180000
DTEND;TZID=Europe/Paris:20291128T190000
DTSTAMP:20260423T150445
CREATED:20250724T110200Z
LAST-MODIFIED:20250728T124123Z
UID:10001020-1890583200-1890586800@www.ecsautoecole.fr
SUMMARY:cours de code à Sablé
DESCRIPTION:
URL:https://www.ecsautoecole.fr/event/cours-de-code-2/2029-11-28/
LOCATION:sablé sur sarthe\, 48 rue du mans\, sablé sur sarthe\, 72300\, France
CATEGORIES:Cours de Code
END:VEVENT
BEGIN:VEVENT
DTSTART;TZID=Europe/Paris:20291128T180000
DTEND;TZID=Europe/Paris:20291128T190000
DTSTAMP:20260423T150445
CREATED:20250731T154643Z
LAST-MODIFIED:20250731T154643Z
UID:10009122-1890583200-1890586800@www.ecsautoecole.fr
SUMMARY:Cours de code AMC Formation
DESCRIPTION:
URL:https://www.ecsautoecole.fr/event/cours-de-code-amc-formation/2029-11-28/
LOCATION:AMC FORMATION la flèche
CATEGORIES:Cours de Code
END:VEVENT
BEGIN:VEVENT
DTSTART;TZID=Europe/Paris:20291130T180000
DTEND;TZID=Europe/Paris:20291130T190000
DTSTAMP:20260423T150445
CREATED:20250724T140124Z
LAST-MODIFIED:20250728T124030Z
UID:10002064-1890756000-1890759600@www.ecsautoecole.fr
SUMMARY:Cours de code à Sablé
DESCRIPTION:
URL:https://www.ecsautoecole.fr/event/cours-de-code-3/2029-11-30/
LOCATION:sablé sur sarthe\, 48 rue du mans\, sablé sur sarthe\, 72300\, France
CATEGORIES:Cours de Code
END:VEVENT
BEGIN:VEVENT
DTSTART;TZID=Europe/Paris:20291130T180000
DTEND;TZID=Europe/Paris:20291130T190000
DTSTAMP:20260423T150445
CREATED:20250731T154800Z
LAST-MODIFIED:20250731T154800Z
UID:10009646-1890756000-1890759600@www.ecsautoecole.fr
SUMMARY:Cours de code AMC Formation
DESCRIPTION:
URL:https://www.ecsautoecole.fr/event/cours-de-code-la-fleche/2029-11-30/
LOCATION:AMC FORMATION la flèche
CATEGORIES:Cours de Code
END:VEVENT
END:VCALENDAR