BEGIN:VCALENDAR
VERSION:2.0
PRODID:-//ECS Formation Sabolienne - ECPv6.10.1.1//NONSGML v1.0//EN
CALSCALE:GREGORIAN
METHOD:PUBLISH
X-WR-CALNAME:ECS Formation Sabolienne
X-ORIGINAL-URL:https://www.ecsautoecole.fr
X-WR-CALDESC:Évènements pour ECS Formation Sabolienne
REFRESH-INTERVAL;VALUE=DURATION:PT1H
X-Robots-Tag:noindex
X-PUBLISHED-TTL:PT1H
BEGIN:VTIMEZONE
TZID:Europe/Paris
BEGIN:DAYLIGHT
TZOFFSETFROM:+0100
TZOFFSETTO:+0200
TZNAME:CEST
DTSTART:20300331T010000
END:DAYLIGHT
BEGIN:STANDARD
TZOFFSETFROM:+0200
TZOFFSETTO:+0100
TZNAME:CET
DTSTART:20301027T010000
END:STANDARD
END:VTIMEZONE
BEGIN:VEVENT
DTSTART;TZID=Europe/Paris:20300201T180000
DTEND;TZID=Europe/Paris:20300201T190000
DTSTAMP:20260424T015930
CREATED:20250724T140124Z
LAST-MODIFIED:20250728T124030Z
UID:10002073-1896199200-1896202800@www.ecsautoecole.fr
SUMMARY:Cours de code à Sablé
DESCRIPTION:
URL:https://www.ecsautoecole.fr/event/cours-de-code-3/2030-02-01/
LOCATION:sablé sur sarthe\, 48 rue du mans\, sablé sur sarthe\, 72300\, France
CATEGORIES:Cours de Code
END:VEVENT
BEGIN:VEVENT
DTSTART;TZID=Europe/Paris:20300201T180000
DTEND;TZID=Europe/Paris:20300201T190000
DTSTAMP:20260424T015930
CREATED:20250731T154800Z
LAST-MODIFIED:20250731T154800Z
UID:10009655-1896199200-1896202800@www.ecsautoecole.fr
SUMMARY:Cours de code AMC Formation
DESCRIPTION:
URL:https://www.ecsautoecole.fr/event/cours-de-code-la-fleche/2030-02-01/
LOCATION:AMC FORMATION la flèche
CATEGORIES:Cours de Code
END:VEVENT
BEGIN:VEVENT
DTSTART;TZID=Europe/Paris:20300202T100000
DTEND;TZID=Europe/Paris:20300202T110000
DTSTAMP:20260424T015930
CREATED:20250731T155102Z
LAST-MODIFIED:20250731T155102Z
UID:10010701-1896256800-1896260400@www.ecsautoecole.fr
SUMMARY:Cours de code AMC Formation
DESCRIPTION:
URL:https://www.ecsautoecole.fr/event/cours-de-code-6/2030-02-02/
LOCATION:AMC FORMATION la flèche
CATEGORIES:Cours de Code
END:VEVENT
BEGIN:VEVENT
DTSTART;TZID=Europe/Paris:20300202T130000
DTEND;TZID=Europe/Paris:20300202T140000
DTSTAMP:20260424T015930
CREATED:20250724T140337Z
LAST-MODIFIED:20250728T124054Z
UID:10004420-1896267600-1896271200@www.ecsautoecole.fr
SUMMARY:Cours de code à Sablé
DESCRIPTION:
URL:https://www.ecsautoecole.fr/event/cours-de-code-4/2030-02-02/
LOCATION:sablé sur sarthe\, 48 rue du mans\, sablé sur sarthe\, 72300\, France
CATEGORIES:Cours de Code
END:VEVENT
BEGIN:VEVENT
DTSTART;TZID=Europe/Paris:20300205T180000
DTEND;TZID=Europe/Paris:20300205T190000
DTSTAMP:20260424T015930
CREATED:20250724T072037Z
LAST-MODIFIED:20250728T124113Z
UID:10000247-1896544800-1896548400@www.ecsautoecole.fr
SUMMARY:Cours de code à Sablé
DESCRIPTION:
URL:https://www.ecsautoecole.fr/event/cours-de-code/2030-02-05/
LOCATION:sablé sur sarthe\, 48 rue du mans\, sablé sur sarthe\, 72300\, France
CATEGORIES:Cours de Code
END:VEVENT
BEGIN:VEVENT
DTSTART;TZID=Europe/Paris:20300206T180000
DTEND;TZID=Europe/Paris:20300206T190000
DTSTAMP:20260424T015930
CREATED:20250724T110200Z
LAST-MODIFIED:20250728T124123Z
UID:10001030-1896631200-1896634800@www.ecsautoecole.fr
SUMMARY:cours de code à Sablé
DESCRIPTION:
URL:https://www.ecsautoecole.fr/event/cours-de-code-2/2030-02-06/
LOCATION:sablé sur sarthe\, 48 rue du mans\, sablé sur sarthe\, 72300\, France
CATEGORIES:Cours de Code
END:VEVENT
BEGIN:VEVENT
DTSTART;TZID=Europe/Paris:20300206T180000
DTEND;TZID=Europe/Paris:20300206T190000
DTSTAMP:20260424T015930
CREATED:20250731T154643Z
LAST-MODIFIED:20250731T154643Z
UID:10009132-1896631200-1896634800@www.ecsautoecole.fr
SUMMARY:Cours de code AMC Formation
DESCRIPTION:
URL:https://www.ecsautoecole.fr/event/cours-de-code-amc-formation/2030-02-06/
LOCATION:AMC FORMATION la flèche
CATEGORIES:Cours de Code
END:VEVENT
BEGIN:VEVENT
DTSTART;TZID=Europe/Paris:20300208T180000
DTEND;TZID=Europe/Paris:20300208T190000
DTSTAMP:20260424T015930
CREATED:20250724T140124Z
LAST-MODIFIED:20250728T124030Z
UID:10002074-1896804000-1896807600@www.ecsautoecole.fr
SUMMARY:Cours de code à Sablé
DESCRIPTION:
URL:https://www.ecsautoecole.fr/event/cours-de-code-3/2030-02-08/
LOCATION:sablé sur sarthe\, 48 rue du mans\, sablé sur sarthe\, 72300\, France
CATEGORIES:Cours de Code
END:VEVENT
BEGIN:VEVENT
DTSTART;TZID=Europe/Paris:20300208T180000
DTEND;TZID=Europe/Paris:20300208T190000
DTSTAMP:20260424T015930
CREATED:20250731T154800Z
LAST-MODIFIED:20250731T154800Z
UID:10009656-1896804000-1896807600@www.ecsautoecole.fr
SUMMARY:Cours de code AMC Formation
DESCRIPTION:
URL:https://www.ecsautoecole.fr/event/cours-de-code-la-fleche/2030-02-08/
LOCATION:AMC FORMATION la flèche
CATEGORIES:Cours de Code
END:VEVENT
BEGIN:VEVENT
DTSTART;TZID=Europe/Paris:20300209T100000
DTEND;TZID=Europe/Paris:20300209T110000
DTSTAMP:20260424T015930
CREATED:20250731T155102Z
LAST-MODIFIED:20250731T155102Z
UID:10010702-1896861600-1896865200@www.ecsautoecole.fr
SUMMARY:Cours de code AMC Formation
DESCRIPTION:
URL:https://www.ecsautoecole.fr/event/cours-de-code-6/2030-02-09/
LOCATION:AMC FORMATION la flèche
CATEGORIES:Cours de Code
END:VEVENT
BEGIN:VEVENT
DTSTART;TZID=Europe/Paris:20300209T130000
DTEND;TZID=Europe/Paris:20300209T140000
DTSTAMP:20260424T015930
CREATED:20250724T140337Z
LAST-MODIFIED:20250728T124054Z
UID:10004421-1896872400-1896876000@www.ecsautoecole.fr
SUMMARY:Cours de code à Sablé
DESCRIPTION:
URL:https://www.ecsautoecole.fr/event/cours-de-code-4/2030-02-09/
LOCATION:sablé sur sarthe\, 48 rue du mans\, sablé sur sarthe\, 72300\, France
CATEGORIES:Cours de Code
END:VEVENT
BEGIN:VEVENT
DTSTART;TZID=Europe/Paris:20300212T180000
DTEND;TZID=Europe/Paris:20300212T190000
DTSTAMP:20260424T015930
CREATED:20250724T072037Z
LAST-MODIFIED:20250728T124113Z
UID:10000248-1897149600-1897153200@www.ecsautoecole.fr
SUMMARY:Cours de code à Sablé
DESCRIPTION:
URL:https://www.ecsautoecole.fr/event/cours-de-code/2030-02-12/
LOCATION:sablé sur sarthe\, 48 rue du mans\, sablé sur sarthe\, 72300\, France
CATEGORIES:Cours de Code
END:VEVENT
BEGIN:VEVENT
DTSTART;TZID=Europe/Paris:20300213T180000
DTEND;TZID=Europe/Paris:20300213T190000
DTSTAMP:20260424T015930
CREATED:20250724T110200Z
LAST-MODIFIED:20250728T124123Z
UID:10001031-1897236000-1897239600@www.ecsautoecole.fr
SUMMARY:cours de code à Sablé
DESCRIPTION:
URL:https://www.ecsautoecole.fr/event/cours-de-code-2/2030-02-13/
LOCATION:sablé sur sarthe\, 48 rue du mans\, sablé sur sarthe\, 72300\, France
CATEGORIES:Cours de Code
END:VEVENT
BEGIN:VEVENT
DTSTART;TZID=Europe/Paris:20300213T180000
DTEND;TZID=Europe/Paris:20300213T190000
DTSTAMP:20260424T015930
CREATED:20250731T154643Z
LAST-MODIFIED:20250731T154643Z
UID:10009133-1897236000-1897239600@www.ecsautoecole.fr
SUMMARY:Cours de code AMC Formation
DESCRIPTION:
URL:https://www.ecsautoecole.fr/event/cours-de-code-amc-formation/2030-02-13/
LOCATION:AMC FORMATION la flèche
CATEGORIES:Cours de Code
END:VEVENT
BEGIN:VEVENT
DTSTART;TZID=Europe/Paris:20300215T180000
DTEND;TZID=Europe/Paris:20300215T190000
DTSTAMP:20260424T015930
CREATED:20250724T140124Z
LAST-MODIFIED:20250728T124030Z
UID:10002075-1897408800-1897412400@www.ecsautoecole.fr
SUMMARY:Cours de code à Sablé
DESCRIPTION:
URL:https://www.ecsautoecole.fr/event/cours-de-code-3/2030-02-15/
LOCATION:sablé sur sarthe\, 48 rue du mans\, sablé sur sarthe\, 72300\, France
CATEGORIES:Cours de Code
END:VEVENT
BEGIN:VEVENT
DTSTART;TZID=Europe/Paris:20300215T180000
DTEND;TZID=Europe/Paris:20300215T190000
DTSTAMP:20260424T015930
CREATED:20250731T154800Z
LAST-MODIFIED:20250731T154800Z
UID:10009657-1897408800-1897412400@www.ecsautoecole.fr
SUMMARY:Cours de code AMC Formation
DESCRIPTION:
URL:https://www.ecsautoecole.fr/event/cours-de-code-la-fleche/2030-02-15/
LOCATION:AMC FORMATION la flèche
CATEGORIES:Cours de Code
END:VEVENT
BEGIN:VEVENT
DTSTART;TZID=Europe/Paris:20300216T100000
DTEND;TZID=Europe/Paris:20300216T110000
DTSTAMP:20260424T015930
CREATED:20250731T155102Z
LAST-MODIFIED:20250731T155102Z
UID:10010703-1897466400-1897470000@www.ecsautoecole.fr
SUMMARY:Cours de code AMC Formation
DESCRIPTION:
URL:https://www.ecsautoecole.fr/event/cours-de-code-6/2030-02-16/
LOCATION:AMC FORMATION la flèche
CATEGORIES:Cours de Code
END:VEVENT
BEGIN:VEVENT
DTSTART;TZID=Europe/Paris:20300216T130000
DTEND;TZID=Europe/Paris:20300216T140000
DTSTAMP:20260424T015930
CREATED:20250724T140337Z
LAST-MODIFIED:20250728T124054Z
UID:10004422-1897477200-1897480800@www.ecsautoecole.fr
SUMMARY:Cours de code à Sablé
DESCRIPTION:
URL:https://www.ecsautoecole.fr/event/cours-de-code-4/2030-02-16/
LOCATION:sablé sur sarthe\, 48 rue du mans\, sablé sur sarthe\, 72300\, France
CATEGORIES:Cours de Code
END:VEVENT
BEGIN:VEVENT
DTSTART;TZID=Europe/Paris:20300219T180000
DTEND;TZID=Europe/Paris:20300219T190000
DTSTAMP:20260424T015930
CREATED:20250724T072037Z
LAST-MODIFIED:20250728T124113Z
UID:10000249-1897754400-1897758000@www.ecsautoecole.fr
SUMMARY:Cours de code à Sablé
DESCRIPTION:
URL:https://www.ecsautoecole.fr/event/cours-de-code/2030-02-19/
LOCATION:sablé sur sarthe\, 48 rue du mans\, sablé sur sarthe\, 72300\, France
CATEGORIES:Cours de Code
END:VEVENT
BEGIN:VEVENT
DTSTART;TZID=Europe/Paris:20300220T180000
DTEND;TZID=Europe/Paris:20300220T190000
DTSTAMP:20260424T015930
CREATED:20250724T110200Z
LAST-MODIFIED:20250728T124123Z
UID:10001032-1897840800-1897844400@www.ecsautoecole.fr
SUMMARY:cours de code à Sablé
DESCRIPTION:
URL:https://www.ecsautoecole.fr/event/cours-de-code-2/2030-02-20/
LOCATION:sablé sur sarthe\, 48 rue du mans\, sablé sur sarthe\, 72300\, France
CATEGORIES:Cours de Code
END:VEVENT
BEGIN:VEVENT
DTSTART;TZID=Europe/Paris:20300220T180000
DTEND;TZID=Europe/Paris:20300220T190000
DTSTAMP:20260424T015930
CREATED:20250731T154643Z
LAST-MODIFIED:20250731T154643Z
UID:10009134-1897840800-1897844400@www.ecsautoecole.fr
SUMMARY:Cours de code AMC Formation
DESCRIPTION:
URL:https://www.ecsautoecole.fr/event/cours-de-code-amc-formation/2030-02-20/
LOCATION:AMC FORMATION la flèche
CATEGORIES:Cours de Code
END:VEVENT
BEGIN:VEVENT
DTSTART;TZID=Europe/Paris:20300222T180000
DTEND;TZID=Europe/Paris:20300222T190000
DTSTAMP:20260424T015930
CREATED:20250724T140124Z
LAST-MODIFIED:20250728T124030Z
UID:10002076-1898013600-1898017200@www.ecsautoecole.fr
SUMMARY:Cours de code à Sablé
DESCRIPTION:
URL:https://www.ecsautoecole.fr/event/cours-de-code-3/2030-02-22/
LOCATION:sablé sur sarthe\, 48 rue du mans\, sablé sur sarthe\, 72300\, France
CATEGORIES:Cours de Code
END:VEVENT
BEGIN:VEVENT
DTSTART;TZID=Europe/Paris:20300222T180000
DTEND;TZID=Europe/Paris:20300222T190000
DTSTAMP:20260424T015930
CREATED:20250731T154800Z
LAST-MODIFIED:20250731T154800Z
UID:10009658-1898013600-1898017200@www.ecsautoecole.fr
SUMMARY:Cours de code AMC Formation
DESCRIPTION:
URL:https://www.ecsautoecole.fr/event/cours-de-code-la-fleche/2030-02-22/
LOCATION:AMC FORMATION la flèche
CATEGORIES:Cours de Code
END:VEVENT
BEGIN:VEVENT
DTSTART;TZID=Europe/Paris:20300223T100000
DTEND;TZID=Europe/Paris:20300223T110000
DTSTAMP:20260424T015930
CREATED:20250731T155102Z
LAST-MODIFIED:20250731T155102Z
UID:10010704-1898071200-1898074800@www.ecsautoecole.fr
SUMMARY:Cours de code AMC Formation
DESCRIPTION:
URL:https://www.ecsautoecole.fr/event/cours-de-code-6/2030-02-23/
LOCATION:AMC FORMATION la flèche
CATEGORIES:Cours de Code
END:VEVENT
BEGIN:VEVENT
DTSTART;TZID=Europe/Paris:20300223T130000
DTEND;TZID=Europe/Paris:20300223T140000
DTSTAMP:20260424T015930
CREATED:20250724T140337Z
LAST-MODIFIED:20250728T124054Z
UID:10004423-1898082000-1898085600@www.ecsautoecole.fr
SUMMARY:Cours de code à Sablé
DESCRIPTION:
URL:https://www.ecsautoecole.fr/event/cours-de-code-4/2030-02-23/
LOCATION:sablé sur sarthe\, 48 rue du mans\, sablé sur sarthe\, 72300\, France
CATEGORIES:Cours de Code
END:VEVENT
BEGIN:VEVENT
DTSTART;TZID=Europe/Paris:20300226T180000
DTEND;TZID=Europe/Paris:20300226T190000
DTSTAMP:20260424T015930
CREATED:20250724T072037Z
LAST-MODIFIED:20250728T124113Z
UID:10000250-1898359200-1898362800@www.ecsautoecole.fr
SUMMARY:Cours de code à Sablé
DESCRIPTION:
URL:https://www.ecsautoecole.fr/event/cours-de-code/2030-02-26/
LOCATION:sablé sur sarthe\, 48 rue du mans\, sablé sur sarthe\, 72300\, France
CATEGORIES:Cours de Code
END:VEVENT
BEGIN:VEVENT
DTSTART;TZID=Europe/Paris:20300227T180000
DTEND;TZID=Europe/Paris:20300227T190000
DTSTAMP:20260424T015930
CREATED:20250724T110200Z
LAST-MODIFIED:20250728T124123Z
UID:10001033-1898445600-1898449200@www.ecsautoecole.fr
SUMMARY:cours de code à Sablé
DESCRIPTION:
URL:https://www.ecsautoecole.fr/event/cours-de-code-2/2030-02-27/
LOCATION:sablé sur sarthe\, 48 rue du mans\, sablé sur sarthe\, 72300\, France
CATEGORIES:Cours de Code
END:VEVENT
BEGIN:VEVENT
DTSTART;TZID=Europe/Paris:20300227T180000
DTEND;TZID=Europe/Paris:20300227T190000
DTSTAMP:20260424T015930
CREATED:20250731T154643Z
LAST-MODIFIED:20250731T154643Z
UID:10009135-1898445600-1898449200@www.ecsautoecole.fr
SUMMARY:Cours de code AMC Formation
DESCRIPTION:
URL:https://www.ecsautoecole.fr/event/cours-de-code-amc-formation/2030-02-27/
LOCATION:AMC FORMATION la flèche
CATEGORIES:Cours de Code
END:VEVENT
END:VCALENDAR