BEGIN:VCALENDAR
VERSION:2.0
PRODID:-//ECS Formation Sabolienne - ECPv6.10.1.1//NONSGML v1.0//EN
CALSCALE:GREGORIAN
METHOD:PUBLISH
X-WR-CALNAME:ECS Formation Sabolienne
X-ORIGINAL-URL:https://www.ecsautoecole.fr
X-WR-CALDESC:Évènements pour ECS Formation Sabolienne
REFRESH-INTERVAL;VALUE=DURATION:PT1H
X-Robots-Tag:noindex
X-PUBLISHED-TTL:PT1H
BEGIN:VTIMEZONE
TZID:Europe/Paris
BEGIN:DAYLIGHT
TZOFFSETFROM:+0100
TZOFFSETTO:+0200
TZNAME:CEST
DTSTART:20300331T010000
END:DAYLIGHT
BEGIN:STANDARD
TZOFFSETFROM:+0200
TZOFFSETTO:+0100
TZNAME:CET
DTSTART:20301027T010000
END:STANDARD
END:VTIMEZONE
BEGIN:VEVENT
DTSTART;TZID=Europe/Paris:20300402T180000
DTEND;TZID=Europe/Paris:20300402T190000
DTSTAMP:20260424T064421
CREATED:20250724T072037Z
LAST-MODIFIED:20250728T124113Z
UID:10000255-1901383200-1901386800@www.ecsautoecole.fr
SUMMARY:Cours de code à Sablé
DESCRIPTION:
URL:https://www.ecsautoecole.fr/event/cours-de-code/2030-04-02/
LOCATION:sablé sur sarthe\, 48 rue du mans\, sablé sur sarthe\, 72300\, France
CATEGORIES:Cours de Code
END:VEVENT
BEGIN:VEVENT
DTSTART;TZID=Europe/Paris:20300403T180000
DTEND;TZID=Europe/Paris:20300403T190000
DTSTAMP:20260424T064421
CREATED:20250724T110200Z
LAST-MODIFIED:20250728T124123Z
UID:10001038-1901469600-1901473200@www.ecsautoecole.fr
SUMMARY:cours de code à Sablé
DESCRIPTION:
URL:https://www.ecsautoecole.fr/event/cours-de-code-2/2030-04-03/
LOCATION:sablé sur sarthe\, 48 rue du mans\, sablé sur sarthe\, 72300\, France
CATEGORIES:Cours de Code
END:VEVENT
BEGIN:VEVENT
DTSTART;TZID=Europe/Paris:20300403T180000
DTEND;TZID=Europe/Paris:20300403T190000
DTSTAMP:20260424T064421
CREATED:20250731T154643Z
LAST-MODIFIED:20250731T154643Z
UID:10009140-1901469600-1901473200@www.ecsautoecole.fr
SUMMARY:Cours de code AMC Formation
DESCRIPTION:
URL:https://www.ecsautoecole.fr/event/cours-de-code-amc-formation/2030-04-03/
LOCATION:AMC FORMATION la flèche
CATEGORIES:Cours de Code
END:VEVENT
BEGIN:VEVENT
DTSTART;TZID=Europe/Paris:20300405T180000
DTEND;TZID=Europe/Paris:20300405T190000
DTSTAMP:20260424T064421
CREATED:20250724T140124Z
LAST-MODIFIED:20250728T124030Z
UID:10002082-1901642400-1901646000@www.ecsautoecole.fr
SUMMARY:Cours de code à Sablé
DESCRIPTION:
URL:https://www.ecsautoecole.fr/event/cours-de-code-3/2030-04-05/
LOCATION:sablé sur sarthe\, 48 rue du mans\, sablé sur sarthe\, 72300\, France
CATEGORIES:Cours de Code
END:VEVENT
BEGIN:VEVENT
DTSTART;TZID=Europe/Paris:20300405T180000
DTEND;TZID=Europe/Paris:20300405T190000
DTSTAMP:20260424T064421
CREATED:20250731T154800Z
LAST-MODIFIED:20250731T154800Z
UID:10009664-1901642400-1901646000@www.ecsautoecole.fr
SUMMARY:Cours de code AMC Formation
DESCRIPTION:
URL:https://www.ecsautoecole.fr/event/cours-de-code-la-fleche/2030-04-05/
LOCATION:AMC FORMATION la flèche
CATEGORIES:Cours de Code
END:VEVENT
BEGIN:VEVENT
DTSTART;TZID=Europe/Paris:20300406T100000
DTEND;TZID=Europe/Paris:20300406T110000
DTSTAMP:20260424T064421
CREATED:20250731T155102Z
LAST-MODIFIED:20250731T155102Z
UID:10010710-1901700000-1901703600@www.ecsautoecole.fr
SUMMARY:Cours de code AMC Formation
DESCRIPTION:
URL:https://www.ecsautoecole.fr/event/cours-de-code-6/2030-04-06/
LOCATION:AMC FORMATION la flèche
CATEGORIES:Cours de Code
END:VEVENT
BEGIN:VEVENT
DTSTART;TZID=Europe/Paris:20300406T130000
DTEND;TZID=Europe/Paris:20300406T140000
DTSTAMP:20260424T064421
CREATED:20250724T140337Z
LAST-MODIFIED:20250728T124054Z
UID:10004429-1901710800-1901714400@www.ecsautoecole.fr
SUMMARY:Cours de code à Sablé
DESCRIPTION:
URL:https://www.ecsautoecole.fr/event/cours-de-code-4/2030-04-06/
LOCATION:sablé sur sarthe\, 48 rue du mans\, sablé sur sarthe\, 72300\, France
CATEGORIES:Cours de Code
END:VEVENT
BEGIN:VEVENT
DTSTART;TZID=Europe/Paris:20300409T180000
DTEND;TZID=Europe/Paris:20300409T190000
DTSTAMP:20260424T064421
CREATED:20250724T072037Z
LAST-MODIFIED:20250728T124113Z
UID:10000256-1901988000-1901991600@www.ecsautoecole.fr
SUMMARY:Cours de code à Sablé
DESCRIPTION:
URL:https://www.ecsautoecole.fr/event/cours-de-code/2030-04-09/
LOCATION:sablé sur sarthe\, 48 rue du mans\, sablé sur sarthe\, 72300\, France
CATEGORIES:Cours de Code
END:VEVENT
BEGIN:VEVENT
DTSTART;TZID=Europe/Paris:20300410T180000
DTEND;TZID=Europe/Paris:20300410T190000
DTSTAMP:20260424T064421
CREATED:20250724T110200Z
LAST-MODIFIED:20250728T124123Z
UID:10001039-1902074400-1902078000@www.ecsautoecole.fr
SUMMARY:cours de code à Sablé
DESCRIPTION:
URL:https://www.ecsautoecole.fr/event/cours-de-code-2/2030-04-10/
LOCATION:sablé sur sarthe\, 48 rue du mans\, sablé sur sarthe\, 72300\, France
CATEGORIES:Cours de Code
END:VEVENT
BEGIN:VEVENT
DTSTART;TZID=Europe/Paris:20300410T180000
DTEND;TZID=Europe/Paris:20300410T190000
DTSTAMP:20260424T064421
CREATED:20250731T154643Z
LAST-MODIFIED:20250731T154643Z
UID:10009141-1902074400-1902078000@www.ecsautoecole.fr
SUMMARY:Cours de code AMC Formation
DESCRIPTION:
URL:https://www.ecsautoecole.fr/event/cours-de-code-amc-formation/2030-04-10/
LOCATION:AMC FORMATION la flèche
CATEGORIES:Cours de Code
END:VEVENT
BEGIN:VEVENT
DTSTART;TZID=Europe/Paris:20300412T180000
DTEND;TZID=Europe/Paris:20300412T190000
DTSTAMP:20260424T064421
CREATED:20250724T140124Z
LAST-MODIFIED:20250728T124030Z
UID:10002083-1902247200-1902250800@www.ecsautoecole.fr
SUMMARY:Cours de code à Sablé
DESCRIPTION:
URL:https://www.ecsautoecole.fr/event/cours-de-code-3/2030-04-12/
LOCATION:sablé sur sarthe\, 48 rue du mans\, sablé sur sarthe\, 72300\, France
CATEGORIES:Cours de Code
END:VEVENT
BEGIN:VEVENT
DTSTART;TZID=Europe/Paris:20300412T180000
DTEND;TZID=Europe/Paris:20300412T190000
DTSTAMP:20260424T064421
CREATED:20250731T154800Z
LAST-MODIFIED:20250731T154800Z
UID:10009665-1902247200-1902250800@www.ecsautoecole.fr
SUMMARY:Cours de code AMC Formation
DESCRIPTION:
URL:https://www.ecsautoecole.fr/event/cours-de-code-la-fleche/2030-04-12/
LOCATION:AMC FORMATION la flèche
CATEGORIES:Cours de Code
END:VEVENT
BEGIN:VEVENT
DTSTART;TZID=Europe/Paris:20300413T100000
DTEND;TZID=Europe/Paris:20300413T110000
DTSTAMP:20260424T064421
CREATED:20250731T155102Z
LAST-MODIFIED:20250731T155102Z
UID:10010711-1902304800-1902308400@www.ecsautoecole.fr
SUMMARY:Cours de code AMC Formation
DESCRIPTION:
URL:https://www.ecsautoecole.fr/event/cours-de-code-6/2030-04-13/
LOCATION:AMC FORMATION la flèche
CATEGORIES:Cours de Code
END:VEVENT
BEGIN:VEVENT
DTSTART;TZID=Europe/Paris:20300413T130000
DTEND;TZID=Europe/Paris:20300413T140000
DTSTAMP:20260424T064421
CREATED:20250724T140337Z
LAST-MODIFIED:20250728T124054Z
UID:10004430-1902315600-1902319200@www.ecsautoecole.fr
SUMMARY:Cours de code à Sablé
DESCRIPTION:
URL:https://www.ecsautoecole.fr/event/cours-de-code-4/2030-04-13/
LOCATION:sablé sur sarthe\, 48 rue du mans\, sablé sur sarthe\, 72300\, France
CATEGORIES:Cours de Code
END:VEVENT
BEGIN:VEVENT
DTSTART;TZID=Europe/Paris:20300416T180000
DTEND;TZID=Europe/Paris:20300416T190000
DTSTAMP:20260424T064421
CREATED:20250724T072037Z
LAST-MODIFIED:20250728T124113Z
UID:10000257-1902592800-1902596400@www.ecsautoecole.fr
SUMMARY:Cours de code à Sablé
DESCRIPTION:
URL:https://www.ecsautoecole.fr/event/cours-de-code/2030-04-16/
LOCATION:sablé sur sarthe\, 48 rue du mans\, sablé sur sarthe\, 72300\, France
CATEGORIES:Cours de Code
END:VEVENT
BEGIN:VEVENT
DTSTART;TZID=Europe/Paris:20300417T180000
DTEND;TZID=Europe/Paris:20300417T190000
DTSTAMP:20260424T064421
CREATED:20250724T110200Z
LAST-MODIFIED:20250728T124123Z
UID:10001040-1902679200-1902682800@www.ecsautoecole.fr
SUMMARY:cours de code à Sablé
DESCRIPTION:
URL:https://www.ecsautoecole.fr/event/cours-de-code-2/2030-04-17/
LOCATION:sablé sur sarthe\, 48 rue du mans\, sablé sur sarthe\, 72300\, France
CATEGORIES:Cours de Code
END:VEVENT
BEGIN:VEVENT
DTSTART;TZID=Europe/Paris:20300417T180000
DTEND;TZID=Europe/Paris:20300417T190000
DTSTAMP:20260424T064421
CREATED:20250731T154643Z
LAST-MODIFIED:20250731T154643Z
UID:10009142-1902679200-1902682800@www.ecsautoecole.fr
SUMMARY:Cours de code AMC Formation
DESCRIPTION:
URL:https://www.ecsautoecole.fr/event/cours-de-code-amc-formation/2030-04-17/
LOCATION:AMC FORMATION la flèche
CATEGORIES:Cours de Code
END:VEVENT
BEGIN:VEVENT
DTSTART;TZID=Europe/Paris:20300419T180000
DTEND;TZID=Europe/Paris:20300419T190000
DTSTAMP:20260424T064421
CREATED:20250724T140124Z
LAST-MODIFIED:20250728T124030Z
UID:10002084-1902852000-1902855600@www.ecsautoecole.fr
SUMMARY:Cours de code à Sablé
DESCRIPTION:
URL:https://www.ecsautoecole.fr/event/cours-de-code-3/2030-04-19/
LOCATION:sablé sur sarthe\, 48 rue du mans\, sablé sur sarthe\, 72300\, France
CATEGORIES:Cours de Code
END:VEVENT
BEGIN:VEVENT
DTSTART;TZID=Europe/Paris:20300419T180000
DTEND;TZID=Europe/Paris:20300419T190000
DTSTAMP:20260424T064421
CREATED:20250731T154800Z
LAST-MODIFIED:20250731T154800Z
UID:10009666-1902852000-1902855600@www.ecsautoecole.fr
SUMMARY:Cours de code AMC Formation
DESCRIPTION:
URL:https://www.ecsautoecole.fr/event/cours-de-code-la-fleche/2030-04-19/
LOCATION:AMC FORMATION la flèche
CATEGORIES:Cours de Code
END:VEVENT
BEGIN:VEVENT
DTSTART;TZID=Europe/Paris:20300420T100000
DTEND;TZID=Europe/Paris:20300420T110000
DTSTAMP:20260424T064421
CREATED:20250731T155102Z
LAST-MODIFIED:20250731T155102Z
UID:10010712-1902909600-1902913200@www.ecsautoecole.fr
SUMMARY:Cours de code AMC Formation
DESCRIPTION:
URL:https://www.ecsautoecole.fr/event/cours-de-code-6/2030-04-20/
LOCATION:AMC FORMATION la flèche
CATEGORIES:Cours de Code
END:VEVENT
BEGIN:VEVENT
DTSTART;TZID=Europe/Paris:20300420T130000
DTEND;TZID=Europe/Paris:20300420T140000
DTSTAMP:20260424T064421
CREATED:20250724T140337Z
LAST-MODIFIED:20250728T124054Z
UID:10004431-1902920400-1902924000@www.ecsautoecole.fr
SUMMARY:Cours de code à Sablé
DESCRIPTION:
URL:https://www.ecsautoecole.fr/event/cours-de-code-4/2030-04-20/
LOCATION:sablé sur sarthe\, 48 rue du mans\, sablé sur sarthe\, 72300\, France
CATEGORIES:Cours de Code
END:VEVENT
BEGIN:VEVENT
DTSTART;TZID=Europe/Paris:20300423T180000
DTEND;TZID=Europe/Paris:20300423T190000
DTSTAMP:20260424T064421
CREATED:20250724T072037Z
LAST-MODIFIED:20250728T124113Z
UID:10000258-1903197600-1903201200@www.ecsautoecole.fr
SUMMARY:Cours de code à Sablé
DESCRIPTION:
URL:https://www.ecsautoecole.fr/event/cours-de-code/2030-04-23/
LOCATION:sablé sur sarthe\, 48 rue du mans\, sablé sur sarthe\, 72300\, France
CATEGORIES:Cours de Code
END:VEVENT
BEGIN:VEVENT
DTSTART;TZID=Europe/Paris:20300424T180000
DTEND;TZID=Europe/Paris:20300424T190000
DTSTAMP:20260424T064421
CREATED:20250724T110200Z
LAST-MODIFIED:20250728T124123Z
UID:10001041-1903284000-1903287600@www.ecsautoecole.fr
SUMMARY:cours de code à Sablé
DESCRIPTION:
URL:https://www.ecsautoecole.fr/event/cours-de-code-2/2030-04-24/
LOCATION:sablé sur sarthe\, 48 rue du mans\, sablé sur sarthe\, 72300\, France
CATEGORIES:Cours de Code
END:VEVENT
BEGIN:VEVENT
DTSTART;TZID=Europe/Paris:20300424T180000
DTEND;TZID=Europe/Paris:20300424T190000
DTSTAMP:20260424T064421
CREATED:20250731T154643Z
LAST-MODIFIED:20250731T154643Z
UID:10009143-1903284000-1903287600@www.ecsautoecole.fr
SUMMARY:Cours de code AMC Formation
DESCRIPTION:
URL:https://www.ecsautoecole.fr/event/cours-de-code-amc-formation/2030-04-24/
LOCATION:AMC FORMATION la flèche
CATEGORIES:Cours de Code
END:VEVENT
BEGIN:VEVENT
DTSTART;TZID=Europe/Paris:20300426T180000
DTEND;TZID=Europe/Paris:20300426T190000
DTSTAMP:20260424T064421
CREATED:20250724T140124Z
LAST-MODIFIED:20250728T124030Z
UID:10002085-1903456800-1903460400@www.ecsautoecole.fr
SUMMARY:Cours de code à Sablé
DESCRIPTION:
URL:https://www.ecsautoecole.fr/event/cours-de-code-3/2030-04-26/
LOCATION:sablé sur sarthe\, 48 rue du mans\, sablé sur sarthe\, 72300\, France
CATEGORIES:Cours de Code
END:VEVENT
BEGIN:VEVENT
DTSTART;TZID=Europe/Paris:20300426T180000
DTEND;TZID=Europe/Paris:20300426T190000
DTSTAMP:20260424T064421
CREATED:20250731T154800Z
LAST-MODIFIED:20250731T154800Z
UID:10009667-1903456800-1903460400@www.ecsautoecole.fr
SUMMARY:Cours de code AMC Formation
DESCRIPTION:
URL:https://www.ecsautoecole.fr/event/cours-de-code-la-fleche/2030-04-26/
LOCATION:AMC FORMATION la flèche
CATEGORIES:Cours de Code
END:VEVENT
BEGIN:VEVENT
DTSTART;TZID=Europe/Paris:20300427T100000
DTEND;TZID=Europe/Paris:20300427T110000
DTSTAMP:20260424T064421
CREATED:20250731T155102Z
LAST-MODIFIED:20250731T155102Z
UID:10010713-1903514400-1903518000@www.ecsautoecole.fr
SUMMARY:Cours de code AMC Formation
DESCRIPTION:
URL:https://www.ecsautoecole.fr/event/cours-de-code-6/2030-04-27/
LOCATION:AMC FORMATION la flèche
CATEGORIES:Cours de Code
END:VEVENT
BEGIN:VEVENT
DTSTART;TZID=Europe/Paris:20300427T130000
DTEND;TZID=Europe/Paris:20300427T140000
DTSTAMP:20260424T064421
CREATED:20250724T140337Z
LAST-MODIFIED:20250728T124054Z
UID:10004432-1903525200-1903528800@www.ecsautoecole.fr
SUMMARY:Cours de code à Sablé
DESCRIPTION:
URL:https://www.ecsautoecole.fr/event/cours-de-code-4/2030-04-27/
LOCATION:sablé sur sarthe\, 48 rue du mans\, sablé sur sarthe\, 72300\, France
CATEGORIES:Cours de Code
END:VEVENT
BEGIN:VEVENT
DTSTART;TZID=Europe/Paris:20300430T180000
DTEND;TZID=Europe/Paris:20300430T190000
DTSTAMP:20260424T064421
CREATED:20250724T072037Z
LAST-MODIFIED:20250728T124113Z
UID:10000259-1903802400-1903806000@www.ecsautoecole.fr
SUMMARY:Cours de code à Sablé
DESCRIPTION:
URL:https://www.ecsautoecole.fr/event/cours-de-code/2030-04-30/
LOCATION:sablé sur sarthe\, 48 rue du mans\, sablé sur sarthe\, 72300\, France
CATEGORIES:Cours de Code
END:VEVENT
END:VCALENDAR