BEGIN:VCALENDAR
VERSION:2.0
PRODID:-//ECS Formation Sabolienne - ECPv6.10.1.1//NONSGML v1.0//EN
CALSCALE:GREGORIAN
METHOD:PUBLISH
X-WR-CALNAME:ECS Formation Sabolienne
X-ORIGINAL-URL:https://www.ecsautoecole.fr
X-WR-CALDESC:Évènements pour ECS Formation Sabolienne
REFRESH-INTERVAL;VALUE=DURATION:PT1H
X-Robots-Tag:noindex
X-PUBLISHED-TTL:PT1H
BEGIN:VTIMEZONE
TZID:Europe/Paris
BEGIN:DAYLIGHT
TZOFFSETFROM:+0100
TZOFFSETTO:+0200
TZNAME:CEST
DTSTART:20300331T010000
END:DAYLIGHT
BEGIN:STANDARD
TZOFFSETFROM:+0200
TZOFFSETTO:+0100
TZNAME:CET
DTSTART:20301027T010000
END:STANDARD
END:VTIMEZONE
BEGIN:VEVENT
DTSTART;TZID=Europe/Paris:20300501T180000
DTEND;TZID=Europe/Paris:20300501T190000
DTSTAMP:20260424T113055
CREATED:20250724T110200Z
LAST-MODIFIED:20250728T124123Z
UID:10001042-1903888800-1903892400@www.ecsautoecole.fr
SUMMARY:cours de code à Sablé
DESCRIPTION:
URL:https://www.ecsautoecole.fr/event/cours-de-code-2/2030-05-01/
LOCATION:sablé sur sarthe\, 48 rue du mans\, sablé sur sarthe\, 72300\, France
CATEGORIES:Cours de Code
END:VEVENT
BEGIN:VEVENT
DTSTART;TZID=Europe/Paris:20300501T180000
DTEND;TZID=Europe/Paris:20300501T190000
DTSTAMP:20260424T113055
CREATED:20250731T154643Z
LAST-MODIFIED:20250731T154643Z
UID:10009144-1903888800-1903892400@www.ecsautoecole.fr
SUMMARY:Cours de code AMC Formation
DESCRIPTION:
URL:https://www.ecsautoecole.fr/event/cours-de-code-amc-formation/2030-05-01/
LOCATION:AMC FORMATION la flèche
CATEGORIES:Cours de Code
END:VEVENT
BEGIN:VEVENT
DTSTART;TZID=Europe/Paris:20300503T180000
DTEND;TZID=Europe/Paris:20300503T190000
DTSTAMP:20260424T113055
CREATED:20250724T140124Z
LAST-MODIFIED:20250728T124030Z
UID:10002086-1904061600-1904065200@www.ecsautoecole.fr
SUMMARY:Cours de code à Sablé
DESCRIPTION:
URL:https://www.ecsautoecole.fr/event/cours-de-code-3/2030-05-03/
LOCATION:sablé sur sarthe\, 48 rue du mans\, sablé sur sarthe\, 72300\, France
CATEGORIES:Cours de Code
END:VEVENT
BEGIN:VEVENT
DTSTART;TZID=Europe/Paris:20300503T180000
DTEND;TZID=Europe/Paris:20300503T190000
DTSTAMP:20260424T113055
CREATED:20250731T154800Z
LAST-MODIFIED:20250731T154800Z
UID:10009668-1904061600-1904065200@www.ecsautoecole.fr
SUMMARY:Cours de code AMC Formation
DESCRIPTION:
URL:https://www.ecsautoecole.fr/event/cours-de-code-la-fleche/2030-05-03/
LOCATION:AMC FORMATION la flèche
CATEGORIES:Cours de Code
END:VEVENT
BEGIN:VEVENT
DTSTART;TZID=Europe/Paris:20300504T100000
DTEND;TZID=Europe/Paris:20300504T110000
DTSTAMP:20260424T113055
CREATED:20250731T155102Z
LAST-MODIFIED:20250731T155102Z
UID:10010714-1904119200-1904122800@www.ecsautoecole.fr
SUMMARY:Cours de code AMC Formation
DESCRIPTION:
URL:https://www.ecsautoecole.fr/event/cours-de-code-6/2030-05-04/
LOCATION:AMC FORMATION la flèche
CATEGORIES:Cours de Code
END:VEVENT
BEGIN:VEVENT
DTSTART;TZID=Europe/Paris:20300504T130000
DTEND;TZID=Europe/Paris:20300504T140000
DTSTAMP:20260424T113055
CREATED:20250724T140337Z
LAST-MODIFIED:20250728T124054Z
UID:10004433-1904130000-1904133600@www.ecsautoecole.fr
SUMMARY:Cours de code à Sablé
DESCRIPTION:
URL:https://www.ecsautoecole.fr/event/cours-de-code-4/2030-05-04/
LOCATION:sablé sur sarthe\, 48 rue du mans\, sablé sur sarthe\, 72300\, France
CATEGORIES:Cours de Code
END:VEVENT
BEGIN:VEVENT
DTSTART;TZID=Europe/Paris:20300507T180000
DTEND;TZID=Europe/Paris:20300507T190000
DTSTAMP:20260424T113055
CREATED:20250724T072037Z
LAST-MODIFIED:20250728T124113Z
UID:10000260-1904407200-1904410800@www.ecsautoecole.fr
SUMMARY:Cours de code à Sablé
DESCRIPTION:
URL:https://www.ecsautoecole.fr/event/cours-de-code/2030-05-07/
LOCATION:sablé sur sarthe\, 48 rue du mans\, sablé sur sarthe\, 72300\, France
CATEGORIES:Cours de Code
END:VEVENT
BEGIN:VEVENT
DTSTART;TZID=Europe/Paris:20300508T180000
DTEND;TZID=Europe/Paris:20300508T190000
DTSTAMP:20260424T113055
CREATED:20250724T110200Z
LAST-MODIFIED:20250728T124123Z
UID:10001043-1904493600-1904497200@www.ecsautoecole.fr
SUMMARY:cours de code à Sablé
DESCRIPTION:
URL:https://www.ecsautoecole.fr/event/cours-de-code-2/2030-05-08/
LOCATION:sablé sur sarthe\, 48 rue du mans\, sablé sur sarthe\, 72300\, France
CATEGORIES:Cours de Code
END:VEVENT
BEGIN:VEVENT
DTSTART;TZID=Europe/Paris:20300508T180000
DTEND;TZID=Europe/Paris:20300508T190000
DTSTAMP:20260424T113055
CREATED:20250731T154643Z
LAST-MODIFIED:20250731T154643Z
UID:10009145-1904493600-1904497200@www.ecsautoecole.fr
SUMMARY:Cours de code AMC Formation
DESCRIPTION:
URL:https://www.ecsautoecole.fr/event/cours-de-code-amc-formation/2030-05-08/
LOCATION:AMC FORMATION la flèche
CATEGORIES:Cours de Code
END:VEVENT
BEGIN:VEVENT
DTSTART;TZID=Europe/Paris:20300510T180000
DTEND;TZID=Europe/Paris:20300510T190000
DTSTAMP:20260424T113055
CREATED:20250724T140124Z
LAST-MODIFIED:20250728T124030Z
UID:10002087-1904666400-1904670000@www.ecsautoecole.fr
SUMMARY:Cours de code à Sablé
DESCRIPTION:
URL:https://www.ecsautoecole.fr/event/cours-de-code-3/2030-05-10/
LOCATION:sablé sur sarthe\, 48 rue du mans\, sablé sur sarthe\, 72300\, France
CATEGORIES:Cours de Code
END:VEVENT
BEGIN:VEVENT
DTSTART;TZID=Europe/Paris:20300510T180000
DTEND;TZID=Europe/Paris:20300510T190000
DTSTAMP:20260424T113055
CREATED:20250731T154800Z
LAST-MODIFIED:20250731T154800Z
UID:10009669-1904666400-1904670000@www.ecsautoecole.fr
SUMMARY:Cours de code AMC Formation
DESCRIPTION:
URL:https://www.ecsautoecole.fr/event/cours-de-code-la-fleche/2030-05-10/
LOCATION:AMC FORMATION la flèche
CATEGORIES:Cours de Code
END:VEVENT
BEGIN:VEVENT
DTSTART;TZID=Europe/Paris:20300511T100000
DTEND;TZID=Europe/Paris:20300511T110000
DTSTAMP:20260424T113055
CREATED:20250731T155102Z
LAST-MODIFIED:20250731T155102Z
UID:10010715-1904724000-1904727600@www.ecsautoecole.fr
SUMMARY:Cours de code AMC Formation
DESCRIPTION:
URL:https://www.ecsautoecole.fr/event/cours-de-code-6/2030-05-11/
LOCATION:AMC FORMATION la flèche
CATEGORIES:Cours de Code
END:VEVENT
BEGIN:VEVENT
DTSTART;TZID=Europe/Paris:20300511T130000
DTEND;TZID=Europe/Paris:20300511T140000
DTSTAMP:20260424T113055
CREATED:20250724T140337Z
LAST-MODIFIED:20250728T124054Z
UID:10004434-1904734800-1904738400@www.ecsautoecole.fr
SUMMARY:Cours de code à Sablé
DESCRIPTION:
URL:https://www.ecsautoecole.fr/event/cours-de-code-4/2030-05-11/
LOCATION:sablé sur sarthe\, 48 rue du mans\, sablé sur sarthe\, 72300\, France
CATEGORIES:Cours de Code
END:VEVENT
BEGIN:VEVENT
DTSTART;TZID=Europe/Paris:20300514T180000
DTEND;TZID=Europe/Paris:20300514T190000
DTSTAMP:20260424T113055
CREATED:20250724T072037Z
LAST-MODIFIED:20250728T124113Z
UID:10000261-1905012000-1905015600@www.ecsautoecole.fr
SUMMARY:Cours de code à Sablé
DESCRIPTION:
URL:https://www.ecsautoecole.fr/event/cours-de-code/2030-05-14/
LOCATION:sablé sur sarthe\, 48 rue du mans\, sablé sur sarthe\, 72300\, France
CATEGORIES:Cours de Code
END:VEVENT
BEGIN:VEVENT
DTSTART;TZID=Europe/Paris:20300515T180000
DTEND;TZID=Europe/Paris:20300515T190000
DTSTAMP:20260424T113055
CREATED:20250724T110200Z
LAST-MODIFIED:20250728T124123Z
UID:10001044-1905098400-1905102000@www.ecsautoecole.fr
SUMMARY:cours de code à Sablé
DESCRIPTION:
URL:https://www.ecsautoecole.fr/event/cours-de-code-2/2030-05-15/
LOCATION:sablé sur sarthe\, 48 rue du mans\, sablé sur sarthe\, 72300\, France
CATEGORIES:Cours de Code
END:VEVENT
BEGIN:VEVENT
DTSTART;TZID=Europe/Paris:20300515T180000
DTEND;TZID=Europe/Paris:20300515T190000
DTSTAMP:20260424T113055
CREATED:20250731T154643Z
LAST-MODIFIED:20250731T154643Z
UID:10009146-1905098400-1905102000@www.ecsautoecole.fr
SUMMARY:Cours de code AMC Formation
DESCRIPTION:
URL:https://www.ecsautoecole.fr/event/cours-de-code-amc-formation/2030-05-15/
LOCATION:AMC FORMATION la flèche
CATEGORIES:Cours de Code
END:VEVENT
BEGIN:VEVENT
DTSTART;TZID=Europe/Paris:20300517T180000
DTEND;TZID=Europe/Paris:20300517T190000
DTSTAMP:20260424T113055
CREATED:20250724T140124Z
LAST-MODIFIED:20250728T124030Z
UID:10002088-1905271200-1905274800@www.ecsautoecole.fr
SUMMARY:Cours de code à Sablé
DESCRIPTION:
URL:https://www.ecsautoecole.fr/event/cours-de-code-3/2030-05-17/
LOCATION:sablé sur sarthe\, 48 rue du mans\, sablé sur sarthe\, 72300\, France
CATEGORIES:Cours de Code
END:VEVENT
BEGIN:VEVENT
DTSTART;TZID=Europe/Paris:20300517T180000
DTEND;TZID=Europe/Paris:20300517T190000
DTSTAMP:20260424T113055
CREATED:20250731T154800Z
LAST-MODIFIED:20250731T154800Z
UID:10009670-1905271200-1905274800@www.ecsautoecole.fr
SUMMARY:Cours de code AMC Formation
DESCRIPTION:
URL:https://www.ecsautoecole.fr/event/cours-de-code-la-fleche/2030-05-17/
LOCATION:AMC FORMATION la flèche
CATEGORIES:Cours de Code
END:VEVENT
BEGIN:VEVENT
DTSTART;TZID=Europe/Paris:20300518T100000
DTEND;TZID=Europe/Paris:20300518T110000
DTSTAMP:20260424T113055
CREATED:20250731T155102Z
LAST-MODIFIED:20250731T155102Z
UID:10010716-1905328800-1905332400@www.ecsautoecole.fr
SUMMARY:Cours de code AMC Formation
DESCRIPTION:
URL:https://www.ecsautoecole.fr/event/cours-de-code-6/2030-05-18/
LOCATION:AMC FORMATION la flèche
CATEGORIES:Cours de Code
END:VEVENT
BEGIN:VEVENT
DTSTART;TZID=Europe/Paris:20300518T130000
DTEND;TZID=Europe/Paris:20300518T140000
DTSTAMP:20260424T113055
CREATED:20250724T140337Z
LAST-MODIFIED:20250728T124054Z
UID:10004435-1905339600-1905343200@www.ecsautoecole.fr
SUMMARY:Cours de code à Sablé
DESCRIPTION:
URL:https://www.ecsautoecole.fr/event/cours-de-code-4/2030-05-18/
LOCATION:sablé sur sarthe\, 48 rue du mans\, sablé sur sarthe\, 72300\, France
CATEGORIES:Cours de Code
END:VEVENT
BEGIN:VEVENT
DTSTART;TZID=Europe/Paris:20300521T180000
DTEND;TZID=Europe/Paris:20300521T190000
DTSTAMP:20260424T113055
CREATED:20250724T072037Z
LAST-MODIFIED:20250728T124113Z
UID:10000262-1905616800-1905620400@www.ecsautoecole.fr
SUMMARY:Cours de code à Sablé
DESCRIPTION:
URL:https://www.ecsautoecole.fr/event/cours-de-code/2030-05-21/
LOCATION:sablé sur sarthe\, 48 rue du mans\, sablé sur sarthe\, 72300\, France
CATEGORIES:Cours de Code
END:VEVENT
BEGIN:VEVENT
DTSTART;TZID=Europe/Paris:20300522T180000
DTEND;TZID=Europe/Paris:20300522T190000
DTSTAMP:20260424T113055
CREATED:20250724T110200Z
LAST-MODIFIED:20250728T124123Z
UID:10001045-1905703200-1905706800@www.ecsautoecole.fr
SUMMARY:cours de code à Sablé
DESCRIPTION:
URL:https://www.ecsautoecole.fr/event/cours-de-code-2/2030-05-22/
LOCATION:sablé sur sarthe\, 48 rue du mans\, sablé sur sarthe\, 72300\, France
CATEGORIES:Cours de Code
END:VEVENT
BEGIN:VEVENT
DTSTART;TZID=Europe/Paris:20300522T180000
DTEND;TZID=Europe/Paris:20300522T190000
DTSTAMP:20260424T113055
CREATED:20250731T154643Z
LAST-MODIFIED:20250731T154643Z
UID:10009147-1905703200-1905706800@www.ecsautoecole.fr
SUMMARY:Cours de code AMC Formation
DESCRIPTION:
URL:https://www.ecsautoecole.fr/event/cours-de-code-amc-formation/2030-05-22/
LOCATION:AMC FORMATION la flèche
CATEGORIES:Cours de Code
END:VEVENT
BEGIN:VEVENT
DTSTART;TZID=Europe/Paris:20300524T180000
DTEND;TZID=Europe/Paris:20300524T190000
DTSTAMP:20260424T113055
CREATED:20250724T140124Z
LAST-MODIFIED:20250728T124030Z
UID:10002089-1905876000-1905879600@www.ecsautoecole.fr
SUMMARY:Cours de code à Sablé
DESCRIPTION:
URL:https://www.ecsautoecole.fr/event/cours-de-code-3/2030-05-24/
LOCATION:sablé sur sarthe\, 48 rue du mans\, sablé sur sarthe\, 72300\, France
CATEGORIES:Cours de Code
END:VEVENT
BEGIN:VEVENT
DTSTART;TZID=Europe/Paris:20300524T180000
DTEND;TZID=Europe/Paris:20300524T190000
DTSTAMP:20260424T113055
CREATED:20250731T154800Z
LAST-MODIFIED:20250731T154800Z
UID:10009671-1905876000-1905879600@www.ecsautoecole.fr
SUMMARY:Cours de code AMC Formation
DESCRIPTION:
URL:https://www.ecsautoecole.fr/event/cours-de-code-la-fleche/2030-05-24/
LOCATION:AMC FORMATION la flèche
CATEGORIES:Cours de Code
END:VEVENT
BEGIN:VEVENT
DTSTART;TZID=Europe/Paris:20300525T100000
DTEND;TZID=Europe/Paris:20300525T110000
DTSTAMP:20260424T113055
CREATED:20250731T155102Z
LAST-MODIFIED:20250731T155102Z
UID:10010717-1905933600-1905937200@www.ecsautoecole.fr
SUMMARY:Cours de code AMC Formation
DESCRIPTION:
URL:https://www.ecsautoecole.fr/event/cours-de-code-6/2030-05-25/
LOCATION:AMC FORMATION la flèche
CATEGORIES:Cours de Code
END:VEVENT
BEGIN:VEVENT
DTSTART;TZID=Europe/Paris:20300525T130000
DTEND;TZID=Europe/Paris:20300525T140000
DTSTAMP:20260424T113055
CREATED:20250724T140337Z
LAST-MODIFIED:20250728T124054Z
UID:10004436-1905944400-1905948000@www.ecsautoecole.fr
SUMMARY:Cours de code à Sablé
DESCRIPTION:
URL:https://www.ecsautoecole.fr/event/cours-de-code-4/2030-05-25/
LOCATION:sablé sur sarthe\, 48 rue du mans\, sablé sur sarthe\, 72300\, France
CATEGORIES:Cours de Code
END:VEVENT
BEGIN:VEVENT
DTSTART;TZID=Europe/Paris:20300528T180000
DTEND;TZID=Europe/Paris:20300528T190000
DTSTAMP:20260424T113055
CREATED:20250724T072037Z
LAST-MODIFIED:20250728T124113Z
UID:10000263-1906221600-1906225200@www.ecsautoecole.fr
SUMMARY:Cours de code à Sablé
DESCRIPTION:
URL:https://www.ecsautoecole.fr/event/cours-de-code/2030-05-28/
LOCATION:sablé sur sarthe\, 48 rue du mans\, sablé sur sarthe\, 72300\, France
CATEGORIES:Cours de Code
END:VEVENT
BEGIN:VEVENT
DTSTART;TZID=Europe/Paris:20300529T180000
DTEND;TZID=Europe/Paris:20300529T190000
DTSTAMP:20260424T113055
CREATED:20250724T110200Z
LAST-MODIFIED:20250728T124123Z
UID:10001046-1906308000-1906311600@www.ecsautoecole.fr
SUMMARY:cours de code à Sablé
DESCRIPTION:
URL:https://www.ecsautoecole.fr/event/cours-de-code-2/2030-05-29/
LOCATION:sablé sur sarthe\, 48 rue du mans\, sablé sur sarthe\, 72300\, France
CATEGORIES:Cours de Code
END:VEVENT
BEGIN:VEVENT
DTSTART;TZID=Europe/Paris:20300529T180000
DTEND;TZID=Europe/Paris:20300529T190000
DTSTAMP:20260424T113055
CREATED:20250731T154643Z
LAST-MODIFIED:20250731T154643Z
UID:10009148-1906308000-1906311600@www.ecsautoecole.fr
SUMMARY:Cours de code AMC Formation
DESCRIPTION:
URL:https://www.ecsautoecole.fr/event/cours-de-code-amc-formation/2030-05-29/
LOCATION:AMC FORMATION la flèche
CATEGORIES:Cours de Code
END:VEVENT
END:VCALENDAR