BEGIN:VCALENDAR
VERSION:2.0
PRODID:-//ECS Formation Sabolienne - ECPv6.10.1.1//NONSGML v1.0//EN
CALSCALE:GREGORIAN
METHOD:PUBLISH
X-WR-CALNAME:ECS Formation Sabolienne
X-ORIGINAL-URL:https://www.ecsautoecole.fr
X-WR-CALDESC:Évènements pour ECS Formation Sabolienne
REFRESH-INTERVAL;VALUE=DURATION:PT1H
X-Robots-Tag:noindex
X-PUBLISHED-TTL:PT1H
BEGIN:VTIMEZONE
TZID:Europe/Paris
BEGIN:DAYLIGHT
TZOFFSETFROM:+0100
TZOFFSETTO:+0200
TZNAME:CEST
DTSTART:20270328T010000
END:DAYLIGHT
BEGIN:STANDARD
TZOFFSETFROM:+0200
TZOFFSETTO:+0100
TZNAME:CET
DTSTART:20271031T010000
END:STANDARD
END:VTIMEZONE
BEGIN:VEVENT
DTSTART;TZID=Europe/Paris:20270929T180000
DTEND;TZID=Europe/Paris:20270929T190000
DTSTAMP:20260421T200326
CREATED:20250731T154643Z
LAST-MODIFIED:20250731T154643Z
UID:10009009-1822240800-1822244400@www.ecsautoecole.fr
SUMMARY:Cours de code AMC Formation
DESCRIPTION:
URL:https://www.ecsautoecole.fr/event/cours-de-code-amc-formation/2027-09-29/
LOCATION:AMC FORMATION la flèche
CATEGORIES:Cours de Code
END:VEVENT
BEGIN:VEVENT
DTSTART;TZID=Europe/Paris:20270929T180000
DTEND;TZID=Europe/Paris:20270929T190000
DTSTAMP:20260421T200326
CREATED:20250724T110200Z
LAST-MODIFIED:20250728T124123Z
UID:10000907-1822240800-1822244400@www.ecsautoecole.fr
SUMMARY:cours de code à Sablé
DESCRIPTION:
URL:https://www.ecsautoecole.fr/event/cours-de-code-2/2027-09-29/
LOCATION:sablé sur sarthe\, 48 rue du mans\, sablé sur sarthe\, 72300\, France
CATEGORIES:Cours de Code
END:VEVENT
BEGIN:VEVENT
DTSTART;TZID=Europe/Paris:20270928T180000
DTEND;TZID=Europe/Paris:20270928T190000
DTSTAMP:20260421T200326
CREATED:20250724T072037Z
LAST-MODIFIED:20250728T124113Z
UID:10000124-1822154400-1822158000@www.ecsautoecole.fr
SUMMARY:Cours de code à Sablé
DESCRIPTION:
URL:https://www.ecsautoecole.fr/event/cours-de-code/2027-09-28/
LOCATION:sablé sur sarthe\, 48 rue du mans\, sablé sur sarthe\, 72300\, France
CATEGORIES:Cours de Code
END:VEVENT
BEGIN:VEVENT
DTSTART;TZID=Europe/Paris:20270925T130000
DTEND;TZID=Europe/Paris:20270925T140000
DTSTAMP:20260421T200326
CREATED:20250724T140337Z
LAST-MODIFIED:20250728T124054Z
UID:10004297-1821877200-1821880800@www.ecsautoecole.fr
SUMMARY:Cours de code à Sablé
DESCRIPTION:
URL:https://www.ecsautoecole.fr/event/cours-de-code-4/2027-09-25/
LOCATION:sablé sur sarthe\, 48 rue du mans\, sablé sur sarthe\, 72300\, France
CATEGORIES:Cours de Code
END:VEVENT
BEGIN:VEVENT
DTSTART;TZID=Europe/Paris:20270925T100000
DTEND;TZID=Europe/Paris:20270925T110000
DTSTAMP:20260421T200326
CREATED:20250731T155102Z
LAST-MODIFIED:20250731T155102Z
UID:10010578-1821866400-1821870000@www.ecsautoecole.fr
SUMMARY:Cours de code AMC Formation
DESCRIPTION:
URL:https://www.ecsautoecole.fr/event/cours-de-code-6/2027-09-25/
LOCATION:AMC FORMATION la flèche
CATEGORIES:Cours de Code
END:VEVENT
BEGIN:VEVENT
DTSTART;TZID=Europe/Paris:20270924T180000
DTEND;TZID=Europe/Paris:20270924T190000
DTSTAMP:20260421T200326
CREATED:20250731T154800Z
LAST-MODIFIED:20250731T154800Z
UID:10009532-1821808800-1821812400@www.ecsautoecole.fr
SUMMARY:Cours de code AMC Formation
DESCRIPTION:
URL:https://www.ecsautoecole.fr/event/cours-de-code-la-fleche/2027-09-24/
LOCATION:AMC FORMATION la flèche
CATEGORIES:Cours de Code
END:VEVENT
BEGIN:VEVENT
DTSTART;TZID=Europe/Paris:20270924T180000
DTEND;TZID=Europe/Paris:20270924T190000
DTSTAMP:20260421T200326
CREATED:20250724T140124Z
LAST-MODIFIED:20250728T124030Z
UID:10001950-1821808800-1821812400@www.ecsautoecole.fr
SUMMARY:Cours de code à Sablé
DESCRIPTION:
URL:https://www.ecsautoecole.fr/event/cours-de-code-3/2027-09-24/
LOCATION:sablé sur sarthe\, 48 rue du mans\, sablé sur sarthe\, 72300\, France
CATEGORIES:Cours de Code
END:VEVENT
BEGIN:VEVENT
DTSTART;TZID=Europe/Paris:20270922T180000
DTEND;TZID=Europe/Paris:20270922T190000
DTSTAMP:20260421T200326
CREATED:20250731T154643Z
LAST-MODIFIED:20250731T154643Z
UID:10009008-1821636000-1821639600@www.ecsautoecole.fr
SUMMARY:Cours de code AMC Formation
DESCRIPTION:
URL:https://www.ecsautoecole.fr/event/cours-de-code-amc-formation/2027-09-22/
LOCATION:AMC FORMATION la flèche
CATEGORIES:Cours de Code
END:VEVENT
BEGIN:VEVENT
DTSTART;TZID=Europe/Paris:20270922T180000
DTEND;TZID=Europe/Paris:20270922T190000
DTSTAMP:20260421T200326
CREATED:20250724T110200Z
LAST-MODIFIED:20250728T124123Z
UID:10000906-1821636000-1821639600@www.ecsautoecole.fr
SUMMARY:cours de code à Sablé
DESCRIPTION:
URL:https://www.ecsautoecole.fr/event/cours-de-code-2/2027-09-22/
LOCATION:sablé sur sarthe\, 48 rue du mans\, sablé sur sarthe\, 72300\, France
CATEGORIES:Cours de Code
END:VEVENT
BEGIN:VEVENT
DTSTART;TZID=Europe/Paris:20270921T180000
DTEND;TZID=Europe/Paris:20270921T190000
DTSTAMP:20260421T200326
CREATED:20250724T072037Z
LAST-MODIFIED:20250728T124113Z
UID:10000123-1821549600-1821553200@www.ecsautoecole.fr
SUMMARY:Cours de code à Sablé
DESCRIPTION:
URL:https://www.ecsautoecole.fr/event/cours-de-code/2027-09-21/
LOCATION:sablé sur sarthe\, 48 rue du mans\, sablé sur sarthe\, 72300\, France
CATEGORIES:Cours de Code
END:VEVENT
BEGIN:VEVENT
DTSTART;TZID=Europe/Paris:20270918T130000
DTEND;TZID=Europe/Paris:20270918T140000
DTSTAMP:20260421T200326
CREATED:20250724T140337Z
LAST-MODIFIED:20250728T124054Z
UID:10004296-1821272400-1821276000@www.ecsautoecole.fr
SUMMARY:Cours de code à Sablé
DESCRIPTION:
URL:https://www.ecsautoecole.fr/event/cours-de-code-4/2027-09-18/
LOCATION:sablé sur sarthe\, 48 rue du mans\, sablé sur sarthe\, 72300\, France
CATEGORIES:Cours de Code
END:VEVENT
BEGIN:VEVENT
DTSTART;TZID=Europe/Paris:20270918T100000
DTEND;TZID=Europe/Paris:20270918T110000
DTSTAMP:20260421T200326
CREATED:20250731T155102Z
LAST-MODIFIED:20250731T155102Z
UID:10010577-1821261600-1821265200@www.ecsautoecole.fr
SUMMARY:Cours de code AMC Formation
DESCRIPTION:
URL:https://www.ecsautoecole.fr/event/cours-de-code-6/2027-09-18/
LOCATION:AMC FORMATION la flèche
CATEGORIES:Cours de Code
END:VEVENT
BEGIN:VEVENT
DTSTART;TZID=Europe/Paris:20270917T180000
DTEND;TZID=Europe/Paris:20270917T190000
DTSTAMP:20260421T200326
CREATED:20250731T154800Z
LAST-MODIFIED:20250731T154800Z
UID:10009531-1821204000-1821207600@www.ecsautoecole.fr
SUMMARY:Cours de code AMC Formation
DESCRIPTION:
URL:https://www.ecsautoecole.fr/event/cours-de-code-la-fleche/2027-09-17/
LOCATION:AMC FORMATION la flèche
CATEGORIES:Cours de Code
END:VEVENT
BEGIN:VEVENT
DTSTART;TZID=Europe/Paris:20270917T180000
DTEND;TZID=Europe/Paris:20270917T190000
DTSTAMP:20260421T200326
CREATED:20250724T140124Z
LAST-MODIFIED:20250728T124030Z
UID:10001949-1821204000-1821207600@www.ecsautoecole.fr
SUMMARY:Cours de code à Sablé
DESCRIPTION:
URL:https://www.ecsautoecole.fr/event/cours-de-code-3/2027-09-17/
LOCATION:sablé sur sarthe\, 48 rue du mans\, sablé sur sarthe\, 72300\, France
CATEGORIES:Cours de Code
END:VEVENT
BEGIN:VEVENT
DTSTART;TZID=Europe/Paris:20270915T180000
DTEND;TZID=Europe/Paris:20270915T190000
DTSTAMP:20260421T200326
CREATED:20250731T154643Z
LAST-MODIFIED:20250731T154643Z
UID:10009007-1821031200-1821034800@www.ecsautoecole.fr
SUMMARY:Cours de code AMC Formation
DESCRIPTION:
URL:https://www.ecsautoecole.fr/event/cours-de-code-amc-formation/2027-09-15/
LOCATION:AMC FORMATION la flèche
CATEGORIES:Cours de Code
END:VEVENT
BEGIN:VEVENT
DTSTART;TZID=Europe/Paris:20270915T180000
DTEND;TZID=Europe/Paris:20270915T190000
DTSTAMP:20260421T200326
CREATED:20250724T110200Z
LAST-MODIFIED:20250728T124123Z
UID:10000905-1821031200-1821034800@www.ecsautoecole.fr
SUMMARY:cours de code à Sablé
DESCRIPTION:
URL:https://www.ecsautoecole.fr/event/cours-de-code-2/2027-09-15/
LOCATION:sablé sur sarthe\, 48 rue du mans\, sablé sur sarthe\, 72300\, France
CATEGORIES:Cours de Code
END:VEVENT
BEGIN:VEVENT
DTSTART;TZID=Europe/Paris:20270914T180000
DTEND;TZID=Europe/Paris:20270914T190000
DTSTAMP:20260421T200326
CREATED:20250724T072037Z
LAST-MODIFIED:20250728T124113Z
UID:10000122-1820944800-1820948400@www.ecsautoecole.fr
SUMMARY:Cours de code à Sablé
DESCRIPTION:
URL:https://www.ecsautoecole.fr/event/cours-de-code/2027-09-14/
LOCATION:sablé sur sarthe\, 48 rue du mans\, sablé sur sarthe\, 72300\, France
CATEGORIES:Cours de Code
END:VEVENT
BEGIN:VEVENT
DTSTART;TZID=Europe/Paris:20270911T130000
DTEND;TZID=Europe/Paris:20270911T140000
DTSTAMP:20260421T200326
CREATED:20250724T140337Z
LAST-MODIFIED:20250728T124054Z
UID:10004295-1820667600-1820671200@www.ecsautoecole.fr
SUMMARY:Cours de code à Sablé
DESCRIPTION:
URL:https://www.ecsautoecole.fr/event/cours-de-code-4/2027-09-11/
LOCATION:sablé sur sarthe\, 48 rue du mans\, sablé sur sarthe\, 72300\, France
CATEGORIES:Cours de Code
END:VEVENT
BEGIN:VEVENT
DTSTART;TZID=Europe/Paris:20270911T100000
DTEND;TZID=Europe/Paris:20270911T110000
DTSTAMP:20260421T200326
CREATED:20250731T155102Z
LAST-MODIFIED:20250731T155102Z
UID:10010576-1820656800-1820660400@www.ecsautoecole.fr
SUMMARY:Cours de code AMC Formation
DESCRIPTION:
URL:https://www.ecsautoecole.fr/event/cours-de-code-6/2027-09-11/
LOCATION:AMC FORMATION la flèche
CATEGORIES:Cours de Code
END:VEVENT
BEGIN:VEVENT
DTSTART;TZID=Europe/Paris:20270910T180000
DTEND;TZID=Europe/Paris:20270910T190000
DTSTAMP:20260421T200326
CREATED:20250731T154800Z
LAST-MODIFIED:20250731T154800Z
UID:10009530-1820599200-1820602800@www.ecsautoecole.fr
SUMMARY:Cours de code AMC Formation
DESCRIPTION:
URL:https://www.ecsautoecole.fr/event/cours-de-code-la-fleche/2027-09-10/
LOCATION:AMC FORMATION la flèche
CATEGORIES:Cours de Code
END:VEVENT
BEGIN:VEVENT
DTSTART;TZID=Europe/Paris:20270910T180000
DTEND;TZID=Europe/Paris:20270910T190000
DTSTAMP:20260421T200326
CREATED:20250724T140124Z
LAST-MODIFIED:20250728T124030Z
UID:10001948-1820599200-1820602800@www.ecsautoecole.fr
SUMMARY:Cours de code à Sablé
DESCRIPTION:
URL:https://www.ecsautoecole.fr/event/cours-de-code-3/2027-09-10/
LOCATION:sablé sur sarthe\, 48 rue du mans\, sablé sur sarthe\, 72300\, France
CATEGORIES:Cours de Code
END:VEVENT
BEGIN:VEVENT
DTSTART;TZID=Europe/Paris:20270908T180000
DTEND;TZID=Europe/Paris:20270908T190000
DTSTAMP:20260421T200326
CREATED:20250731T154643Z
LAST-MODIFIED:20250731T154643Z
UID:10009006-1820426400-1820430000@www.ecsautoecole.fr
SUMMARY:Cours de code AMC Formation
DESCRIPTION:
URL:https://www.ecsautoecole.fr/event/cours-de-code-amc-formation/2027-09-08/
LOCATION:AMC FORMATION la flèche
CATEGORIES:Cours de Code
END:VEVENT
BEGIN:VEVENT
DTSTART;TZID=Europe/Paris:20270908T180000
DTEND;TZID=Europe/Paris:20270908T190000
DTSTAMP:20260421T200326
CREATED:20250724T110200Z
LAST-MODIFIED:20250728T124123Z
UID:10000904-1820426400-1820430000@www.ecsautoecole.fr
SUMMARY:cours de code à Sablé
DESCRIPTION:
URL:https://www.ecsautoecole.fr/event/cours-de-code-2/2027-09-08/
LOCATION:sablé sur sarthe\, 48 rue du mans\, sablé sur sarthe\, 72300\, France
CATEGORIES:Cours de Code
END:VEVENT
BEGIN:VEVENT
DTSTART;TZID=Europe/Paris:20270907T180000
DTEND;TZID=Europe/Paris:20270907T190000
DTSTAMP:20260421T200326
CREATED:20250724T072037Z
LAST-MODIFIED:20250728T124113Z
UID:10000121-1820340000-1820343600@www.ecsautoecole.fr
SUMMARY:Cours de code à Sablé
DESCRIPTION:
URL:https://www.ecsautoecole.fr/event/cours-de-code/2027-09-07/
LOCATION:sablé sur sarthe\, 48 rue du mans\, sablé sur sarthe\, 72300\, France
CATEGORIES:Cours de Code
END:VEVENT
BEGIN:VEVENT
DTSTART;TZID=Europe/Paris:20270904T130000
DTEND;TZID=Europe/Paris:20270904T140000
DTSTAMP:20260421T200326
CREATED:20250724T140337Z
LAST-MODIFIED:20250728T124054Z
UID:10004294-1820062800-1820066400@www.ecsautoecole.fr
SUMMARY:Cours de code à Sablé
DESCRIPTION:
URL:https://www.ecsautoecole.fr/event/cours-de-code-4/2027-09-04/
LOCATION:sablé sur sarthe\, 48 rue du mans\, sablé sur sarthe\, 72300\, France
CATEGORIES:Cours de Code
END:VEVENT
BEGIN:VEVENT
DTSTART;TZID=Europe/Paris:20270904T100000
DTEND;TZID=Europe/Paris:20270904T110000
DTSTAMP:20260421T200326
CREATED:20250731T155102Z
LAST-MODIFIED:20250731T155102Z
UID:10010575-1820052000-1820055600@www.ecsautoecole.fr
SUMMARY:Cours de code AMC Formation
DESCRIPTION:
URL:https://www.ecsautoecole.fr/event/cours-de-code-6/2027-09-04/
LOCATION:AMC FORMATION la flèche
CATEGORIES:Cours de Code
END:VEVENT
BEGIN:VEVENT
DTSTART;TZID=Europe/Paris:20270903T180000
DTEND;TZID=Europe/Paris:20270903T190000
DTSTAMP:20260421T200326
CREATED:20250731T154800Z
LAST-MODIFIED:20250731T154800Z
UID:10009529-1819994400-1819998000@www.ecsautoecole.fr
SUMMARY:Cours de code AMC Formation
DESCRIPTION:
URL:https://www.ecsautoecole.fr/event/cours-de-code-la-fleche/2027-09-03/
LOCATION:AMC FORMATION la flèche
CATEGORIES:Cours de Code
END:VEVENT
BEGIN:VEVENT
DTSTART;TZID=Europe/Paris:20270903T180000
DTEND;TZID=Europe/Paris:20270903T190000
DTSTAMP:20260421T200326
CREATED:20250724T140124Z
LAST-MODIFIED:20250728T124030Z
UID:10001947-1819994400-1819998000@www.ecsautoecole.fr
SUMMARY:Cours de code à Sablé
DESCRIPTION:
URL:https://www.ecsautoecole.fr/event/cours-de-code-3/2027-09-03/
LOCATION:sablé sur sarthe\, 48 rue du mans\, sablé sur sarthe\, 72300\, France
CATEGORIES:Cours de Code
END:VEVENT
BEGIN:VEVENT
DTSTART;TZID=Europe/Paris:20270901T180000
DTEND;TZID=Europe/Paris:20270901T190000
DTSTAMP:20260421T200326
CREATED:20250731T154643Z
LAST-MODIFIED:20250731T154643Z
UID:10009005-1819821600-1819825200@www.ecsautoecole.fr
SUMMARY:Cours de code AMC Formation
DESCRIPTION:
URL:https://www.ecsautoecole.fr/event/cours-de-code-amc-formation/2027-09-01/
LOCATION:AMC FORMATION la flèche
CATEGORIES:Cours de Code
END:VEVENT
BEGIN:VEVENT
DTSTART;TZID=Europe/Paris:20270901T180000
DTEND;TZID=Europe/Paris:20270901T190000
DTSTAMP:20260421T200326
CREATED:20250724T110200Z
LAST-MODIFIED:20250728T124123Z
UID:10000903-1819821600-1819825200@www.ecsautoecole.fr
SUMMARY:cours de code à Sablé
DESCRIPTION:
URL:https://www.ecsautoecole.fr/event/cours-de-code-2/2027-09-01/
LOCATION:sablé sur sarthe\, 48 rue du mans\, sablé sur sarthe\, 72300\, France
CATEGORIES:Cours de Code
END:VEVENT
END:VCALENDAR