BEGIN:VCALENDAR
VERSION:2.0
PRODID:-//ECS Formation Sabolienne - ECPv6.10.1.1//NONSGML v1.0//EN
CALSCALE:GREGORIAN
METHOD:PUBLISH
X-WR-CALNAME:ECS Formation Sabolienne
X-ORIGINAL-URL:https://www.ecsautoecole.fr
X-WR-CALDESC:Évènements pour ECS Formation Sabolienne
REFRESH-INTERVAL;VALUE=DURATION:PT1H
X-Robots-Tag:noindex
X-PUBLISHED-TTL:PT1H
BEGIN:VTIMEZONE
TZID:Europe/Paris
BEGIN:DAYLIGHT
TZOFFSETFROM:+0100
TZOFFSETTO:+0200
TZNAME:CEST
DTSTART:20270328T010000
END:DAYLIGHT
BEGIN:STANDARD
TZOFFSETFROM:+0200
TZOFFSETTO:+0100
TZNAME:CET
DTSTART:20271031T010000
END:STANDARD
END:VTIMEZONE
BEGIN:VEVENT
DTSTART;TZID=Europe/Paris:20271130T180000
DTEND;TZID=Europe/Paris:20271130T190000
DTSTAMP:20260421T231918
CREATED:20250724T072037Z
LAST-MODIFIED:20250728T124113Z
UID:10000133-1827597600-1827601200@www.ecsautoecole.fr
SUMMARY:Cours de code à Sablé
DESCRIPTION:
URL:https://www.ecsautoecole.fr/event/cours-de-code/2027-11-30/
LOCATION:sablé sur sarthe\, 48 rue du mans\, sablé sur sarthe\, 72300\, France
CATEGORIES:Cours de Code
END:VEVENT
BEGIN:VEVENT
DTSTART;TZID=Europe/Paris:20271127T130000
DTEND;TZID=Europe/Paris:20271127T140000
DTSTAMP:20260421T231918
CREATED:20250724T140337Z
LAST-MODIFIED:20250728T124054Z
UID:10004306-1827320400-1827324000@www.ecsautoecole.fr
SUMMARY:Cours de code à Sablé
DESCRIPTION:
URL:https://www.ecsautoecole.fr/event/cours-de-code-4/2027-11-27/
LOCATION:sablé sur sarthe\, 48 rue du mans\, sablé sur sarthe\, 72300\, France
CATEGORIES:Cours de Code
END:VEVENT
BEGIN:VEVENT
DTSTART;TZID=Europe/Paris:20271127T100000
DTEND;TZID=Europe/Paris:20271127T110000
DTSTAMP:20260421T231918
CREATED:20250731T155102Z
LAST-MODIFIED:20250731T155102Z
UID:10010587-1827309600-1827313200@www.ecsautoecole.fr
SUMMARY:Cours de code AMC Formation
DESCRIPTION:
URL:https://www.ecsautoecole.fr/event/cours-de-code-6/2027-11-27/
LOCATION:AMC FORMATION la flèche
CATEGORIES:Cours de Code
END:VEVENT
BEGIN:VEVENT
DTSTART;TZID=Europe/Paris:20271126T180000
DTEND;TZID=Europe/Paris:20271126T190000
DTSTAMP:20260421T231918
CREATED:20250731T154800Z
LAST-MODIFIED:20250731T154800Z
UID:10009541-1827252000-1827255600@www.ecsautoecole.fr
SUMMARY:Cours de code AMC Formation
DESCRIPTION:
URL:https://www.ecsautoecole.fr/event/cours-de-code-la-fleche/2027-11-26/
LOCATION:AMC FORMATION la flèche
CATEGORIES:Cours de Code
END:VEVENT
BEGIN:VEVENT
DTSTART;TZID=Europe/Paris:20271126T180000
DTEND;TZID=Europe/Paris:20271126T190000
DTSTAMP:20260421T231918
CREATED:20250724T140124Z
LAST-MODIFIED:20250728T124030Z
UID:10001959-1827252000-1827255600@www.ecsautoecole.fr
SUMMARY:Cours de code à Sablé
DESCRIPTION:
URL:https://www.ecsautoecole.fr/event/cours-de-code-3/2027-11-26/
LOCATION:sablé sur sarthe\, 48 rue du mans\, sablé sur sarthe\, 72300\, France
CATEGORIES:Cours de Code
END:VEVENT
BEGIN:VEVENT
DTSTART;TZID=Europe/Paris:20271124T180000
DTEND;TZID=Europe/Paris:20271124T190000
DTSTAMP:20260421T231918
CREATED:20250731T154643Z
LAST-MODIFIED:20250731T154643Z
UID:10009017-1827079200-1827082800@www.ecsautoecole.fr
SUMMARY:Cours de code AMC Formation
DESCRIPTION:
URL:https://www.ecsautoecole.fr/event/cours-de-code-amc-formation/2027-11-24/
LOCATION:AMC FORMATION la flèche
CATEGORIES:Cours de Code
END:VEVENT
BEGIN:VEVENT
DTSTART;TZID=Europe/Paris:20271124T180000
DTEND;TZID=Europe/Paris:20271124T190000
DTSTAMP:20260421T231918
CREATED:20250724T110200Z
LAST-MODIFIED:20250728T124123Z
UID:10000915-1827079200-1827082800@www.ecsautoecole.fr
SUMMARY:cours de code à Sablé
DESCRIPTION:
URL:https://www.ecsautoecole.fr/event/cours-de-code-2/2027-11-24/
LOCATION:sablé sur sarthe\, 48 rue du mans\, sablé sur sarthe\, 72300\, France
CATEGORIES:Cours de Code
END:VEVENT
BEGIN:VEVENT
DTSTART;TZID=Europe/Paris:20271123T180000
DTEND;TZID=Europe/Paris:20271123T190000
DTSTAMP:20260421T231918
CREATED:20250724T072037Z
LAST-MODIFIED:20250728T124113Z
UID:10000132-1826992800-1826996400@www.ecsautoecole.fr
SUMMARY:Cours de code à Sablé
DESCRIPTION:
URL:https://www.ecsautoecole.fr/event/cours-de-code/2027-11-23/
LOCATION:sablé sur sarthe\, 48 rue du mans\, sablé sur sarthe\, 72300\, France
CATEGORIES:Cours de Code
END:VEVENT
BEGIN:VEVENT
DTSTART;TZID=Europe/Paris:20271120T130000
DTEND;TZID=Europe/Paris:20271120T140000
DTSTAMP:20260421T231918
CREATED:20250724T140337Z
LAST-MODIFIED:20250728T124054Z
UID:10004305-1826715600-1826719200@www.ecsautoecole.fr
SUMMARY:Cours de code à Sablé
DESCRIPTION:
URL:https://www.ecsautoecole.fr/event/cours-de-code-4/2027-11-20/
LOCATION:sablé sur sarthe\, 48 rue du mans\, sablé sur sarthe\, 72300\, France
CATEGORIES:Cours de Code
END:VEVENT
BEGIN:VEVENT
DTSTART;TZID=Europe/Paris:20271120T100000
DTEND;TZID=Europe/Paris:20271120T110000
DTSTAMP:20260421T231918
CREATED:20250731T155102Z
LAST-MODIFIED:20250731T155102Z
UID:10010586-1826704800-1826708400@www.ecsautoecole.fr
SUMMARY:Cours de code AMC Formation
DESCRIPTION:
URL:https://www.ecsautoecole.fr/event/cours-de-code-6/2027-11-20/
LOCATION:AMC FORMATION la flèche
CATEGORIES:Cours de Code
END:VEVENT
BEGIN:VEVENT
DTSTART;TZID=Europe/Paris:20271119T180000
DTEND;TZID=Europe/Paris:20271119T190000
DTSTAMP:20260421T231918
CREATED:20250731T154800Z
LAST-MODIFIED:20250731T154800Z
UID:10009540-1826647200-1826650800@www.ecsautoecole.fr
SUMMARY:Cours de code AMC Formation
DESCRIPTION:
URL:https://www.ecsautoecole.fr/event/cours-de-code-la-fleche/2027-11-19/
LOCATION:AMC FORMATION la flèche
CATEGORIES:Cours de Code
END:VEVENT
BEGIN:VEVENT
DTSTART;TZID=Europe/Paris:20271119T180000
DTEND;TZID=Europe/Paris:20271119T190000
DTSTAMP:20260421T231918
CREATED:20250724T140124Z
LAST-MODIFIED:20250728T124030Z
UID:10001958-1826647200-1826650800@www.ecsautoecole.fr
SUMMARY:Cours de code à Sablé
DESCRIPTION:
URL:https://www.ecsautoecole.fr/event/cours-de-code-3/2027-11-19/
LOCATION:sablé sur sarthe\, 48 rue du mans\, sablé sur sarthe\, 72300\, France
CATEGORIES:Cours de Code
END:VEVENT
BEGIN:VEVENT
DTSTART;TZID=Europe/Paris:20271117T180000
DTEND;TZID=Europe/Paris:20271117T190000
DTSTAMP:20260421T231918
CREATED:20250731T154643Z
LAST-MODIFIED:20250731T154643Z
UID:10009016-1826474400-1826478000@www.ecsautoecole.fr
SUMMARY:Cours de code AMC Formation
DESCRIPTION:
URL:https://www.ecsautoecole.fr/event/cours-de-code-amc-formation/2027-11-17/
LOCATION:AMC FORMATION la flèche
CATEGORIES:Cours de Code
END:VEVENT
BEGIN:VEVENT
DTSTART;TZID=Europe/Paris:20271117T180000
DTEND;TZID=Europe/Paris:20271117T190000
DTSTAMP:20260421T231918
CREATED:20250724T110200Z
LAST-MODIFIED:20250728T124123Z
UID:10000914-1826474400-1826478000@www.ecsautoecole.fr
SUMMARY:cours de code à Sablé
DESCRIPTION:
URL:https://www.ecsautoecole.fr/event/cours-de-code-2/2027-11-17/
LOCATION:sablé sur sarthe\, 48 rue du mans\, sablé sur sarthe\, 72300\, France
CATEGORIES:Cours de Code
END:VEVENT
BEGIN:VEVENT
DTSTART;TZID=Europe/Paris:20271116T180000
DTEND;TZID=Europe/Paris:20271116T190000
DTSTAMP:20260421T231918
CREATED:20250724T072037Z
LAST-MODIFIED:20250728T124113Z
UID:10000131-1826388000-1826391600@www.ecsautoecole.fr
SUMMARY:Cours de code à Sablé
DESCRIPTION:
URL:https://www.ecsautoecole.fr/event/cours-de-code/2027-11-16/
LOCATION:sablé sur sarthe\, 48 rue du mans\, sablé sur sarthe\, 72300\, France
CATEGORIES:Cours de Code
END:VEVENT
BEGIN:VEVENT
DTSTART;TZID=Europe/Paris:20271113T130000
DTEND;TZID=Europe/Paris:20271113T140000
DTSTAMP:20260421T231918
CREATED:20250724T140337Z
LAST-MODIFIED:20250728T124054Z
UID:10004304-1826110800-1826114400@www.ecsautoecole.fr
SUMMARY:Cours de code à Sablé
DESCRIPTION:
URL:https://www.ecsautoecole.fr/event/cours-de-code-4/2027-11-13/
LOCATION:sablé sur sarthe\, 48 rue du mans\, sablé sur sarthe\, 72300\, France
CATEGORIES:Cours de Code
END:VEVENT
BEGIN:VEVENT
DTSTART;TZID=Europe/Paris:20271113T100000
DTEND;TZID=Europe/Paris:20271113T110000
DTSTAMP:20260421T231918
CREATED:20250731T155102Z
LAST-MODIFIED:20250731T155102Z
UID:10010585-1826100000-1826103600@www.ecsautoecole.fr
SUMMARY:Cours de code AMC Formation
DESCRIPTION:
URL:https://www.ecsautoecole.fr/event/cours-de-code-6/2027-11-13/
LOCATION:AMC FORMATION la flèche
CATEGORIES:Cours de Code
END:VEVENT
BEGIN:VEVENT
DTSTART;TZID=Europe/Paris:20271112T180000
DTEND;TZID=Europe/Paris:20271112T190000
DTSTAMP:20260421T231918
CREATED:20250731T154800Z
LAST-MODIFIED:20250731T154800Z
UID:10009539-1826042400-1826046000@www.ecsautoecole.fr
SUMMARY:Cours de code AMC Formation
DESCRIPTION:
URL:https://www.ecsautoecole.fr/event/cours-de-code-la-fleche/2027-11-12/
LOCATION:AMC FORMATION la flèche
CATEGORIES:Cours de Code
END:VEVENT
BEGIN:VEVENT
DTSTART;TZID=Europe/Paris:20271112T180000
DTEND;TZID=Europe/Paris:20271112T190000
DTSTAMP:20260421T231918
CREATED:20250724T140124Z
LAST-MODIFIED:20250728T124030Z
UID:10001957-1826042400-1826046000@www.ecsautoecole.fr
SUMMARY:Cours de code à Sablé
DESCRIPTION:
URL:https://www.ecsautoecole.fr/event/cours-de-code-3/2027-11-12/
LOCATION:sablé sur sarthe\, 48 rue du mans\, sablé sur sarthe\, 72300\, France
CATEGORIES:Cours de Code
END:VEVENT
BEGIN:VEVENT
DTSTART;TZID=Europe/Paris:20271110T180000
DTEND;TZID=Europe/Paris:20271110T190000
DTSTAMP:20260421T231918
CREATED:20250731T154643Z
LAST-MODIFIED:20250731T154643Z
UID:10009015-1825869600-1825873200@www.ecsautoecole.fr
SUMMARY:Cours de code AMC Formation
DESCRIPTION:
URL:https://www.ecsautoecole.fr/event/cours-de-code-amc-formation/2027-11-10/
LOCATION:AMC FORMATION la flèche
CATEGORIES:Cours de Code
END:VEVENT
BEGIN:VEVENT
DTSTART;TZID=Europe/Paris:20271110T180000
DTEND;TZID=Europe/Paris:20271110T190000
DTSTAMP:20260421T231918
CREATED:20250724T110200Z
LAST-MODIFIED:20250728T124123Z
UID:10000913-1825869600-1825873200@www.ecsautoecole.fr
SUMMARY:cours de code à Sablé
DESCRIPTION:
URL:https://www.ecsautoecole.fr/event/cours-de-code-2/2027-11-10/
LOCATION:sablé sur sarthe\, 48 rue du mans\, sablé sur sarthe\, 72300\, France
CATEGORIES:Cours de Code
END:VEVENT
BEGIN:VEVENT
DTSTART;TZID=Europe/Paris:20271109T180000
DTEND;TZID=Europe/Paris:20271109T190000
DTSTAMP:20260421T231918
CREATED:20250724T072037Z
LAST-MODIFIED:20250728T124113Z
UID:10000130-1825783200-1825786800@www.ecsautoecole.fr
SUMMARY:Cours de code à Sablé
DESCRIPTION:
URL:https://www.ecsautoecole.fr/event/cours-de-code/2027-11-09/
LOCATION:sablé sur sarthe\, 48 rue du mans\, sablé sur sarthe\, 72300\, France
CATEGORIES:Cours de Code
END:VEVENT
BEGIN:VEVENT
DTSTART;TZID=Europe/Paris:20271106T130000
DTEND;TZID=Europe/Paris:20271106T140000
DTSTAMP:20260421T231918
CREATED:20250724T140337Z
LAST-MODIFIED:20250728T124054Z
UID:10004303-1825506000-1825509600@www.ecsautoecole.fr
SUMMARY:Cours de code à Sablé
DESCRIPTION:
URL:https://www.ecsautoecole.fr/event/cours-de-code-4/2027-11-06/
LOCATION:sablé sur sarthe\, 48 rue du mans\, sablé sur sarthe\, 72300\, France
CATEGORIES:Cours de Code
END:VEVENT
BEGIN:VEVENT
DTSTART;TZID=Europe/Paris:20271106T100000
DTEND;TZID=Europe/Paris:20271106T110000
DTSTAMP:20260421T231918
CREATED:20250731T155102Z
LAST-MODIFIED:20250731T155102Z
UID:10010584-1825495200-1825498800@www.ecsautoecole.fr
SUMMARY:Cours de code AMC Formation
DESCRIPTION:
URL:https://www.ecsautoecole.fr/event/cours-de-code-6/2027-11-06/
LOCATION:AMC FORMATION la flèche
CATEGORIES:Cours de Code
END:VEVENT
BEGIN:VEVENT
DTSTART;TZID=Europe/Paris:20271105T180000
DTEND;TZID=Europe/Paris:20271105T190000
DTSTAMP:20260421T231918
CREATED:20250731T154800Z
LAST-MODIFIED:20250731T154800Z
UID:10009538-1825437600-1825441200@www.ecsautoecole.fr
SUMMARY:Cours de code AMC Formation
DESCRIPTION:
URL:https://www.ecsautoecole.fr/event/cours-de-code-la-fleche/2027-11-05/
LOCATION:AMC FORMATION la flèche
CATEGORIES:Cours de Code
END:VEVENT
BEGIN:VEVENT
DTSTART;TZID=Europe/Paris:20271105T180000
DTEND;TZID=Europe/Paris:20271105T190000
DTSTAMP:20260421T231918
CREATED:20250724T140124Z
LAST-MODIFIED:20250728T124030Z
UID:10001956-1825437600-1825441200@www.ecsautoecole.fr
SUMMARY:Cours de code à Sablé
DESCRIPTION:
URL:https://www.ecsautoecole.fr/event/cours-de-code-3/2027-11-05/
LOCATION:sablé sur sarthe\, 48 rue du mans\, sablé sur sarthe\, 72300\, France
CATEGORIES:Cours de Code
END:VEVENT
BEGIN:VEVENT
DTSTART;TZID=Europe/Paris:20271103T180000
DTEND;TZID=Europe/Paris:20271103T190000
DTSTAMP:20260421T231918
CREATED:20250731T154643Z
LAST-MODIFIED:20250731T154643Z
UID:10009014-1825264800-1825268400@www.ecsautoecole.fr
SUMMARY:Cours de code AMC Formation
DESCRIPTION:
URL:https://www.ecsautoecole.fr/event/cours-de-code-amc-formation/2027-11-03/
LOCATION:AMC FORMATION la flèche
CATEGORIES:Cours de Code
END:VEVENT
BEGIN:VEVENT
DTSTART;TZID=Europe/Paris:20271103T180000
DTEND;TZID=Europe/Paris:20271103T190000
DTSTAMP:20260421T231918
CREATED:20250724T110200Z
LAST-MODIFIED:20250728T124123Z
UID:10000912-1825264800-1825268400@www.ecsautoecole.fr
SUMMARY:cours de code à Sablé
DESCRIPTION:
URL:https://www.ecsautoecole.fr/event/cours-de-code-2/2027-11-03/
LOCATION:sablé sur sarthe\, 48 rue du mans\, sablé sur sarthe\, 72300\, France
CATEGORIES:Cours de Code
END:VEVENT
BEGIN:VEVENT
DTSTART;TZID=Europe/Paris:20271102T180000
DTEND;TZID=Europe/Paris:20271102T190000
DTSTAMP:20260421T231918
CREATED:20250724T072037Z
LAST-MODIFIED:20250728T124113Z
UID:10000129-1825178400-1825182000@www.ecsautoecole.fr
SUMMARY:Cours de code à Sablé
DESCRIPTION:
URL:https://www.ecsautoecole.fr/event/cours-de-code/2027-11-02/
LOCATION:sablé sur sarthe\, 48 rue du mans\, sablé sur sarthe\, 72300\, France
CATEGORIES:Cours de Code
END:VEVENT
BEGIN:VEVENT
DTSTART;TZID=Europe/Paris:20271030T130000
DTEND;TZID=Europe/Paris:20271030T140000
DTSTAMP:20260421T231918
CREATED:20250724T140337Z
LAST-MODIFIED:20250728T124054Z
UID:10004302-1824901200-1824904800@www.ecsautoecole.fr
SUMMARY:Cours de code à Sablé
DESCRIPTION:
URL:https://www.ecsautoecole.fr/event/cours-de-code-4/2027-10-30/
LOCATION:sablé sur sarthe\, 48 rue du mans\, sablé sur sarthe\, 72300\, France
CATEGORIES:Cours de Code
END:VEVENT
END:VCALENDAR