BEGIN:VCALENDAR
VERSION:2.0
PRODID:-//ECS Formation Sabolienne - ECPv6.10.1.1//NONSGML v1.0//EN
CALSCALE:GREGORIAN
METHOD:PUBLISH
X-WR-CALNAME:ECS Formation Sabolienne
X-ORIGINAL-URL:https://www.ecsautoecole.fr
X-WR-CALDESC:Évènements pour ECS Formation Sabolienne
REFRESH-INTERVAL;VALUE=DURATION:PT1H
X-Robots-Tag:noindex
X-PUBLISHED-TTL:PT1H
BEGIN:VTIMEZONE
TZID:Europe/Paris
BEGIN:DAYLIGHT
TZOFFSETFROM:+0100
TZOFFSETTO:+0200
TZNAME:CEST
DTSTART:20280326T010000
END:DAYLIGHT
BEGIN:STANDARD
TZOFFSETFROM:+0200
TZOFFSETTO:+0100
TZNAME:CET
DTSTART:20281029T010000
END:STANDARD
END:VTIMEZONE
BEGIN:VEVENT
DTSTART;TZID=Europe/Paris:20281031T180000
DTEND;TZID=Europe/Paris:20281031T190000
DTSTAMP:20260422T202354
CREATED:20250724T072037Z
LAST-MODIFIED:20250728T124113Z
UID:10000181-1856628000-1856631600@www.ecsautoecole.fr
SUMMARY:Cours de code à Sablé
DESCRIPTION:
URL:https://www.ecsautoecole.fr/event/cours-de-code/2028-10-31/
LOCATION:sablé sur sarthe\, 48 rue du mans\, sablé sur sarthe\, 72300\, France
CATEGORIES:Cours de Code
END:VEVENT
BEGIN:VEVENT
DTSTART;TZID=Europe/Paris:20281028T130000
DTEND;TZID=Europe/Paris:20281028T140000
DTSTAMP:20260422T202354
CREATED:20250724T140337Z
LAST-MODIFIED:20250728T124054Z
UID:10004354-1856350800-1856354400@www.ecsautoecole.fr
SUMMARY:Cours de code à Sablé
DESCRIPTION:
URL:https://www.ecsautoecole.fr/event/cours-de-code-4/2028-10-28/
LOCATION:sablé sur sarthe\, 48 rue du mans\, sablé sur sarthe\, 72300\, France
CATEGORIES:Cours de Code
END:VEVENT
BEGIN:VEVENT
DTSTART;TZID=Europe/Paris:20281028T100000
DTEND;TZID=Europe/Paris:20281028T110000
DTSTAMP:20260422T202354
CREATED:20250731T155102Z
LAST-MODIFIED:20250731T155102Z
UID:10010635-1856340000-1856343600@www.ecsautoecole.fr
SUMMARY:Cours de code AMC Formation
DESCRIPTION:
URL:https://www.ecsautoecole.fr/event/cours-de-code-6/2028-10-28/
LOCATION:AMC FORMATION la flèche
CATEGORIES:Cours de Code
END:VEVENT
BEGIN:VEVENT
DTSTART;TZID=Europe/Paris:20281027T180000
DTEND;TZID=Europe/Paris:20281027T190000
DTSTAMP:20260422T202354
CREATED:20250731T154800Z
LAST-MODIFIED:20250731T154800Z
UID:10009589-1856282400-1856286000@www.ecsautoecole.fr
SUMMARY:Cours de code AMC Formation
DESCRIPTION:
URL:https://www.ecsautoecole.fr/event/cours-de-code-la-fleche/2028-10-27/
LOCATION:AMC FORMATION la flèche
CATEGORIES:Cours de Code
END:VEVENT
BEGIN:VEVENT
DTSTART;TZID=Europe/Paris:20281027T180000
DTEND;TZID=Europe/Paris:20281027T190000
DTSTAMP:20260422T202354
CREATED:20250724T140124Z
LAST-MODIFIED:20250728T124030Z
UID:10002007-1856282400-1856286000@www.ecsautoecole.fr
SUMMARY:Cours de code à Sablé
DESCRIPTION:
URL:https://www.ecsautoecole.fr/event/cours-de-code-3/2028-10-27/
LOCATION:sablé sur sarthe\, 48 rue du mans\, sablé sur sarthe\, 72300\, France
CATEGORIES:Cours de Code
END:VEVENT
BEGIN:VEVENT
DTSTART;TZID=Europe/Paris:20281025T180000
DTEND;TZID=Europe/Paris:20281025T190000
DTSTAMP:20260422T202354
CREATED:20250731T154643Z
LAST-MODIFIED:20250731T154643Z
UID:10009065-1856109600-1856113200@www.ecsautoecole.fr
SUMMARY:Cours de code AMC Formation
DESCRIPTION:
URL:https://www.ecsautoecole.fr/event/cours-de-code-amc-formation/2028-10-25/
LOCATION:AMC FORMATION la flèche
CATEGORIES:Cours de Code
END:VEVENT
BEGIN:VEVENT
DTSTART;TZID=Europe/Paris:20281025T180000
DTEND;TZID=Europe/Paris:20281025T190000
DTSTAMP:20260422T202354
CREATED:20250724T110200Z
LAST-MODIFIED:20250728T124123Z
UID:10000963-1856109600-1856113200@www.ecsautoecole.fr
SUMMARY:cours de code à Sablé
DESCRIPTION:
URL:https://www.ecsautoecole.fr/event/cours-de-code-2/2028-10-25/
LOCATION:sablé sur sarthe\, 48 rue du mans\, sablé sur sarthe\, 72300\, France
CATEGORIES:Cours de Code
END:VEVENT
BEGIN:VEVENT
DTSTART;TZID=Europe/Paris:20281024T180000
DTEND;TZID=Europe/Paris:20281024T190000
DTSTAMP:20260422T202354
CREATED:20250724T072037Z
LAST-MODIFIED:20250728T124113Z
UID:10000180-1856023200-1856026800@www.ecsautoecole.fr
SUMMARY:Cours de code à Sablé
DESCRIPTION:
URL:https://www.ecsautoecole.fr/event/cours-de-code/2028-10-24/
LOCATION:sablé sur sarthe\, 48 rue du mans\, sablé sur sarthe\, 72300\, France
CATEGORIES:Cours de Code
END:VEVENT
BEGIN:VEVENT
DTSTART;TZID=Europe/Paris:20281021T130000
DTEND;TZID=Europe/Paris:20281021T140000
DTSTAMP:20260422T202354
CREATED:20250724T140337Z
LAST-MODIFIED:20250728T124054Z
UID:10004353-1855746000-1855749600@www.ecsautoecole.fr
SUMMARY:Cours de code à Sablé
DESCRIPTION:
URL:https://www.ecsautoecole.fr/event/cours-de-code-4/2028-10-21/
LOCATION:sablé sur sarthe\, 48 rue du mans\, sablé sur sarthe\, 72300\, France
CATEGORIES:Cours de Code
END:VEVENT
BEGIN:VEVENT
DTSTART;TZID=Europe/Paris:20281021T100000
DTEND;TZID=Europe/Paris:20281021T110000
DTSTAMP:20260422T202354
CREATED:20250731T155102Z
LAST-MODIFIED:20250731T155102Z
UID:10010634-1855735200-1855738800@www.ecsautoecole.fr
SUMMARY:Cours de code AMC Formation
DESCRIPTION:
URL:https://www.ecsautoecole.fr/event/cours-de-code-6/2028-10-21/
LOCATION:AMC FORMATION la flèche
CATEGORIES:Cours de Code
END:VEVENT
BEGIN:VEVENT
DTSTART;TZID=Europe/Paris:20281020T180000
DTEND;TZID=Europe/Paris:20281020T190000
DTSTAMP:20260422T202354
CREATED:20250731T154800Z
LAST-MODIFIED:20250731T154800Z
UID:10009588-1855677600-1855681200@www.ecsautoecole.fr
SUMMARY:Cours de code AMC Formation
DESCRIPTION:
URL:https://www.ecsautoecole.fr/event/cours-de-code-la-fleche/2028-10-20/
LOCATION:AMC FORMATION la flèche
CATEGORIES:Cours de Code
END:VEVENT
BEGIN:VEVENT
DTSTART;TZID=Europe/Paris:20281020T180000
DTEND;TZID=Europe/Paris:20281020T190000
DTSTAMP:20260422T202354
CREATED:20250724T140124Z
LAST-MODIFIED:20250728T124030Z
UID:10002006-1855677600-1855681200@www.ecsautoecole.fr
SUMMARY:Cours de code à Sablé
DESCRIPTION:
URL:https://www.ecsautoecole.fr/event/cours-de-code-3/2028-10-20/
LOCATION:sablé sur sarthe\, 48 rue du mans\, sablé sur sarthe\, 72300\, France
CATEGORIES:Cours de Code
END:VEVENT
BEGIN:VEVENT
DTSTART;TZID=Europe/Paris:20281018T180000
DTEND;TZID=Europe/Paris:20281018T190000
DTSTAMP:20260422T202354
CREATED:20250731T154643Z
LAST-MODIFIED:20250731T154643Z
UID:10009064-1855504800-1855508400@www.ecsautoecole.fr
SUMMARY:Cours de code AMC Formation
DESCRIPTION:
URL:https://www.ecsautoecole.fr/event/cours-de-code-amc-formation/2028-10-18/
LOCATION:AMC FORMATION la flèche
CATEGORIES:Cours de Code
END:VEVENT
BEGIN:VEVENT
DTSTART;TZID=Europe/Paris:20281018T180000
DTEND;TZID=Europe/Paris:20281018T190000
DTSTAMP:20260422T202354
CREATED:20250724T110200Z
LAST-MODIFIED:20250728T124123Z
UID:10000962-1855504800-1855508400@www.ecsautoecole.fr
SUMMARY:cours de code à Sablé
DESCRIPTION:
URL:https://www.ecsautoecole.fr/event/cours-de-code-2/2028-10-18/
LOCATION:sablé sur sarthe\, 48 rue du mans\, sablé sur sarthe\, 72300\, France
CATEGORIES:Cours de Code
END:VEVENT
BEGIN:VEVENT
DTSTART;TZID=Europe/Paris:20281017T180000
DTEND;TZID=Europe/Paris:20281017T190000
DTSTAMP:20260422T202354
CREATED:20250724T072037Z
LAST-MODIFIED:20250728T124113Z
UID:10000179-1855418400-1855422000@www.ecsautoecole.fr
SUMMARY:Cours de code à Sablé
DESCRIPTION:
URL:https://www.ecsautoecole.fr/event/cours-de-code/2028-10-17/
LOCATION:sablé sur sarthe\, 48 rue du mans\, sablé sur sarthe\, 72300\, France
CATEGORIES:Cours de Code
END:VEVENT
BEGIN:VEVENT
DTSTART;TZID=Europe/Paris:20281014T130000
DTEND;TZID=Europe/Paris:20281014T140000
DTSTAMP:20260422T202354
CREATED:20250724T140337Z
LAST-MODIFIED:20250728T124054Z
UID:10004352-1855141200-1855144800@www.ecsautoecole.fr
SUMMARY:Cours de code à Sablé
DESCRIPTION:
URL:https://www.ecsautoecole.fr/event/cours-de-code-4/2028-10-14/
LOCATION:sablé sur sarthe\, 48 rue du mans\, sablé sur sarthe\, 72300\, France
CATEGORIES:Cours de Code
END:VEVENT
BEGIN:VEVENT
DTSTART;TZID=Europe/Paris:20281014T100000
DTEND;TZID=Europe/Paris:20281014T110000
DTSTAMP:20260422T202354
CREATED:20250731T155102Z
LAST-MODIFIED:20250731T155102Z
UID:10010633-1855130400-1855134000@www.ecsautoecole.fr
SUMMARY:Cours de code AMC Formation
DESCRIPTION:
URL:https://www.ecsautoecole.fr/event/cours-de-code-6/2028-10-14/
LOCATION:AMC FORMATION la flèche
CATEGORIES:Cours de Code
END:VEVENT
BEGIN:VEVENT
DTSTART;TZID=Europe/Paris:20281013T180000
DTEND;TZID=Europe/Paris:20281013T190000
DTSTAMP:20260422T202354
CREATED:20250731T154800Z
LAST-MODIFIED:20250731T154800Z
UID:10009587-1855072800-1855076400@www.ecsautoecole.fr
SUMMARY:Cours de code AMC Formation
DESCRIPTION:
URL:https://www.ecsautoecole.fr/event/cours-de-code-la-fleche/2028-10-13/
LOCATION:AMC FORMATION la flèche
CATEGORIES:Cours de Code
END:VEVENT
BEGIN:VEVENT
DTSTART;TZID=Europe/Paris:20281013T180000
DTEND;TZID=Europe/Paris:20281013T190000
DTSTAMP:20260422T202354
CREATED:20250724T140124Z
LAST-MODIFIED:20250728T124030Z
UID:10002005-1855072800-1855076400@www.ecsautoecole.fr
SUMMARY:Cours de code à Sablé
DESCRIPTION:
URL:https://www.ecsautoecole.fr/event/cours-de-code-3/2028-10-13/
LOCATION:sablé sur sarthe\, 48 rue du mans\, sablé sur sarthe\, 72300\, France
CATEGORIES:Cours de Code
END:VEVENT
BEGIN:VEVENT
DTSTART;TZID=Europe/Paris:20281011T180000
DTEND;TZID=Europe/Paris:20281011T190000
DTSTAMP:20260422T202354
CREATED:20250731T154643Z
LAST-MODIFIED:20250731T154643Z
UID:10009063-1854900000-1854903600@www.ecsautoecole.fr
SUMMARY:Cours de code AMC Formation
DESCRIPTION:
URL:https://www.ecsautoecole.fr/event/cours-de-code-amc-formation/2028-10-11/
LOCATION:AMC FORMATION la flèche
CATEGORIES:Cours de Code
END:VEVENT
BEGIN:VEVENT
DTSTART;TZID=Europe/Paris:20281011T180000
DTEND;TZID=Europe/Paris:20281011T190000
DTSTAMP:20260422T202354
CREATED:20250724T110200Z
LAST-MODIFIED:20250728T124123Z
UID:10000961-1854900000-1854903600@www.ecsautoecole.fr
SUMMARY:cours de code à Sablé
DESCRIPTION:
URL:https://www.ecsautoecole.fr/event/cours-de-code-2/2028-10-11/
LOCATION:sablé sur sarthe\, 48 rue du mans\, sablé sur sarthe\, 72300\, France
CATEGORIES:Cours de Code
END:VEVENT
BEGIN:VEVENT
DTSTART;TZID=Europe/Paris:20281010T180000
DTEND;TZID=Europe/Paris:20281010T190000
DTSTAMP:20260422T202354
CREATED:20250724T072037Z
LAST-MODIFIED:20250728T124113Z
UID:10000178-1854813600-1854817200@www.ecsautoecole.fr
SUMMARY:Cours de code à Sablé
DESCRIPTION:
URL:https://www.ecsautoecole.fr/event/cours-de-code/2028-10-10/
LOCATION:sablé sur sarthe\, 48 rue du mans\, sablé sur sarthe\, 72300\, France
CATEGORIES:Cours de Code
END:VEVENT
BEGIN:VEVENT
DTSTART;TZID=Europe/Paris:20281007T130000
DTEND;TZID=Europe/Paris:20281007T140000
DTSTAMP:20260422T202354
CREATED:20250724T140337Z
LAST-MODIFIED:20250728T124054Z
UID:10004351-1854536400-1854540000@www.ecsautoecole.fr
SUMMARY:Cours de code à Sablé
DESCRIPTION:
URL:https://www.ecsautoecole.fr/event/cours-de-code-4/2028-10-07/
LOCATION:sablé sur sarthe\, 48 rue du mans\, sablé sur sarthe\, 72300\, France
CATEGORIES:Cours de Code
END:VEVENT
BEGIN:VEVENT
DTSTART;TZID=Europe/Paris:20281007T100000
DTEND;TZID=Europe/Paris:20281007T110000
DTSTAMP:20260422T202354
CREATED:20250731T155102Z
LAST-MODIFIED:20250731T155102Z
UID:10010632-1854525600-1854529200@www.ecsautoecole.fr
SUMMARY:Cours de code AMC Formation
DESCRIPTION:
URL:https://www.ecsautoecole.fr/event/cours-de-code-6/2028-10-07/
LOCATION:AMC FORMATION la flèche
CATEGORIES:Cours de Code
END:VEVENT
BEGIN:VEVENT
DTSTART;TZID=Europe/Paris:20281006T180000
DTEND;TZID=Europe/Paris:20281006T190000
DTSTAMP:20260422T202354
CREATED:20250731T154800Z
LAST-MODIFIED:20250731T154800Z
UID:10009586-1854468000-1854471600@www.ecsautoecole.fr
SUMMARY:Cours de code AMC Formation
DESCRIPTION:
URL:https://www.ecsautoecole.fr/event/cours-de-code-la-fleche/2028-10-06/
LOCATION:AMC FORMATION la flèche
CATEGORIES:Cours de Code
END:VEVENT
BEGIN:VEVENT
DTSTART;TZID=Europe/Paris:20281006T180000
DTEND;TZID=Europe/Paris:20281006T190000
DTSTAMP:20260422T202354
CREATED:20250724T140124Z
LAST-MODIFIED:20250728T124030Z
UID:10002004-1854468000-1854471600@www.ecsautoecole.fr
SUMMARY:Cours de code à Sablé
DESCRIPTION:
URL:https://www.ecsautoecole.fr/event/cours-de-code-3/2028-10-06/
LOCATION:sablé sur sarthe\, 48 rue du mans\, sablé sur sarthe\, 72300\, France
CATEGORIES:Cours de Code
END:VEVENT
BEGIN:VEVENT
DTSTART;TZID=Europe/Paris:20281004T180000
DTEND;TZID=Europe/Paris:20281004T190000
DTSTAMP:20260422T202354
CREATED:20250731T154643Z
LAST-MODIFIED:20250731T154643Z
UID:10009062-1854295200-1854298800@www.ecsautoecole.fr
SUMMARY:Cours de code AMC Formation
DESCRIPTION:
URL:https://www.ecsautoecole.fr/event/cours-de-code-amc-formation/2028-10-04/
LOCATION:AMC FORMATION la flèche
CATEGORIES:Cours de Code
END:VEVENT
BEGIN:VEVENT
DTSTART;TZID=Europe/Paris:20281004T180000
DTEND;TZID=Europe/Paris:20281004T190000
DTSTAMP:20260422T202354
CREATED:20250724T110200Z
LAST-MODIFIED:20250728T124123Z
UID:10000960-1854295200-1854298800@www.ecsautoecole.fr
SUMMARY:cours de code à Sablé
DESCRIPTION:
URL:https://www.ecsautoecole.fr/event/cours-de-code-2/2028-10-04/
LOCATION:sablé sur sarthe\, 48 rue du mans\, sablé sur sarthe\, 72300\, France
CATEGORIES:Cours de Code
END:VEVENT
BEGIN:VEVENT
DTSTART;TZID=Europe/Paris:20281003T180000
DTEND;TZID=Europe/Paris:20281003T190000
DTSTAMP:20260422T202354
CREATED:20250724T072037Z
LAST-MODIFIED:20250728T124113Z
UID:10000177-1854208800-1854212400@www.ecsautoecole.fr
SUMMARY:Cours de code à Sablé
DESCRIPTION:
URL:https://www.ecsautoecole.fr/event/cours-de-code/2028-10-03/
LOCATION:sablé sur sarthe\, 48 rue du mans\, sablé sur sarthe\, 72300\, France
CATEGORIES:Cours de Code
END:VEVENT
BEGIN:VEVENT
DTSTART;TZID=Europe/Paris:20280930T130000
DTEND;TZID=Europe/Paris:20280930T140000
DTSTAMP:20260422T202354
CREATED:20250724T140337Z
LAST-MODIFIED:20250728T124054Z
UID:10004350-1853931600-1853935200@www.ecsautoecole.fr
SUMMARY:Cours de code à Sablé
DESCRIPTION:
URL:https://www.ecsautoecole.fr/event/cours-de-code-4/2028-09-30/
LOCATION:sablé sur sarthe\, 48 rue du mans\, sablé sur sarthe\, 72300\, France
CATEGORIES:Cours de Code
END:VEVENT
END:VCALENDAR