BEGIN:VCALENDAR
VERSION:2.0
PRODID:-//ECS Formation Sabolienne - ECPv6.10.1.1//NONSGML v1.0//EN
CALSCALE:GREGORIAN
METHOD:PUBLISH
X-WR-CALNAME:ECS Formation Sabolienne
X-ORIGINAL-URL:https://www.ecsautoecole.fr
X-WR-CALDESC:Évènements pour ECS Formation Sabolienne
REFRESH-INTERVAL;VALUE=DURATION:PT1H
X-Robots-Tag:noindex
X-PUBLISHED-TTL:PT1H
BEGIN:VTIMEZONE
TZID:Europe/Paris
BEGIN:DAYLIGHT
TZOFFSETFROM:+0100
TZOFFSETTO:+0200
TZNAME:CEST
DTSTART:20290325T010000
END:DAYLIGHT
BEGIN:STANDARD
TZOFFSETFROM:+0200
TZOFFSETTO:+0100
TZNAME:CET
DTSTART:20291028T010000
END:STANDARD
END:VTIMEZONE
BEGIN:VEVENT
DTSTART;TZID=Europe/Paris:20290131T180000
DTEND;TZID=Europe/Paris:20290131T190000
DTSTAMP:20260423T004648
CREATED:20250731T154643Z
LAST-MODIFIED:20250731T154643Z
UID:10009079-1864576800-1864580400@www.ecsautoecole.fr
SUMMARY:Cours de code AMC Formation
DESCRIPTION:
URL:https://www.ecsautoecole.fr/event/cours-de-code-amc-formation/2029-01-31/
LOCATION:AMC FORMATION la flèche
CATEGORIES:Cours de Code
END:VEVENT
BEGIN:VEVENT
DTSTART;TZID=Europe/Paris:20290131T180000
DTEND;TZID=Europe/Paris:20290131T190000
DTSTAMP:20260423T004648
CREATED:20250724T110200Z
LAST-MODIFIED:20250728T124123Z
UID:10000977-1864576800-1864580400@www.ecsautoecole.fr
SUMMARY:cours de code à Sablé
DESCRIPTION:
URL:https://www.ecsautoecole.fr/event/cours-de-code-2/2029-01-31/
LOCATION:sablé sur sarthe\, 48 rue du mans\, sablé sur sarthe\, 72300\, France
CATEGORIES:Cours de Code
END:VEVENT
BEGIN:VEVENT
DTSTART;TZID=Europe/Paris:20290130T180000
DTEND;TZID=Europe/Paris:20290130T190000
DTSTAMP:20260423T004648
CREATED:20250724T072037Z
LAST-MODIFIED:20250728T124113Z
UID:10000194-1864490400-1864494000@www.ecsautoecole.fr
SUMMARY:Cours de code à Sablé
DESCRIPTION:
URL:https://www.ecsautoecole.fr/event/cours-de-code/2029-01-30/
LOCATION:sablé sur sarthe\, 48 rue du mans\, sablé sur sarthe\, 72300\, France
CATEGORIES:Cours de Code
END:VEVENT
BEGIN:VEVENT
DTSTART;TZID=Europe/Paris:20290127T130000
DTEND;TZID=Europe/Paris:20290127T140000
DTSTAMP:20260423T004648
CREATED:20250724T140337Z
LAST-MODIFIED:20250728T124054Z
UID:10004367-1864213200-1864216800@www.ecsautoecole.fr
SUMMARY:Cours de code à Sablé
DESCRIPTION:
URL:https://www.ecsautoecole.fr/event/cours-de-code-4/2029-01-27/
LOCATION:sablé sur sarthe\, 48 rue du mans\, sablé sur sarthe\, 72300\, France
CATEGORIES:Cours de Code
END:VEVENT
BEGIN:VEVENT
DTSTART;TZID=Europe/Paris:20290127T100000
DTEND;TZID=Europe/Paris:20290127T110000
DTSTAMP:20260423T004648
CREATED:20250731T155102Z
LAST-MODIFIED:20250731T155102Z
UID:10010648-1864202400-1864206000@www.ecsautoecole.fr
SUMMARY:Cours de code AMC Formation
DESCRIPTION:
URL:https://www.ecsautoecole.fr/event/cours-de-code-6/2029-01-27/
LOCATION:AMC FORMATION la flèche
CATEGORIES:Cours de Code
END:VEVENT
BEGIN:VEVENT
DTSTART;TZID=Europe/Paris:20290126T180000
DTEND;TZID=Europe/Paris:20290126T190000
DTSTAMP:20260423T004648
CREATED:20250731T154800Z
LAST-MODIFIED:20250731T154800Z
UID:10009602-1864144800-1864148400@www.ecsautoecole.fr
SUMMARY:Cours de code AMC Formation
DESCRIPTION:
URL:https://www.ecsautoecole.fr/event/cours-de-code-la-fleche/2029-01-26/
LOCATION:AMC FORMATION la flèche
CATEGORIES:Cours de Code
END:VEVENT
BEGIN:VEVENT
DTSTART;TZID=Europe/Paris:20290126T180000
DTEND;TZID=Europe/Paris:20290126T190000
DTSTAMP:20260423T004648
CREATED:20250724T140124Z
LAST-MODIFIED:20250728T124030Z
UID:10002020-1864144800-1864148400@www.ecsautoecole.fr
SUMMARY:Cours de code à Sablé
DESCRIPTION:
URL:https://www.ecsautoecole.fr/event/cours-de-code-3/2029-01-26/
LOCATION:sablé sur sarthe\, 48 rue du mans\, sablé sur sarthe\, 72300\, France
CATEGORIES:Cours de Code
END:VEVENT
BEGIN:VEVENT
DTSTART;TZID=Europe/Paris:20290124T180000
DTEND;TZID=Europe/Paris:20290124T190000
DTSTAMP:20260423T004648
CREATED:20250731T154643Z
LAST-MODIFIED:20250731T154643Z
UID:10009078-1863972000-1863975600@www.ecsautoecole.fr
SUMMARY:Cours de code AMC Formation
DESCRIPTION:
URL:https://www.ecsautoecole.fr/event/cours-de-code-amc-formation/2029-01-24/
LOCATION:AMC FORMATION la flèche
CATEGORIES:Cours de Code
END:VEVENT
BEGIN:VEVENT
DTSTART;TZID=Europe/Paris:20290124T180000
DTEND;TZID=Europe/Paris:20290124T190000
DTSTAMP:20260423T004648
CREATED:20250724T110200Z
LAST-MODIFIED:20250728T124123Z
UID:10000976-1863972000-1863975600@www.ecsautoecole.fr
SUMMARY:cours de code à Sablé
DESCRIPTION:
URL:https://www.ecsautoecole.fr/event/cours-de-code-2/2029-01-24/
LOCATION:sablé sur sarthe\, 48 rue du mans\, sablé sur sarthe\, 72300\, France
CATEGORIES:Cours de Code
END:VEVENT
BEGIN:VEVENT
DTSTART;TZID=Europe/Paris:20290123T180000
DTEND;TZID=Europe/Paris:20290123T190000
DTSTAMP:20260423T004648
CREATED:20250724T072037Z
LAST-MODIFIED:20250728T124113Z
UID:10000193-1863885600-1863889200@www.ecsautoecole.fr
SUMMARY:Cours de code à Sablé
DESCRIPTION:
URL:https://www.ecsautoecole.fr/event/cours-de-code/2029-01-23/
LOCATION:sablé sur sarthe\, 48 rue du mans\, sablé sur sarthe\, 72300\, France
CATEGORIES:Cours de Code
END:VEVENT
BEGIN:VEVENT
DTSTART;TZID=Europe/Paris:20290120T130000
DTEND;TZID=Europe/Paris:20290120T140000
DTSTAMP:20260423T004648
CREATED:20250724T140337Z
LAST-MODIFIED:20250728T124054Z
UID:10004366-1863608400-1863612000@www.ecsautoecole.fr
SUMMARY:Cours de code à Sablé
DESCRIPTION:
URL:https://www.ecsautoecole.fr/event/cours-de-code-4/2029-01-20/
LOCATION:sablé sur sarthe\, 48 rue du mans\, sablé sur sarthe\, 72300\, France
CATEGORIES:Cours de Code
END:VEVENT
BEGIN:VEVENT
DTSTART;TZID=Europe/Paris:20290120T100000
DTEND;TZID=Europe/Paris:20290120T110000
DTSTAMP:20260423T004648
CREATED:20250731T155102Z
LAST-MODIFIED:20250731T155102Z
UID:10010647-1863597600-1863601200@www.ecsautoecole.fr
SUMMARY:Cours de code AMC Formation
DESCRIPTION:
URL:https://www.ecsautoecole.fr/event/cours-de-code-6/2029-01-20/
LOCATION:AMC FORMATION la flèche
CATEGORIES:Cours de Code
END:VEVENT
BEGIN:VEVENT
DTSTART;TZID=Europe/Paris:20290119T180000
DTEND;TZID=Europe/Paris:20290119T190000
DTSTAMP:20260423T004648
CREATED:20250731T154800Z
LAST-MODIFIED:20250731T154800Z
UID:10009601-1863540000-1863543600@www.ecsautoecole.fr
SUMMARY:Cours de code AMC Formation
DESCRIPTION:
URL:https://www.ecsautoecole.fr/event/cours-de-code-la-fleche/2029-01-19/
LOCATION:AMC FORMATION la flèche
CATEGORIES:Cours de Code
END:VEVENT
BEGIN:VEVENT
DTSTART;TZID=Europe/Paris:20290119T180000
DTEND;TZID=Europe/Paris:20290119T190000
DTSTAMP:20260423T004648
CREATED:20250724T140124Z
LAST-MODIFIED:20250728T124030Z
UID:10002019-1863540000-1863543600@www.ecsautoecole.fr
SUMMARY:Cours de code à Sablé
DESCRIPTION:
URL:https://www.ecsautoecole.fr/event/cours-de-code-3/2029-01-19/
LOCATION:sablé sur sarthe\, 48 rue du mans\, sablé sur sarthe\, 72300\, France
CATEGORIES:Cours de Code
END:VEVENT
BEGIN:VEVENT
DTSTART;TZID=Europe/Paris:20290117T180000
DTEND;TZID=Europe/Paris:20290117T190000
DTSTAMP:20260423T004648
CREATED:20250731T154643Z
LAST-MODIFIED:20250731T154643Z
UID:10009077-1863367200-1863370800@www.ecsautoecole.fr
SUMMARY:Cours de code AMC Formation
DESCRIPTION:
URL:https://www.ecsautoecole.fr/event/cours-de-code-amc-formation/2029-01-17/
LOCATION:AMC FORMATION la flèche
CATEGORIES:Cours de Code
END:VEVENT
BEGIN:VEVENT
DTSTART;TZID=Europe/Paris:20290117T180000
DTEND;TZID=Europe/Paris:20290117T190000
DTSTAMP:20260423T004648
CREATED:20250724T110200Z
LAST-MODIFIED:20250728T124123Z
UID:10000975-1863367200-1863370800@www.ecsautoecole.fr
SUMMARY:cours de code à Sablé
DESCRIPTION:
URL:https://www.ecsautoecole.fr/event/cours-de-code-2/2029-01-17/
LOCATION:sablé sur sarthe\, 48 rue du mans\, sablé sur sarthe\, 72300\, France
CATEGORIES:Cours de Code
END:VEVENT
BEGIN:VEVENT
DTSTART;TZID=Europe/Paris:20290116T180000
DTEND;TZID=Europe/Paris:20290116T190000
DTSTAMP:20260423T004648
CREATED:20250724T072037Z
LAST-MODIFIED:20250728T124113Z
UID:10000192-1863280800-1863284400@www.ecsautoecole.fr
SUMMARY:Cours de code à Sablé
DESCRIPTION:
URL:https://www.ecsautoecole.fr/event/cours-de-code/2029-01-16/
LOCATION:sablé sur sarthe\, 48 rue du mans\, sablé sur sarthe\, 72300\, France
CATEGORIES:Cours de Code
END:VEVENT
BEGIN:VEVENT
DTSTART;TZID=Europe/Paris:20290113T130000
DTEND;TZID=Europe/Paris:20290113T140000
DTSTAMP:20260423T004648
CREATED:20250724T140337Z
LAST-MODIFIED:20250728T124054Z
UID:10004365-1863003600-1863007200@www.ecsautoecole.fr
SUMMARY:Cours de code à Sablé
DESCRIPTION:
URL:https://www.ecsautoecole.fr/event/cours-de-code-4/2029-01-13/
LOCATION:sablé sur sarthe\, 48 rue du mans\, sablé sur sarthe\, 72300\, France
CATEGORIES:Cours de Code
END:VEVENT
BEGIN:VEVENT
DTSTART;TZID=Europe/Paris:20290113T100000
DTEND;TZID=Europe/Paris:20290113T110000
DTSTAMP:20260423T004648
CREATED:20250731T155102Z
LAST-MODIFIED:20250731T155102Z
UID:10010646-1862992800-1862996400@www.ecsautoecole.fr
SUMMARY:Cours de code AMC Formation
DESCRIPTION:
URL:https://www.ecsautoecole.fr/event/cours-de-code-6/2029-01-13/
LOCATION:AMC FORMATION la flèche
CATEGORIES:Cours de Code
END:VEVENT
BEGIN:VEVENT
DTSTART;TZID=Europe/Paris:20290112T180000
DTEND;TZID=Europe/Paris:20290112T190000
DTSTAMP:20260423T004648
CREATED:20250731T154800Z
LAST-MODIFIED:20250731T154800Z
UID:10009600-1862935200-1862938800@www.ecsautoecole.fr
SUMMARY:Cours de code AMC Formation
DESCRIPTION:
URL:https://www.ecsautoecole.fr/event/cours-de-code-la-fleche/2029-01-12/
LOCATION:AMC FORMATION la flèche
CATEGORIES:Cours de Code
END:VEVENT
BEGIN:VEVENT
DTSTART;TZID=Europe/Paris:20290112T180000
DTEND;TZID=Europe/Paris:20290112T190000
DTSTAMP:20260423T004648
CREATED:20250724T140124Z
LAST-MODIFIED:20250728T124030Z
UID:10002018-1862935200-1862938800@www.ecsautoecole.fr
SUMMARY:Cours de code à Sablé
DESCRIPTION:
URL:https://www.ecsautoecole.fr/event/cours-de-code-3/2029-01-12/
LOCATION:sablé sur sarthe\, 48 rue du mans\, sablé sur sarthe\, 72300\, France
CATEGORIES:Cours de Code
END:VEVENT
BEGIN:VEVENT
DTSTART;TZID=Europe/Paris:20290110T180000
DTEND;TZID=Europe/Paris:20290110T190000
DTSTAMP:20260423T004648
CREATED:20250731T154643Z
LAST-MODIFIED:20250731T154643Z
UID:10009076-1862762400-1862766000@www.ecsautoecole.fr
SUMMARY:Cours de code AMC Formation
DESCRIPTION:
URL:https://www.ecsautoecole.fr/event/cours-de-code-amc-formation/2029-01-10/
LOCATION:AMC FORMATION la flèche
CATEGORIES:Cours de Code
END:VEVENT
BEGIN:VEVENT
DTSTART;TZID=Europe/Paris:20290110T180000
DTEND;TZID=Europe/Paris:20290110T190000
DTSTAMP:20260423T004648
CREATED:20250724T110200Z
LAST-MODIFIED:20250728T124123Z
UID:10000974-1862762400-1862766000@www.ecsautoecole.fr
SUMMARY:cours de code à Sablé
DESCRIPTION:
URL:https://www.ecsautoecole.fr/event/cours-de-code-2/2029-01-10/
LOCATION:sablé sur sarthe\, 48 rue du mans\, sablé sur sarthe\, 72300\, France
CATEGORIES:Cours de Code
END:VEVENT
BEGIN:VEVENT
DTSTART;TZID=Europe/Paris:20290109T180000
DTEND;TZID=Europe/Paris:20290109T190000
DTSTAMP:20260423T004648
CREATED:20250724T072037Z
LAST-MODIFIED:20250728T124113Z
UID:10000191-1862676000-1862679600@www.ecsautoecole.fr
SUMMARY:Cours de code à Sablé
DESCRIPTION:
URL:https://www.ecsautoecole.fr/event/cours-de-code/2029-01-09/
LOCATION:sablé sur sarthe\, 48 rue du mans\, sablé sur sarthe\, 72300\, France
CATEGORIES:Cours de Code
END:VEVENT
BEGIN:VEVENT
DTSTART;TZID=Europe/Paris:20290106T130000
DTEND;TZID=Europe/Paris:20290106T140000
DTSTAMP:20260423T004648
CREATED:20250724T140337Z
LAST-MODIFIED:20250728T124054Z
UID:10004364-1862398800-1862402400@www.ecsautoecole.fr
SUMMARY:Cours de code à Sablé
DESCRIPTION:
URL:https://www.ecsautoecole.fr/event/cours-de-code-4/2029-01-06/
LOCATION:sablé sur sarthe\, 48 rue du mans\, sablé sur sarthe\, 72300\, France
CATEGORIES:Cours de Code
END:VEVENT
BEGIN:VEVENT
DTSTART;TZID=Europe/Paris:20290106T100000
DTEND;TZID=Europe/Paris:20290106T110000
DTSTAMP:20260423T004648
CREATED:20250731T155102Z
LAST-MODIFIED:20250731T155102Z
UID:10010645-1862388000-1862391600@www.ecsautoecole.fr
SUMMARY:Cours de code AMC Formation
DESCRIPTION:
URL:https://www.ecsautoecole.fr/event/cours-de-code-6/2029-01-06/
LOCATION:AMC FORMATION la flèche
CATEGORIES:Cours de Code
END:VEVENT
BEGIN:VEVENT
DTSTART;TZID=Europe/Paris:20290105T180000
DTEND;TZID=Europe/Paris:20290105T190000
DTSTAMP:20260423T004648
CREATED:20250731T154800Z
LAST-MODIFIED:20250731T154800Z
UID:10009599-1862330400-1862334000@www.ecsautoecole.fr
SUMMARY:Cours de code AMC Formation
DESCRIPTION:
URL:https://www.ecsautoecole.fr/event/cours-de-code-la-fleche/2029-01-05/
LOCATION:AMC FORMATION la flèche
CATEGORIES:Cours de Code
END:VEVENT
BEGIN:VEVENT
DTSTART;TZID=Europe/Paris:20290105T180000
DTEND;TZID=Europe/Paris:20290105T190000
DTSTAMP:20260423T004648
CREATED:20250724T140124Z
LAST-MODIFIED:20250728T124030Z
UID:10002017-1862330400-1862334000@www.ecsautoecole.fr
SUMMARY:Cours de code à Sablé
DESCRIPTION:
URL:https://www.ecsautoecole.fr/event/cours-de-code-3/2029-01-05/
LOCATION:sablé sur sarthe\, 48 rue du mans\, sablé sur sarthe\, 72300\, France
CATEGORIES:Cours de Code
END:VEVENT
BEGIN:VEVENT
DTSTART;TZID=Europe/Paris:20290103T180000
DTEND;TZID=Europe/Paris:20290103T190000
DTSTAMP:20260423T004648
CREATED:20250731T154643Z
LAST-MODIFIED:20250731T154643Z
UID:10009075-1862157600-1862161200@www.ecsautoecole.fr
SUMMARY:Cours de code AMC Formation
DESCRIPTION:
URL:https://www.ecsautoecole.fr/event/cours-de-code-amc-formation/2029-01-03/
LOCATION:AMC FORMATION la flèche
CATEGORIES:Cours de Code
END:VEVENT
BEGIN:VEVENT
DTSTART;TZID=Europe/Paris:20290103T180000
DTEND;TZID=Europe/Paris:20290103T190000
DTSTAMP:20260423T004648
CREATED:20250724T110200Z
LAST-MODIFIED:20250728T124123Z
UID:10000973-1862157600-1862161200@www.ecsautoecole.fr
SUMMARY:cours de code à Sablé
DESCRIPTION:
URL:https://www.ecsautoecole.fr/event/cours-de-code-2/2029-01-03/
LOCATION:sablé sur sarthe\, 48 rue du mans\, sablé sur sarthe\, 72300\, France
CATEGORIES:Cours de Code
END:VEVENT
END:VCALENDAR