BEGIN:VCALENDAR
VERSION:2.0
PRODID:-//ECS Formation Sabolienne - ECPv6.10.1.1//NONSGML v1.0//EN
CALSCALE:GREGORIAN
METHOD:PUBLISH
X-WR-CALNAME:ECS Formation Sabolienne
X-ORIGINAL-URL:https://www.ecsautoecole.fr
X-WR-CALDESC:Évènements pour ECS Formation Sabolienne
REFRESH-INTERVAL;VALUE=DURATION:PT1H
X-Robots-Tag:noindex
X-PUBLISHED-TTL:PT1H
BEGIN:VTIMEZONE
TZID:Europe/Paris
BEGIN:DAYLIGHT
TZOFFSETFROM:+0100
TZOFFSETTO:+0200
TZNAME:CEST
DTSTART:20290325T010000
END:DAYLIGHT
BEGIN:STANDARD
TZOFFSETFROM:+0200
TZOFFSETTO:+0100
TZNAME:CET
DTSTART:20291028T010000
END:STANDARD
END:VTIMEZONE
BEGIN:VEVENT
DTSTART;TZID=Europe/Paris:20291229T130000
DTEND;TZID=Europe/Paris:20291229T140000
DTSTAMP:20260423T231428
CREATED:20250724T140337Z
LAST-MODIFIED:20250728T124054Z
UID:10004415-1893243600-1893247200@www.ecsautoecole.fr
SUMMARY:Cours de code à Sablé
DESCRIPTION:
URL:https://www.ecsautoecole.fr/event/cours-de-code-4/2029-12-29/
LOCATION:sablé sur sarthe\, 48 rue du mans\, sablé sur sarthe\, 72300\, France
CATEGORIES:Cours de Code
END:VEVENT
BEGIN:VEVENT
DTSTART;TZID=Europe/Paris:20291229T100000
DTEND;TZID=Europe/Paris:20291229T110000
DTSTAMP:20260423T231428
CREATED:20250731T155102Z
LAST-MODIFIED:20250731T155102Z
UID:10010696-1893232800-1893236400@www.ecsautoecole.fr
SUMMARY:Cours de code AMC Formation
DESCRIPTION:
URL:https://www.ecsautoecole.fr/event/cours-de-code-6/2029-12-29/
LOCATION:AMC FORMATION la flèche
CATEGORIES:Cours de Code
END:VEVENT
BEGIN:VEVENT
DTSTART;TZID=Europe/Paris:20291228T180000
DTEND;TZID=Europe/Paris:20291228T190000
DTSTAMP:20260423T231428
CREATED:20250731T154800Z
LAST-MODIFIED:20250731T154800Z
UID:10009650-1893175200-1893178800@www.ecsautoecole.fr
SUMMARY:Cours de code AMC Formation
DESCRIPTION:
URL:https://www.ecsautoecole.fr/event/cours-de-code-la-fleche/2029-12-28/
LOCATION:AMC FORMATION la flèche
CATEGORIES:Cours de Code
END:VEVENT
BEGIN:VEVENT
DTSTART;TZID=Europe/Paris:20291228T180000
DTEND;TZID=Europe/Paris:20291228T190000
DTSTAMP:20260423T231428
CREATED:20250724T140124Z
LAST-MODIFIED:20250728T124030Z
UID:10002068-1893175200-1893178800@www.ecsautoecole.fr
SUMMARY:Cours de code à Sablé
DESCRIPTION:
URL:https://www.ecsautoecole.fr/event/cours-de-code-3/2029-12-28/
LOCATION:sablé sur sarthe\, 48 rue du mans\, sablé sur sarthe\, 72300\, France
CATEGORIES:Cours de Code
END:VEVENT
BEGIN:VEVENT
DTSTART;TZID=Europe/Paris:20291226T180000
DTEND;TZID=Europe/Paris:20291226T190000
DTSTAMP:20260423T231428
CREATED:20250731T154643Z
LAST-MODIFIED:20250731T154643Z
UID:10009126-1893002400-1893006000@www.ecsautoecole.fr
SUMMARY:Cours de code AMC Formation
DESCRIPTION:
URL:https://www.ecsautoecole.fr/event/cours-de-code-amc-formation/2029-12-26/
LOCATION:AMC FORMATION la flèche
CATEGORIES:Cours de Code
END:VEVENT
BEGIN:VEVENT
DTSTART;TZID=Europe/Paris:20291226T180000
DTEND;TZID=Europe/Paris:20291226T190000
DTSTAMP:20260423T231428
CREATED:20250724T110200Z
LAST-MODIFIED:20250728T124123Z
UID:10001024-1893002400-1893006000@www.ecsautoecole.fr
SUMMARY:cours de code à Sablé
DESCRIPTION:
URL:https://www.ecsautoecole.fr/event/cours-de-code-2/2029-12-26/
LOCATION:sablé sur sarthe\, 48 rue du mans\, sablé sur sarthe\, 72300\, France
CATEGORIES:Cours de Code
END:VEVENT
BEGIN:VEVENT
DTSTART;TZID=Europe/Paris:20291225T180000
DTEND;TZID=Europe/Paris:20291225T190000
DTSTAMP:20260423T231428
CREATED:20250724T072037Z
LAST-MODIFIED:20250728T124113Z
UID:10000241-1892916000-1892919600@www.ecsautoecole.fr
SUMMARY:Cours de code à Sablé
DESCRIPTION:
URL:https://www.ecsautoecole.fr/event/cours-de-code/2029-12-25/
LOCATION:sablé sur sarthe\, 48 rue du mans\, sablé sur sarthe\, 72300\, France
CATEGORIES:Cours de Code
END:VEVENT
BEGIN:VEVENT
DTSTART;TZID=Europe/Paris:20291222T130000
DTEND;TZID=Europe/Paris:20291222T140000
DTSTAMP:20260423T231428
CREATED:20250724T140337Z
LAST-MODIFIED:20250728T124054Z
UID:10004414-1892638800-1892642400@www.ecsautoecole.fr
SUMMARY:Cours de code à Sablé
DESCRIPTION:
URL:https://www.ecsautoecole.fr/event/cours-de-code-4/2029-12-22/
LOCATION:sablé sur sarthe\, 48 rue du mans\, sablé sur sarthe\, 72300\, France
CATEGORIES:Cours de Code
END:VEVENT
BEGIN:VEVENT
DTSTART;TZID=Europe/Paris:20291222T100000
DTEND;TZID=Europe/Paris:20291222T110000
DTSTAMP:20260423T231428
CREATED:20250731T155102Z
LAST-MODIFIED:20250731T155102Z
UID:10010695-1892628000-1892631600@www.ecsautoecole.fr
SUMMARY:Cours de code AMC Formation
DESCRIPTION:
URL:https://www.ecsautoecole.fr/event/cours-de-code-6/2029-12-22/
LOCATION:AMC FORMATION la flèche
CATEGORIES:Cours de Code
END:VEVENT
BEGIN:VEVENT
DTSTART;TZID=Europe/Paris:20291221T180000
DTEND;TZID=Europe/Paris:20291221T190000
DTSTAMP:20260423T231428
CREATED:20250731T154800Z
LAST-MODIFIED:20250731T154800Z
UID:10009649-1892570400-1892574000@www.ecsautoecole.fr
SUMMARY:Cours de code AMC Formation
DESCRIPTION:
URL:https://www.ecsautoecole.fr/event/cours-de-code-la-fleche/2029-12-21/
LOCATION:AMC FORMATION la flèche
CATEGORIES:Cours de Code
END:VEVENT
BEGIN:VEVENT
DTSTART;TZID=Europe/Paris:20291221T180000
DTEND;TZID=Europe/Paris:20291221T190000
DTSTAMP:20260423T231428
CREATED:20250724T140124Z
LAST-MODIFIED:20250728T124030Z
UID:10002067-1892570400-1892574000@www.ecsautoecole.fr
SUMMARY:Cours de code à Sablé
DESCRIPTION:
URL:https://www.ecsautoecole.fr/event/cours-de-code-3/2029-12-21/
LOCATION:sablé sur sarthe\, 48 rue du mans\, sablé sur sarthe\, 72300\, France
CATEGORIES:Cours de Code
END:VEVENT
BEGIN:VEVENT
DTSTART;TZID=Europe/Paris:20291219T180000
DTEND;TZID=Europe/Paris:20291219T190000
DTSTAMP:20260423T231428
CREATED:20250731T154643Z
LAST-MODIFIED:20250731T154643Z
UID:10009125-1892397600-1892401200@www.ecsautoecole.fr
SUMMARY:Cours de code AMC Formation
DESCRIPTION:
URL:https://www.ecsautoecole.fr/event/cours-de-code-amc-formation/2029-12-19/
LOCATION:AMC FORMATION la flèche
CATEGORIES:Cours de Code
END:VEVENT
BEGIN:VEVENT
DTSTART;TZID=Europe/Paris:20291219T180000
DTEND;TZID=Europe/Paris:20291219T190000
DTSTAMP:20260423T231428
CREATED:20250724T110200Z
LAST-MODIFIED:20250728T124123Z
UID:10001023-1892397600-1892401200@www.ecsautoecole.fr
SUMMARY:cours de code à Sablé
DESCRIPTION:
URL:https://www.ecsautoecole.fr/event/cours-de-code-2/2029-12-19/
LOCATION:sablé sur sarthe\, 48 rue du mans\, sablé sur sarthe\, 72300\, France
CATEGORIES:Cours de Code
END:VEVENT
BEGIN:VEVENT
DTSTART;TZID=Europe/Paris:20291218T180000
DTEND;TZID=Europe/Paris:20291218T190000
DTSTAMP:20260423T231428
CREATED:20250724T072037Z
LAST-MODIFIED:20250728T124113Z
UID:10000240-1892311200-1892314800@www.ecsautoecole.fr
SUMMARY:Cours de code à Sablé
DESCRIPTION:
URL:https://www.ecsautoecole.fr/event/cours-de-code/2029-12-18/
LOCATION:sablé sur sarthe\, 48 rue du mans\, sablé sur sarthe\, 72300\, France
CATEGORIES:Cours de Code
END:VEVENT
BEGIN:VEVENT
DTSTART;TZID=Europe/Paris:20291215T130000
DTEND;TZID=Europe/Paris:20291215T140000
DTSTAMP:20260423T231428
CREATED:20250724T140337Z
LAST-MODIFIED:20250728T124054Z
UID:10004413-1892034000-1892037600@www.ecsautoecole.fr
SUMMARY:Cours de code à Sablé
DESCRIPTION:
URL:https://www.ecsautoecole.fr/event/cours-de-code-4/2029-12-15/
LOCATION:sablé sur sarthe\, 48 rue du mans\, sablé sur sarthe\, 72300\, France
CATEGORIES:Cours de Code
END:VEVENT
BEGIN:VEVENT
DTSTART;TZID=Europe/Paris:20291215T100000
DTEND;TZID=Europe/Paris:20291215T110000
DTSTAMP:20260423T231428
CREATED:20250731T155102Z
LAST-MODIFIED:20250731T155102Z
UID:10010694-1892023200-1892026800@www.ecsautoecole.fr
SUMMARY:Cours de code AMC Formation
DESCRIPTION:
URL:https://www.ecsautoecole.fr/event/cours-de-code-6/2029-12-15/
LOCATION:AMC FORMATION la flèche
CATEGORIES:Cours de Code
END:VEVENT
BEGIN:VEVENT
DTSTART;TZID=Europe/Paris:20291214T180000
DTEND;TZID=Europe/Paris:20291214T190000
DTSTAMP:20260423T231428
CREATED:20250731T154800Z
LAST-MODIFIED:20250731T154800Z
UID:10009648-1891965600-1891969200@www.ecsautoecole.fr
SUMMARY:Cours de code AMC Formation
DESCRIPTION:
URL:https://www.ecsautoecole.fr/event/cours-de-code-la-fleche/2029-12-14/
LOCATION:AMC FORMATION la flèche
CATEGORIES:Cours de Code
END:VEVENT
BEGIN:VEVENT
DTSTART;TZID=Europe/Paris:20291214T180000
DTEND;TZID=Europe/Paris:20291214T190000
DTSTAMP:20260423T231428
CREATED:20250724T140124Z
LAST-MODIFIED:20250728T124030Z
UID:10002066-1891965600-1891969200@www.ecsautoecole.fr
SUMMARY:Cours de code à Sablé
DESCRIPTION:
URL:https://www.ecsautoecole.fr/event/cours-de-code-3/2029-12-14/
LOCATION:sablé sur sarthe\, 48 rue du mans\, sablé sur sarthe\, 72300\, France
CATEGORIES:Cours de Code
END:VEVENT
BEGIN:VEVENT
DTSTART;TZID=Europe/Paris:20291212T180000
DTEND;TZID=Europe/Paris:20291212T190000
DTSTAMP:20260423T231428
CREATED:20250731T154643Z
LAST-MODIFIED:20250731T154643Z
UID:10009124-1891792800-1891796400@www.ecsautoecole.fr
SUMMARY:Cours de code AMC Formation
DESCRIPTION:
URL:https://www.ecsautoecole.fr/event/cours-de-code-amc-formation/2029-12-12/
LOCATION:AMC FORMATION la flèche
CATEGORIES:Cours de Code
END:VEVENT
BEGIN:VEVENT
DTSTART;TZID=Europe/Paris:20291212T180000
DTEND;TZID=Europe/Paris:20291212T190000
DTSTAMP:20260423T231428
CREATED:20250724T110200Z
LAST-MODIFIED:20250728T124123Z
UID:10001022-1891792800-1891796400@www.ecsautoecole.fr
SUMMARY:cours de code à Sablé
DESCRIPTION:
URL:https://www.ecsautoecole.fr/event/cours-de-code-2/2029-12-12/
LOCATION:sablé sur sarthe\, 48 rue du mans\, sablé sur sarthe\, 72300\, France
CATEGORIES:Cours de Code
END:VEVENT
BEGIN:VEVENT
DTSTART;TZID=Europe/Paris:20291211T180000
DTEND;TZID=Europe/Paris:20291211T190000
DTSTAMP:20260423T231428
CREATED:20250724T072037Z
LAST-MODIFIED:20250728T124113Z
UID:10000239-1891706400-1891710000@www.ecsautoecole.fr
SUMMARY:Cours de code à Sablé
DESCRIPTION:
URL:https://www.ecsautoecole.fr/event/cours-de-code/2029-12-11/
LOCATION:sablé sur sarthe\, 48 rue du mans\, sablé sur sarthe\, 72300\, France
CATEGORIES:Cours de Code
END:VEVENT
BEGIN:VEVENT
DTSTART;TZID=Europe/Paris:20291208T130000
DTEND;TZID=Europe/Paris:20291208T140000
DTSTAMP:20260423T231428
CREATED:20250724T140337Z
LAST-MODIFIED:20250728T124054Z
UID:10004412-1891429200-1891432800@www.ecsautoecole.fr
SUMMARY:Cours de code à Sablé
DESCRIPTION:
URL:https://www.ecsautoecole.fr/event/cours-de-code-4/2029-12-08/
LOCATION:sablé sur sarthe\, 48 rue du mans\, sablé sur sarthe\, 72300\, France
CATEGORIES:Cours de Code
END:VEVENT
BEGIN:VEVENT
DTSTART;TZID=Europe/Paris:20291208T100000
DTEND;TZID=Europe/Paris:20291208T110000
DTSTAMP:20260423T231428
CREATED:20250731T155102Z
LAST-MODIFIED:20250731T155102Z
UID:10010693-1891418400-1891422000@www.ecsautoecole.fr
SUMMARY:Cours de code AMC Formation
DESCRIPTION:
URL:https://www.ecsautoecole.fr/event/cours-de-code-6/2029-12-08/
LOCATION:AMC FORMATION la flèche
CATEGORIES:Cours de Code
END:VEVENT
BEGIN:VEVENT
DTSTART;TZID=Europe/Paris:20291207T180000
DTEND;TZID=Europe/Paris:20291207T190000
DTSTAMP:20260423T231428
CREATED:20250731T154800Z
LAST-MODIFIED:20250731T154800Z
UID:10009647-1891360800-1891364400@www.ecsautoecole.fr
SUMMARY:Cours de code AMC Formation
DESCRIPTION:
URL:https://www.ecsautoecole.fr/event/cours-de-code-la-fleche/2029-12-07/
LOCATION:AMC FORMATION la flèche
CATEGORIES:Cours de Code
END:VEVENT
BEGIN:VEVENT
DTSTART;TZID=Europe/Paris:20291207T180000
DTEND;TZID=Europe/Paris:20291207T190000
DTSTAMP:20260423T231428
CREATED:20250724T140124Z
LAST-MODIFIED:20250728T124030Z
UID:10002065-1891360800-1891364400@www.ecsautoecole.fr
SUMMARY:Cours de code à Sablé
DESCRIPTION:
URL:https://www.ecsautoecole.fr/event/cours-de-code-3/2029-12-07/
LOCATION:sablé sur sarthe\, 48 rue du mans\, sablé sur sarthe\, 72300\, France
CATEGORIES:Cours de Code
END:VEVENT
BEGIN:VEVENT
DTSTART;TZID=Europe/Paris:20291205T180000
DTEND;TZID=Europe/Paris:20291205T190000
DTSTAMP:20260423T231428
CREATED:20250731T154643Z
LAST-MODIFIED:20250731T154643Z
UID:10009123-1891188000-1891191600@www.ecsautoecole.fr
SUMMARY:Cours de code AMC Formation
DESCRIPTION:
URL:https://www.ecsautoecole.fr/event/cours-de-code-amc-formation/2029-12-05/
LOCATION:AMC FORMATION la flèche
CATEGORIES:Cours de Code
END:VEVENT
BEGIN:VEVENT
DTSTART;TZID=Europe/Paris:20291205T180000
DTEND;TZID=Europe/Paris:20291205T190000
DTSTAMP:20260423T231428
CREATED:20250724T110200Z
LAST-MODIFIED:20250728T124123Z
UID:10001021-1891188000-1891191600@www.ecsautoecole.fr
SUMMARY:cours de code à Sablé
DESCRIPTION:
URL:https://www.ecsautoecole.fr/event/cours-de-code-2/2029-12-05/
LOCATION:sablé sur sarthe\, 48 rue du mans\, sablé sur sarthe\, 72300\, France
CATEGORIES:Cours de Code
END:VEVENT
BEGIN:VEVENT
DTSTART;TZID=Europe/Paris:20291204T180000
DTEND;TZID=Europe/Paris:20291204T190000
DTSTAMP:20260423T231428
CREATED:20250724T072037Z
LAST-MODIFIED:20250728T124113Z
UID:10000238-1891101600-1891105200@www.ecsautoecole.fr
SUMMARY:Cours de code à Sablé
DESCRIPTION:
URL:https://www.ecsautoecole.fr/event/cours-de-code/2029-12-04/
LOCATION:sablé sur sarthe\, 48 rue du mans\, sablé sur sarthe\, 72300\, France
CATEGORIES:Cours de Code
END:VEVENT
BEGIN:VEVENT
DTSTART;TZID=Europe/Paris:20291201T130000
DTEND;TZID=Europe/Paris:20291201T140000
DTSTAMP:20260423T231428
CREATED:20250724T140337Z
LAST-MODIFIED:20250728T124054Z
UID:10004411-1890824400-1890828000@www.ecsautoecole.fr
SUMMARY:Cours de code à Sablé
DESCRIPTION:
URL:https://www.ecsautoecole.fr/event/cours-de-code-4/2029-12-01/
LOCATION:sablé sur sarthe\, 48 rue du mans\, sablé sur sarthe\, 72300\, France
CATEGORIES:Cours de Code
END:VEVENT
BEGIN:VEVENT
DTSTART;TZID=Europe/Paris:20291201T100000
DTEND;TZID=Europe/Paris:20291201T110000
DTSTAMP:20260423T231428
CREATED:20250731T155102Z
LAST-MODIFIED:20250731T155102Z
UID:10010692-1890813600-1890817200@www.ecsautoecole.fr
SUMMARY:Cours de code AMC Formation
DESCRIPTION:
URL:https://www.ecsautoecole.fr/event/cours-de-code-6/2029-12-01/
LOCATION:AMC FORMATION la flèche
CATEGORIES:Cours de Code
END:VEVENT
END:VCALENDAR