BEGIN:VCALENDAR
VERSION:2.0
PRODID:-//ECS Formation Sabolienne - ECPv6.10.1.1//NONSGML v1.0//EN
CALSCALE:GREGORIAN
METHOD:PUBLISH
X-WR-CALNAME:ECS Formation Sabolienne
X-ORIGINAL-URL:https://www.ecsautoecole.fr
X-WR-CALDESC:Évènements pour ECS Formation Sabolienne
REFRESH-INTERVAL;VALUE=DURATION:PT1H
X-Robots-Tag:noindex
X-PUBLISHED-TTL:PT1H
BEGIN:VTIMEZONE
TZID:Europe/Paris
BEGIN:DAYLIGHT
TZOFFSETFROM:+0100
TZOFFSETTO:+0200
TZNAME:CEST
DTSTART:20270328T010000
END:DAYLIGHT
BEGIN:STANDARD
TZOFFSETFROM:+0200
TZOFFSETTO:+0100
TZNAME:CET
DTSTART:20271031T010000
END:STANDARD
END:VTIMEZONE
BEGIN:VEVENT
DTSTART;TZID=Europe/Paris:20271201T180000
DTEND;TZID=Europe/Paris:20271201T190000
DTSTAMP:20260421T214419
CREATED:20250724T110200Z
LAST-MODIFIED:20250728T124123Z
UID:10000916-1827684000-1827687600@www.ecsautoecole.fr
SUMMARY:cours de code à Sablé
DESCRIPTION:
URL:https://www.ecsautoecole.fr/event/cours-de-code-2/2027-12-01/
LOCATION:sablé sur sarthe\, 48 rue du mans\, sablé sur sarthe\, 72300\, France
CATEGORIES:Cours de Code
END:VEVENT
BEGIN:VEVENT
DTSTART;TZID=Europe/Paris:20271201T180000
DTEND;TZID=Europe/Paris:20271201T190000
DTSTAMP:20260421T214419
CREATED:20250731T154643Z
LAST-MODIFIED:20250731T154643Z
UID:10009018-1827684000-1827687600@www.ecsautoecole.fr
SUMMARY:Cours de code AMC Formation
DESCRIPTION:
URL:https://www.ecsautoecole.fr/event/cours-de-code-amc-formation/2027-12-01/
LOCATION:AMC FORMATION la flèche
CATEGORIES:Cours de Code
END:VEVENT
BEGIN:VEVENT
DTSTART;TZID=Europe/Paris:20271203T180000
DTEND;TZID=Europe/Paris:20271203T190000
DTSTAMP:20260421T214419
CREATED:20250724T140124Z
LAST-MODIFIED:20250728T124030Z
UID:10001960-1827856800-1827860400@www.ecsautoecole.fr
SUMMARY:Cours de code à Sablé
DESCRIPTION:
URL:https://www.ecsautoecole.fr/event/cours-de-code-3/2027-12-03/
LOCATION:sablé sur sarthe\, 48 rue du mans\, sablé sur sarthe\, 72300\, France
CATEGORIES:Cours de Code
END:VEVENT
BEGIN:VEVENT
DTSTART;TZID=Europe/Paris:20271203T180000
DTEND;TZID=Europe/Paris:20271203T190000
DTSTAMP:20260421T214419
CREATED:20250731T154800Z
LAST-MODIFIED:20250731T154800Z
UID:10009542-1827856800-1827860400@www.ecsautoecole.fr
SUMMARY:Cours de code AMC Formation
DESCRIPTION:
URL:https://www.ecsautoecole.fr/event/cours-de-code-la-fleche/2027-12-03/
LOCATION:AMC FORMATION la flèche
CATEGORIES:Cours de Code
END:VEVENT
BEGIN:VEVENT
DTSTART;TZID=Europe/Paris:20271204T100000
DTEND;TZID=Europe/Paris:20271204T110000
DTSTAMP:20260421T214419
CREATED:20250731T155102Z
LAST-MODIFIED:20250731T155102Z
UID:10010588-1827914400-1827918000@www.ecsautoecole.fr
SUMMARY:Cours de code AMC Formation
DESCRIPTION:
URL:https://www.ecsautoecole.fr/event/cours-de-code-6/2027-12-04/
LOCATION:AMC FORMATION la flèche
CATEGORIES:Cours de Code
END:VEVENT
BEGIN:VEVENT
DTSTART;TZID=Europe/Paris:20271204T130000
DTEND;TZID=Europe/Paris:20271204T140000
DTSTAMP:20260421T214419
CREATED:20250724T140337Z
LAST-MODIFIED:20250728T124054Z
UID:10004307-1827925200-1827928800@www.ecsautoecole.fr
SUMMARY:Cours de code à Sablé
DESCRIPTION:
URL:https://www.ecsautoecole.fr/event/cours-de-code-4/2027-12-04/
LOCATION:sablé sur sarthe\, 48 rue du mans\, sablé sur sarthe\, 72300\, France
CATEGORIES:Cours de Code
END:VEVENT
BEGIN:VEVENT
DTSTART;TZID=Europe/Paris:20271207T180000
DTEND;TZID=Europe/Paris:20271207T190000
DTSTAMP:20260421T214419
CREATED:20250724T072037Z
LAST-MODIFIED:20250728T124113Z
UID:10000134-1828202400-1828206000@www.ecsautoecole.fr
SUMMARY:Cours de code à Sablé
DESCRIPTION:
URL:https://www.ecsautoecole.fr/event/cours-de-code/2027-12-07/
LOCATION:sablé sur sarthe\, 48 rue du mans\, sablé sur sarthe\, 72300\, France
CATEGORIES:Cours de Code
END:VEVENT
BEGIN:VEVENT
DTSTART;TZID=Europe/Paris:20271208T180000
DTEND;TZID=Europe/Paris:20271208T190000
DTSTAMP:20260421T214419
CREATED:20250724T110200Z
LAST-MODIFIED:20250728T124123Z
UID:10000917-1828288800-1828292400@www.ecsautoecole.fr
SUMMARY:cours de code à Sablé
DESCRIPTION:
URL:https://www.ecsautoecole.fr/event/cours-de-code-2/2027-12-08/
LOCATION:sablé sur sarthe\, 48 rue du mans\, sablé sur sarthe\, 72300\, France
CATEGORIES:Cours de Code
END:VEVENT
BEGIN:VEVENT
DTSTART;TZID=Europe/Paris:20271208T180000
DTEND;TZID=Europe/Paris:20271208T190000
DTSTAMP:20260421T214419
CREATED:20250731T154643Z
LAST-MODIFIED:20250731T154643Z
UID:10009019-1828288800-1828292400@www.ecsautoecole.fr
SUMMARY:Cours de code AMC Formation
DESCRIPTION:
URL:https://www.ecsautoecole.fr/event/cours-de-code-amc-formation/2027-12-08/
LOCATION:AMC FORMATION la flèche
CATEGORIES:Cours de Code
END:VEVENT
BEGIN:VEVENT
DTSTART;TZID=Europe/Paris:20271210T180000
DTEND;TZID=Europe/Paris:20271210T190000
DTSTAMP:20260421T214419
CREATED:20250724T140124Z
LAST-MODIFIED:20250728T124030Z
UID:10001961-1828461600-1828465200@www.ecsautoecole.fr
SUMMARY:Cours de code à Sablé
DESCRIPTION:
URL:https://www.ecsautoecole.fr/event/cours-de-code-3/2027-12-10/
LOCATION:sablé sur sarthe\, 48 rue du mans\, sablé sur sarthe\, 72300\, France
CATEGORIES:Cours de Code
END:VEVENT
BEGIN:VEVENT
DTSTART;TZID=Europe/Paris:20271210T180000
DTEND;TZID=Europe/Paris:20271210T190000
DTSTAMP:20260421T214419
CREATED:20250731T154800Z
LAST-MODIFIED:20250731T154800Z
UID:10009543-1828461600-1828465200@www.ecsautoecole.fr
SUMMARY:Cours de code AMC Formation
DESCRIPTION:
URL:https://www.ecsautoecole.fr/event/cours-de-code-la-fleche/2027-12-10/
LOCATION:AMC FORMATION la flèche
CATEGORIES:Cours de Code
END:VEVENT
BEGIN:VEVENT
DTSTART;TZID=Europe/Paris:20271211T100000
DTEND;TZID=Europe/Paris:20271211T110000
DTSTAMP:20260421T214419
CREATED:20250731T155102Z
LAST-MODIFIED:20250731T155102Z
UID:10010589-1828519200-1828522800@www.ecsautoecole.fr
SUMMARY:Cours de code AMC Formation
DESCRIPTION:
URL:https://www.ecsautoecole.fr/event/cours-de-code-6/2027-12-11/
LOCATION:AMC FORMATION la flèche
CATEGORIES:Cours de Code
END:VEVENT
BEGIN:VEVENT
DTSTART;TZID=Europe/Paris:20271211T130000
DTEND;TZID=Europe/Paris:20271211T140000
DTSTAMP:20260421T214419
CREATED:20250724T140337Z
LAST-MODIFIED:20250728T124054Z
UID:10004308-1828530000-1828533600@www.ecsautoecole.fr
SUMMARY:Cours de code à Sablé
DESCRIPTION:
URL:https://www.ecsautoecole.fr/event/cours-de-code-4/2027-12-11/
LOCATION:sablé sur sarthe\, 48 rue du mans\, sablé sur sarthe\, 72300\, France
CATEGORIES:Cours de Code
END:VEVENT
BEGIN:VEVENT
DTSTART;TZID=Europe/Paris:20271214T180000
DTEND;TZID=Europe/Paris:20271214T190000
DTSTAMP:20260421T214419
CREATED:20250724T072037Z
LAST-MODIFIED:20250728T124113Z
UID:10000135-1828807200-1828810800@www.ecsautoecole.fr
SUMMARY:Cours de code à Sablé
DESCRIPTION:
URL:https://www.ecsautoecole.fr/event/cours-de-code/2027-12-14/
LOCATION:sablé sur sarthe\, 48 rue du mans\, sablé sur sarthe\, 72300\, France
CATEGORIES:Cours de Code
END:VEVENT
BEGIN:VEVENT
DTSTART;TZID=Europe/Paris:20271215T180000
DTEND;TZID=Europe/Paris:20271215T190000
DTSTAMP:20260421T214419
CREATED:20250724T110200Z
LAST-MODIFIED:20250728T124123Z
UID:10000918-1828893600-1828897200@www.ecsautoecole.fr
SUMMARY:cours de code à Sablé
DESCRIPTION:
URL:https://www.ecsautoecole.fr/event/cours-de-code-2/2027-12-15/
LOCATION:sablé sur sarthe\, 48 rue du mans\, sablé sur sarthe\, 72300\, France
CATEGORIES:Cours de Code
END:VEVENT
BEGIN:VEVENT
DTSTART;TZID=Europe/Paris:20271215T180000
DTEND;TZID=Europe/Paris:20271215T190000
DTSTAMP:20260421T214419
CREATED:20250731T154643Z
LAST-MODIFIED:20250731T154643Z
UID:10009020-1828893600-1828897200@www.ecsautoecole.fr
SUMMARY:Cours de code AMC Formation
DESCRIPTION:
URL:https://www.ecsautoecole.fr/event/cours-de-code-amc-formation/2027-12-15/
LOCATION:AMC FORMATION la flèche
CATEGORIES:Cours de Code
END:VEVENT
BEGIN:VEVENT
DTSTART;TZID=Europe/Paris:20271217T180000
DTEND;TZID=Europe/Paris:20271217T190000
DTSTAMP:20260421T214419
CREATED:20250724T140124Z
LAST-MODIFIED:20250728T124030Z
UID:10001962-1829066400-1829070000@www.ecsautoecole.fr
SUMMARY:Cours de code à Sablé
DESCRIPTION:
URL:https://www.ecsautoecole.fr/event/cours-de-code-3/2027-12-17/
LOCATION:sablé sur sarthe\, 48 rue du mans\, sablé sur sarthe\, 72300\, France
CATEGORIES:Cours de Code
END:VEVENT
BEGIN:VEVENT
DTSTART;TZID=Europe/Paris:20271217T180000
DTEND;TZID=Europe/Paris:20271217T190000
DTSTAMP:20260421T214419
CREATED:20250731T154800Z
LAST-MODIFIED:20250731T154800Z
UID:10009544-1829066400-1829070000@www.ecsautoecole.fr
SUMMARY:Cours de code AMC Formation
DESCRIPTION:
URL:https://www.ecsautoecole.fr/event/cours-de-code-la-fleche/2027-12-17/
LOCATION:AMC FORMATION la flèche
CATEGORIES:Cours de Code
END:VEVENT
BEGIN:VEVENT
DTSTART;TZID=Europe/Paris:20271218T100000
DTEND;TZID=Europe/Paris:20271218T110000
DTSTAMP:20260421T214419
CREATED:20250731T155102Z
LAST-MODIFIED:20250731T155102Z
UID:10010590-1829124000-1829127600@www.ecsautoecole.fr
SUMMARY:Cours de code AMC Formation
DESCRIPTION:
URL:https://www.ecsautoecole.fr/event/cours-de-code-6/2027-12-18/
LOCATION:AMC FORMATION la flèche
CATEGORIES:Cours de Code
END:VEVENT
BEGIN:VEVENT
DTSTART;TZID=Europe/Paris:20271218T130000
DTEND;TZID=Europe/Paris:20271218T140000
DTSTAMP:20260421T214420
CREATED:20250724T140337Z
LAST-MODIFIED:20250728T124054Z
UID:10004309-1829134800-1829138400@www.ecsautoecole.fr
SUMMARY:Cours de code à Sablé
DESCRIPTION:
URL:https://www.ecsautoecole.fr/event/cours-de-code-4/2027-12-18/
LOCATION:sablé sur sarthe\, 48 rue du mans\, sablé sur sarthe\, 72300\, France
CATEGORIES:Cours de Code
END:VEVENT
BEGIN:VEVENT
DTSTART;TZID=Europe/Paris:20271221T180000
DTEND;TZID=Europe/Paris:20271221T190000
DTSTAMP:20260421T214420
CREATED:20250724T072037Z
LAST-MODIFIED:20250728T124113Z
UID:10000136-1829412000-1829415600@www.ecsautoecole.fr
SUMMARY:Cours de code à Sablé
DESCRIPTION:
URL:https://www.ecsautoecole.fr/event/cours-de-code/2027-12-21/
LOCATION:sablé sur sarthe\, 48 rue du mans\, sablé sur sarthe\, 72300\, France
CATEGORIES:Cours de Code
END:VEVENT
BEGIN:VEVENT
DTSTART;TZID=Europe/Paris:20271222T180000
DTEND;TZID=Europe/Paris:20271222T190000
DTSTAMP:20260421T214420
CREATED:20250724T110200Z
LAST-MODIFIED:20250728T124123Z
UID:10000919-1829498400-1829502000@www.ecsautoecole.fr
SUMMARY:cours de code à Sablé
DESCRIPTION:
URL:https://www.ecsautoecole.fr/event/cours-de-code-2/2027-12-22/
LOCATION:sablé sur sarthe\, 48 rue du mans\, sablé sur sarthe\, 72300\, France
CATEGORIES:Cours de Code
END:VEVENT
BEGIN:VEVENT
DTSTART;TZID=Europe/Paris:20271222T180000
DTEND;TZID=Europe/Paris:20271222T190000
DTSTAMP:20260421T214420
CREATED:20250731T154643Z
LAST-MODIFIED:20250731T154643Z
UID:10009021-1829498400-1829502000@www.ecsautoecole.fr
SUMMARY:Cours de code AMC Formation
DESCRIPTION:
URL:https://www.ecsautoecole.fr/event/cours-de-code-amc-formation/2027-12-22/
LOCATION:AMC FORMATION la flèche
CATEGORIES:Cours de Code
END:VEVENT
BEGIN:VEVENT
DTSTART;TZID=Europe/Paris:20271224T180000
DTEND;TZID=Europe/Paris:20271224T190000
DTSTAMP:20260421T214420
CREATED:20250724T140124Z
LAST-MODIFIED:20250728T124030Z
UID:10001963-1829671200-1829674800@www.ecsautoecole.fr
SUMMARY:Cours de code à Sablé
DESCRIPTION:
URL:https://www.ecsautoecole.fr/event/cours-de-code-3/2027-12-24/
LOCATION:sablé sur sarthe\, 48 rue du mans\, sablé sur sarthe\, 72300\, France
CATEGORIES:Cours de Code
END:VEVENT
BEGIN:VEVENT
DTSTART;TZID=Europe/Paris:20271224T180000
DTEND;TZID=Europe/Paris:20271224T190000
DTSTAMP:20260421T214420
CREATED:20250731T154800Z
LAST-MODIFIED:20250731T154800Z
UID:10009545-1829671200-1829674800@www.ecsautoecole.fr
SUMMARY:Cours de code AMC Formation
DESCRIPTION:
URL:https://www.ecsautoecole.fr/event/cours-de-code-la-fleche/2027-12-24/
LOCATION:AMC FORMATION la flèche
CATEGORIES:Cours de Code
END:VEVENT
BEGIN:VEVENT
DTSTART;TZID=Europe/Paris:20271225T100000
DTEND;TZID=Europe/Paris:20271225T110000
DTSTAMP:20260421T214420
CREATED:20250731T155102Z
LAST-MODIFIED:20250731T155102Z
UID:10010591-1829728800-1829732400@www.ecsautoecole.fr
SUMMARY:Cours de code AMC Formation
DESCRIPTION:
URL:https://www.ecsautoecole.fr/event/cours-de-code-6/2027-12-25/
LOCATION:AMC FORMATION la flèche
CATEGORIES:Cours de Code
END:VEVENT
BEGIN:VEVENT
DTSTART;TZID=Europe/Paris:20271225T130000
DTEND;TZID=Europe/Paris:20271225T140000
DTSTAMP:20260421T214420
CREATED:20250724T140337Z
LAST-MODIFIED:20250728T124054Z
UID:10004310-1829739600-1829743200@www.ecsautoecole.fr
SUMMARY:Cours de code à Sablé
DESCRIPTION:
URL:https://www.ecsautoecole.fr/event/cours-de-code-4/2027-12-25/
LOCATION:sablé sur sarthe\, 48 rue du mans\, sablé sur sarthe\, 72300\, France
CATEGORIES:Cours de Code
END:VEVENT
BEGIN:VEVENT
DTSTART;TZID=Europe/Paris:20271228T180000
DTEND;TZID=Europe/Paris:20271228T190000
DTSTAMP:20260421T214420
CREATED:20250724T072037Z
LAST-MODIFIED:20250728T124113Z
UID:10000137-1830016800-1830020400@www.ecsautoecole.fr
SUMMARY:Cours de code à Sablé
DESCRIPTION:
URL:https://www.ecsautoecole.fr/event/cours-de-code/2027-12-28/
LOCATION:sablé sur sarthe\, 48 rue du mans\, sablé sur sarthe\, 72300\, France
CATEGORIES:Cours de Code
END:VEVENT
BEGIN:VEVENT
DTSTART;TZID=Europe/Paris:20271229T180000
DTEND;TZID=Europe/Paris:20271229T190000
DTSTAMP:20260421T214420
CREATED:20250724T110200Z
LAST-MODIFIED:20250728T124123Z
UID:10000920-1830103200-1830106800@www.ecsautoecole.fr
SUMMARY:cours de code à Sablé
DESCRIPTION:
URL:https://www.ecsautoecole.fr/event/cours-de-code-2/2027-12-29/
LOCATION:sablé sur sarthe\, 48 rue du mans\, sablé sur sarthe\, 72300\, France
CATEGORIES:Cours de Code
END:VEVENT
BEGIN:VEVENT
DTSTART;TZID=Europe/Paris:20271229T180000
DTEND;TZID=Europe/Paris:20271229T190000
DTSTAMP:20260421T214420
CREATED:20250731T154643Z
LAST-MODIFIED:20250731T154643Z
UID:10009022-1830103200-1830106800@www.ecsautoecole.fr
SUMMARY:Cours de code AMC Formation
DESCRIPTION:
URL:https://www.ecsautoecole.fr/event/cours-de-code-amc-formation/2027-12-29/
LOCATION:AMC FORMATION la flèche
CATEGORIES:Cours de Code
END:VEVENT
END:VCALENDAR