BEGIN:VCALENDAR
VERSION:2.0
PRODID:-//ECS Formation Sabolienne - ECPv6.10.1.1//NONSGML v1.0//EN
CALSCALE:GREGORIAN
METHOD:PUBLISH
X-WR-CALNAME:ECS Formation Sabolienne
X-ORIGINAL-URL:https://www.ecsautoecole.fr
X-WR-CALDESC:Évènements pour ECS Formation Sabolienne
REFRESH-INTERVAL;VALUE=DURATION:PT1H
X-Robots-Tag:noindex
X-PUBLISHED-TTL:PT1H
BEGIN:VTIMEZONE
TZID:Europe/Paris
BEGIN:DAYLIGHT
TZOFFSETFROM:+0100
TZOFFSETTO:+0200
TZNAME:CEST
DTSTART:20280326T010000
END:DAYLIGHT
BEGIN:STANDARD
TZOFFSETFROM:+0200
TZOFFSETTO:+0100
TZNAME:CET
DTSTART:20281029T010000
END:STANDARD
END:VTIMEZONE
BEGIN:VEVENT
DTSTART;TZID=Europe/Paris:20280401T100000
DTEND;TZID=Europe/Paris:20280401T110000
DTSTAMP:20260422T041119
CREATED:20250731T155102Z
LAST-MODIFIED:20250731T155102Z
UID:10010605-1838196000-1838199600@www.ecsautoecole.fr
SUMMARY:Cours de code AMC Formation
DESCRIPTION:
URL:https://www.ecsautoecole.fr/event/cours-de-code-6/2028-04-01/
LOCATION:AMC FORMATION la flèche
CATEGORIES:Cours de Code
END:VEVENT
BEGIN:VEVENT
DTSTART;TZID=Europe/Paris:20280401T130000
DTEND;TZID=Europe/Paris:20280401T140000
DTSTAMP:20260422T041119
CREATED:20250724T140337Z
LAST-MODIFIED:20250728T124054Z
UID:10004324-1838206800-1838210400@www.ecsautoecole.fr
SUMMARY:Cours de code à Sablé
DESCRIPTION:
URL:https://www.ecsautoecole.fr/event/cours-de-code-4/2028-04-01/
LOCATION:sablé sur sarthe\, 48 rue du mans\, sablé sur sarthe\, 72300\, France
CATEGORIES:Cours de Code
END:VEVENT
BEGIN:VEVENT
DTSTART;TZID=Europe/Paris:20280404T180000
DTEND;TZID=Europe/Paris:20280404T190000
DTSTAMP:20260422T041119
CREATED:20250724T072037Z
LAST-MODIFIED:20250728T124113Z
UID:10000151-1838484000-1838487600@www.ecsautoecole.fr
SUMMARY:Cours de code à Sablé
DESCRIPTION:
URL:https://www.ecsautoecole.fr/event/cours-de-code/2028-04-04/
LOCATION:sablé sur sarthe\, 48 rue du mans\, sablé sur sarthe\, 72300\, France
CATEGORIES:Cours de Code
END:VEVENT
BEGIN:VEVENT
DTSTART;TZID=Europe/Paris:20280405T180000
DTEND;TZID=Europe/Paris:20280405T190000
DTSTAMP:20260422T041119
CREATED:20250724T110200Z
LAST-MODIFIED:20250728T124123Z
UID:10000934-1838570400-1838574000@www.ecsautoecole.fr
SUMMARY:cours de code à Sablé
DESCRIPTION:
URL:https://www.ecsautoecole.fr/event/cours-de-code-2/2028-04-05/
LOCATION:sablé sur sarthe\, 48 rue du mans\, sablé sur sarthe\, 72300\, France
CATEGORIES:Cours de Code
END:VEVENT
BEGIN:VEVENT
DTSTART;TZID=Europe/Paris:20280405T180000
DTEND;TZID=Europe/Paris:20280405T190000
DTSTAMP:20260422T041119
CREATED:20250731T154643Z
LAST-MODIFIED:20250731T154643Z
UID:10009036-1838570400-1838574000@www.ecsautoecole.fr
SUMMARY:Cours de code AMC Formation
DESCRIPTION:
URL:https://www.ecsautoecole.fr/event/cours-de-code-amc-formation/2028-04-05/
LOCATION:AMC FORMATION la flèche
CATEGORIES:Cours de Code
END:VEVENT
BEGIN:VEVENT
DTSTART;TZID=Europe/Paris:20280407T180000
DTEND;TZID=Europe/Paris:20280407T190000
DTSTAMP:20260422T041119
CREATED:20250724T140124Z
LAST-MODIFIED:20250728T124030Z
UID:10001978-1838743200-1838746800@www.ecsautoecole.fr
SUMMARY:Cours de code à Sablé
DESCRIPTION:
URL:https://www.ecsautoecole.fr/event/cours-de-code-3/2028-04-07/
LOCATION:sablé sur sarthe\, 48 rue du mans\, sablé sur sarthe\, 72300\, France
CATEGORIES:Cours de Code
END:VEVENT
BEGIN:VEVENT
DTSTART;TZID=Europe/Paris:20280407T180000
DTEND;TZID=Europe/Paris:20280407T190000
DTSTAMP:20260422T041119
CREATED:20250731T154800Z
LAST-MODIFIED:20250731T154800Z
UID:10009560-1838743200-1838746800@www.ecsautoecole.fr
SUMMARY:Cours de code AMC Formation
DESCRIPTION:
URL:https://www.ecsautoecole.fr/event/cours-de-code-la-fleche/2028-04-07/
LOCATION:AMC FORMATION la flèche
CATEGORIES:Cours de Code
END:VEVENT
BEGIN:VEVENT
DTSTART;TZID=Europe/Paris:20280408T100000
DTEND;TZID=Europe/Paris:20280408T110000
DTSTAMP:20260422T041119
CREATED:20250731T155102Z
LAST-MODIFIED:20250731T155102Z
UID:10010606-1838800800-1838804400@www.ecsautoecole.fr
SUMMARY:Cours de code AMC Formation
DESCRIPTION:
URL:https://www.ecsautoecole.fr/event/cours-de-code-6/2028-04-08/
LOCATION:AMC FORMATION la flèche
CATEGORIES:Cours de Code
END:VEVENT
BEGIN:VEVENT
DTSTART;TZID=Europe/Paris:20280408T130000
DTEND;TZID=Europe/Paris:20280408T140000
DTSTAMP:20260422T041119
CREATED:20250724T140337Z
LAST-MODIFIED:20250728T124054Z
UID:10004325-1838811600-1838815200@www.ecsautoecole.fr
SUMMARY:Cours de code à Sablé
DESCRIPTION:
URL:https://www.ecsautoecole.fr/event/cours-de-code-4/2028-04-08/
LOCATION:sablé sur sarthe\, 48 rue du mans\, sablé sur sarthe\, 72300\, France
CATEGORIES:Cours de Code
END:VEVENT
BEGIN:VEVENT
DTSTART;TZID=Europe/Paris:20280411T180000
DTEND;TZID=Europe/Paris:20280411T190000
DTSTAMP:20260422T041119
CREATED:20250724T072037Z
LAST-MODIFIED:20250728T124113Z
UID:10000152-1839088800-1839092400@www.ecsautoecole.fr
SUMMARY:Cours de code à Sablé
DESCRIPTION:
URL:https://www.ecsautoecole.fr/event/cours-de-code/2028-04-11/
LOCATION:sablé sur sarthe\, 48 rue du mans\, sablé sur sarthe\, 72300\, France
CATEGORIES:Cours de Code
END:VEVENT
BEGIN:VEVENT
DTSTART;TZID=Europe/Paris:20280412T180000
DTEND;TZID=Europe/Paris:20280412T190000
DTSTAMP:20260422T041119
CREATED:20250724T110200Z
LAST-MODIFIED:20250728T124123Z
UID:10000935-1839175200-1839178800@www.ecsautoecole.fr
SUMMARY:cours de code à Sablé
DESCRIPTION:
URL:https://www.ecsautoecole.fr/event/cours-de-code-2/2028-04-12/
LOCATION:sablé sur sarthe\, 48 rue du mans\, sablé sur sarthe\, 72300\, France
CATEGORIES:Cours de Code
END:VEVENT
BEGIN:VEVENT
DTSTART;TZID=Europe/Paris:20280412T180000
DTEND;TZID=Europe/Paris:20280412T190000
DTSTAMP:20260422T041119
CREATED:20250731T154643Z
LAST-MODIFIED:20250731T154643Z
UID:10009037-1839175200-1839178800@www.ecsautoecole.fr
SUMMARY:Cours de code AMC Formation
DESCRIPTION:
URL:https://www.ecsautoecole.fr/event/cours-de-code-amc-formation/2028-04-12/
LOCATION:AMC FORMATION la flèche
CATEGORIES:Cours de Code
END:VEVENT
BEGIN:VEVENT
DTSTART;TZID=Europe/Paris:20280414T180000
DTEND;TZID=Europe/Paris:20280414T190000
DTSTAMP:20260422T041119
CREATED:20250724T140124Z
LAST-MODIFIED:20250728T124030Z
UID:10001979-1839348000-1839351600@www.ecsautoecole.fr
SUMMARY:Cours de code à Sablé
DESCRIPTION:
URL:https://www.ecsautoecole.fr/event/cours-de-code-3/2028-04-14/
LOCATION:sablé sur sarthe\, 48 rue du mans\, sablé sur sarthe\, 72300\, France
CATEGORIES:Cours de Code
END:VEVENT
BEGIN:VEVENT
DTSTART;TZID=Europe/Paris:20280414T180000
DTEND;TZID=Europe/Paris:20280414T190000
DTSTAMP:20260422T041119
CREATED:20250731T154800Z
LAST-MODIFIED:20250731T154800Z
UID:10009561-1839348000-1839351600@www.ecsautoecole.fr
SUMMARY:Cours de code AMC Formation
DESCRIPTION:
URL:https://www.ecsautoecole.fr/event/cours-de-code-la-fleche/2028-04-14/
LOCATION:AMC FORMATION la flèche
CATEGORIES:Cours de Code
END:VEVENT
BEGIN:VEVENT
DTSTART;TZID=Europe/Paris:20280415T100000
DTEND;TZID=Europe/Paris:20280415T110000
DTSTAMP:20260422T041119
CREATED:20250731T155102Z
LAST-MODIFIED:20250731T155102Z
UID:10010607-1839405600-1839409200@www.ecsautoecole.fr
SUMMARY:Cours de code AMC Formation
DESCRIPTION:
URL:https://www.ecsautoecole.fr/event/cours-de-code-6/2028-04-15/
LOCATION:AMC FORMATION la flèche
CATEGORIES:Cours de Code
END:VEVENT
BEGIN:VEVENT
DTSTART;TZID=Europe/Paris:20280415T130000
DTEND;TZID=Europe/Paris:20280415T140000
DTSTAMP:20260422T041119
CREATED:20250724T140337Z
LAST-MODIFIED:20250728T124054Z
UID:10004326-1839416400-1839420000@www.ecsautoecole.fr
SUMMARY:Cours de code à Sablé
DESCRIPTION:
URL:https://www.ecsautoecole.fr/event/cours-de-code-4/2028-04-15/
LOCATION:sablé sur sarthe\, 48 rue du mans\, sablé sur sarthe\, 72300\, France
CATEGORIES:Cours de Code
END:VEVENT
BEGIN:VEVENT
DTSTART;TZID=Europe/Paris:20280418T180000
DTEND;TZID=Europe/Paris:20280418T190000
DTSTAMP:20260422T041119
CREATED:20250724T072037Z
LAST-MODIFIED:20250728T124113Z
UID:10000153-1839693600-1839697200@www.ecsautoecole.fr
SUMMARY:Cours de code à Sablé
DESCRIPTION:
URL:https://www.ecsautoecole.fr/event/cours-de-code/2028-04-18/
LOCATION:sablé sur sarthe\, 48 rue du mans\, sablé sur sarthe\, 72300\, France
CATEGORIES:Cours de Code
END:VEVENT
BEGIN:VEVENT
DTSTART;TZID=Europe/Paris:20280419T180000
DTEND;TZID=Europe/Paris:20280419T190000
DTSTAMP:20260422T041119
CREATED:20250724T110200Z
LAST-MODIFIED:20250728T124123Z
UID:10000936-1839780000-1839783600@www.ecsautoecole.fr
SUMMARY:cours de code à Sablé
DESCRIPTION:
URL:https://www.ecsautoecole.fr/event/cours-de-code-2/2028-04-19/
LOCATION:sablé sur sarthe\, 48 rue du mans\, sablé sur sarthe\, 72300\, France
CATEGORIES:Cours de Code
END:VEVENT
BEGIN:VEVENT
DTSTART;TZID=Europe/Paris:20280419T180000
DTEND;TZID=Europe/Paris:20280419T190000
DTSTAMP:20260422T041119
CREATED:20250731T154643Z
LAST-MODIFIED:20250731T154643Z
UID:10009038-1839780000-1839783600@www.ecsautoecole.fr
SUMMARY:Cours de code AMC Formation
DESCRIPTION:
URL:https://www.ecsautoecole.fr/event/cours-de-code-amc-formation/2028-04-19/
LOCATION:AMC FORMATION la flèche
CATEGORIES:Cours de Code
END:VEVENT
BEGIN:VEVENT
DTSTART;TZID=Europe/Paris:20280421T180000
DTEND;TZID=Europe/Paris:20280421T190000
DTSTAMP:20260422T041119
CREATED:20250724T140124Z
LAST-MODIFIED:20250728T124030Z
UID:10001980-1839952800-1839956400@www.ecsautoecole.fr
SUMMARY:Cours de code à Sablé
DESCRIPTION:
URL:https://www.ecsautoecole.fr/event/cours-de-code-3/2028-04-21/
LOCATION:sablé sur sarthe\, 48 rue du mans\, sablé sur sarthe\, 72300\, France
CATEGORIES:Cours de Code
END:VEVENT
BEGIN:VEVENT
DTSTART;TZID=Europe/Paris:20280421T180000
DTEND;TZID=Europe/Paris:20280421T190000
DTSTAMP:20260422T041119
CREATED:20250731T154800Z
LAST-MODIFIED:20250731T154800Z
UID:10009562-1839952800-1839956400@www.ecsautoecole.fr
SUMMARY:Cours de code AMC Formation
DESCRIPTION:
URL:https://www.ecsautoecole.fr/event/cours-de-code-la-fleche/2028-04-21/
LOCATION:AMC FORMATION la flèche
CATEGORIES:Cours de Code
END:VEVENT
BEGIN:VEVENT
DTSTART;TZID=Europe/Paris:20280422T100000
DTEND;TZID=Europe/Paris:20280422T110000
DTSTAMP:20260422T041119
CREATED:20250731T155102Z
LAST-MODIFIED:20250731T155102Z
UID:10010608-1840010400-1840014000@www.ecsautoecole.fr
SUMMARY:Cours de code AMC Formation
DESCRIPTION:
URL:https://www.ecsautoecole.fr/event/cours-de-code-6/2028-04-22/
LOCATION:AMC FORMATION la flèche
CATEGORIES:Cours de Code
END:VEVENT
BEGIN:VEVENT
DTSTART;TZID=Europe/Paris:20280422T130000
DTEND;TZID=Europe/Paris:20280422T140000
DTSTAMP:20260422T041119
CREATED:20250724T140337Z
LAST-MODIFIED:20250728T124054Z
UID:10004327-1840021200-1840024800@www.ecsautoecole.fr
SUMMARY:Cours de code à Sablé
DESCRIPTION:
URL:https://www.ecsautoecole.fr/event/cours-de-code-4/2028-04-22/
LOCATION:sablé sur sarthe\, 48 rue du mans\, sablé sur sarthe\, 72300\, France
CATEGORIES:Cours de Code
END:VEVENT
BEGIN:VEVENT
DTSTART;TZID=Europe/Paris:20280425T180000
DTEND;TZID=Europe/Paris:20280425T190000
DTSTAMP:20260422T041119
CREATED:20250724T072037Z
LAST-MODIFIED:20250728T124113Z
UID:10000154-1840298400-1840302000@www.ecsautoecole.fr
SUMMARY:Cours de code à Sablé
DESCRIPTION:
URL:https://www.ecsautoecole.fr/event/cours-de-code/2028-04-25/
LOCATION:sablé sur sarthe\, 48 rue du mans\, sablé sur sarthe\, 72300\, France
CATEGORIES:Cours de Code
END:VEVENT
BEGIN:VEVENT
DTSTART;TZID=Europe/Paris:20280426T180000
DTEND;TZID=Europe/Paris:20280426T190000
DTSTAMP:20260422T041119
CREATED:20250724T110200Z
LAST-MODIFIED:20250728T124123Z
UID:10000937-1840384800-1840388400@www.ecsautoecole.fr
SUMMARY:cours de code à Sablé
DESCRIPTION:
URL:https://www.ecsautoecole.fr/event/cours-de-code-2/2028-04-26/
LOCATION:sablé sur sarthe\, 48 rue du mans\, sablé sur sarthe\, 72300\, France
CATEGORIES:Cours de Code
END:VEVENT
BEGIN:VEVENT
DTSTART;TZID=Europe/Paris:20280426T180000
DTEND;TZID=Europe/Paris:20280426T190000
DTSTAMP:20260422T041119
CREATED:20250731T154643Z
LAST-MODIFIED:20250731T154643Z
UID:10009039-1840384800-1840388400@www.ecsautoecole.fr
SUMMARY:Cours de code AMC Formation
DESCRIPTION:
URL:https://www.ecsautoecole.fr/event/cours-de-code-amc-formation/2028-04-26/
LOCATION:AMC FORMATION la flèche
CATEGORIES:Cours de Code
END:VEVENT
BEGIN:VEVENT
DTSTART;TZID=Europe/Paris:20280428T180000
DTEND;TZID=Europe/Paris:20280428T190000
DTSTAMP:20260422T041119
CREATED:20250724T140124Z
LAST-MODIFIED:20250728T124030Z
UID:10001981-1840557600-1840561200@www.ecsautoecole.fr
SUMMARY:Cours de code à Sablé
DESCRIPTION:
URL:https://www.ecsautoecole.fr/event/cours-de-code-3/2028-04-28/
LOCATION:sablé sur sarthe\, 48 rue du mans\, sablé sur sarthe\, 72300\, France
CATEGORIES:Cours de Code
END:VEVENT
BEGIN:VEVENT
DTSTART;TZID=Europe/Paris:20280428T180000
DTEND;TZID=Europe/Paris:20280428T190000
DTSTAMP:20260422T041119
CREATED:20250731T154800Z
LAST-MODIFIED:20250731T154800Z
UID:10009563-1840557600-1840561200@www.ecsautoecole.fr
SUMMARY:Cours de code AMC Formation
DESCRIPTION:
URL:https://www.ecsautoecole.fr/event/cours-de-code-la-fleche/2028-04-28/
LOCATION:AMC FORMATION la flèche
CATEGORIES:Cours de Code
END:VEVENT
BEGIN:VEVENT
DTSTART;TZID=Europe/Paris:20280429T100000
DTEND;TZID=Europe/Paris:20280429T110000
DTSTAMP:20260422T041119
CREATED:20250731T155102Z
LAST-MODIFIED:20250731T155102Z
UID:10010609-1840615200-1840618800@www.ecsautoecole.fr
SUMMARY:Cours de code AMC Formation
DESCRIPTION:
URL:https://www.ecsautoecole.fr/event/cours-de-code-6/2028-04-29/
LOCATION:AMC FORMATION la flèche
CATEGORIES:Cours de Code
END:VEVENT
BEGIN:VEVENT
DTSTART;TZID=Europe/Paris:20280429T130000
DTEND;TZID=Europe/Paris:20280429T140000
DTSTAMP:20260422T041119
CREATED:20250724T140337Z
LAST-MODIFIED:20250728T124054Z
UID:10004328-1840626000-1840629600@www.ecsautoecole.fr
SUMMARY:Cours de code à Sablé
DESCRIPTION:
URL:https://www.ecsautoecole.fr/event/cours-de-code-4/2028-04-29/
LOCATION:sablé sur sarthe\, 48 rue du mans\, sablé sur sarthe\, 72300\, France
CATEGORIES:Cours de Code
END:VEVENT
END:VCALENDAR