BEGIN:VCALENDAR
VERSION:2.0
PRODID:-//ECS Formation Sabolienne - ECPv6.10.1.1//NONSGML v1.0//EN
CALSCALE:GREGORIAN
METHOD:PUBLISH
X-WR-CALNAME:ECS Formation Sabolienne
X-ORIGINAL-URL:https://www.ecsautoecole.fr
X-WR-CALDESC:Évènements pour ECS Formation Sabolienne
REFRESH-INTERVAL;VALUE=DURATION:PT1H
X-Robots-Tag:noindex
X-PUBLISHED-TTL:PT1H
BEGIN:VTIMEZONE
TZID:Europe/Paris
BEGIN:DAYLIGHT
TZOFFSETFROM:+0100
TZOFFSETTO:+0200
TZNAME:CEST
DTSTART:20280326T010000
END:DAYLIGHT
BEGIN:STANDARD
TZOFFSETFROM:+0200
TZOFFSETTO:+0100
TZNAME:CET
DTSTART:20281029T010000
END:STANDARD
END:VTIMEZONE
BEGIN:VEVENT
DTSTART;TZID=Europe/Paris:20281101T180000
DTEND;TZID=Europe/Paris:20281101T190000
DTSTAMP:20260422T184732
CREATED:20250724T110200Z
LAST-MODIFIED:20250728T124123Z
UID:10000964-1856714400-1856718000@www.ecsautoecole.fr
SUMMARY:cours de code à Sablé
DESCRIPTION:
URL:https://www.ecsautoecole.fr/event/cours-de-code-2/2028-11-01/
LOCATION:sablé sur sarthe\, 48 rue du mans\, sablé sur sarthe\, 72300\, France
CATEGORIES:Cours de Code
END:VEVENT
BEGIN:VEVENT
DTSTART;TZID=Europe/Paris:20281101T180000
DTEND;TZID=Europe/Paris:20281101T190000
DTSTAMP:20260422T184732
CREATED:20250731T154643Z
LAST-MODIFIED:20250731T154643Z
UID:10009066-1856714400-1856718000@www.ecsautoecole.fr
SUMMARY:Cours de code AMC Formation
DESCRIPTION:
URL:https://www.ecsautoecole.fr/event/cours-de-code-amc-formation/2028-11-01/
LOCATION:AMC FORMATION la flèche
CATEGORIES:Cours de Code
END:VEVENT
BEGIN:VEVENT
DTSTART;TZID=Europe/Paris:20281103T180000
DTEND;TZID=Europe/Paris:20281103T190000
DTSTAMP:20260422T184732
CREATED:20250724T140124Z
LAST-MODIFIED:20250728T124030Z
UID:10002008-1856887200-1856890800@www.ecsautoecole.fr
SUMMARY:Cours de code à Sablé
DESCRIPTION:
URL:https://www.ecsautoecole.fr/event/cours-de-code-3/2028-11-03/
LOCATION:sablé sur sarthe\, 48 rue du mans\, sablé sur sarthe\, 72300\, France
CATEGORIES:Cours de Code
END:VEVENT
BEGIN:VEVENT
DTSTART;TZID=Europe/Paris:20281103T180000
DTEND;TZID=Europe/Paris:20281103T190000
DTSTAMP:20260422T184732
CREATED:20250731T154800Z
LAST-MODIFIED:20250731T154800Z
UID:10009590-1856887200-1856890800@www.ecsautoecole.fr
SUMMARY:Cours de code AMC Formation
DESCRIPTION:
URL:https://www.ecsautoecole.fr/event/cours-de-code-la-fleche/2028-11-03/
LOCATION:AMC FORMATION la flèche
CATEGORIES:Cours de Code
END:VEVENT
BEGIN:VEVENT
DTSTART;TZID=Europe/Paris:20281104T100000
DTEND;TZID=Europe/Paris:20281104T110000
DTSTAMP:20260422T184732
CREATED:20250731T155102Z
LAST-MODIFIED:20250731T155102Z
UID:10010636-1856944800-1856948400@www.ecsautoecole.fr
SUMMARY:Cours de code AMC Formation
DESCRIPTION:
URL:https://www.ecsautoecole.fr/event/cours-de-code-6/2028-11-04/
LOCATION:AMC FORMATION la flèche
CATEGORIES:Cours de Code
END:VEVENT
BEGIN:VEVENT
DTSTART;TZID=Europe/Paris:20281104T130000
DTEND;TZID=Europe/Paris:20281104T140000
DTSTAMP:20260422T184732
CREATED:20250724T140337Z
LAST-MODIFIED:20250728T124054Z
UID:10004355-1856955600-1856959200@www.ecsautoecole.fr
SUMMARY:Cours de code à Sablé
DESCRIPTION:
URL:https://www.ecsautoecole.fr/event/cours-de-code-4/2028-11-04/
LOCATION:sablé sur sarthe\, 48 rue du mans\, sablé sur sarthe\, 72300\, France
CATEGORIES:Cours de Code
END:VEVENT
BEGIN:VEVENT
DTSTART;TZID=Europe/Paris:20281107T180000
DTEND;TZID=Europe/Paris:20281107T190000
DTSTAMP:20260422T184732
CREATED:20250724T072037Z
LAST-MODIFIED:20250728T124113Z
UID:10000182-1857232800-1857236400@www.ecsautoecole.fr
SUMMARY:Cours de code à Sablé
DESCRIPTION:
URL:https://www.ecsautoecole.fr/event/cours-de-code/2028-11-07/
LOCATION:sablé sur sarthe\, 48 rue du mans\, sablé sur sarthe\, 72300\, France
CATEGORIES:Cours de Code
END:VEVENT
BEGIN:VEVENT
DTSTART;TZID=Europe/Paris:20281108T180000
DTEND;TZID=Europe/Paris:20281108T190000
DTSTAMP:20260422T184732
CREATED:20250724T110200Z
LAST-MODIFIED:20250728T124123Z
UID:10000965-1857319200-1857322800@www.ecsautoecole.fr
SUMMARY:cours de code à Sablé
DESCRIPTION:
URL:https://www.ecsautoecole.fr/event/cours-de-code-2/2028-11-08/
LOCATION:sablé sur sarthe\, 48 rue du mans\, sablé sur sarthe\, 72300\, France
CATEGORIES:Cours de Code
END:VEVENT
BEGIN:VEVENT
DTSTART;TZID=Europe/Paris:20281108T180000
DTEND;TZID=Europe/Paris:20281108T190000
DTSTAMP:20260422T184732
CREATED:20250731T154643Z
LAST-MODIFIED:20250731T154643Z
UID:10009067-1857319200-1857322800@www.ecsautoecole.fr
SUMMARY:Cours de code AMC Formation
DESCRIPTION:
URL:https://www.ecsautoecole.fr/event/cours-de-code-amc-formation/2028-11-08/
LOCATION:AMC FORMATION la flèche
CATEGORIES:Cours de Code
END:VEVENT
BEGIN:VEVENT
DTSTART;TZID=Europe/Paris:20281110T180000
DTEND;TZID=Europe/Paris:20281110T190000
DTSTAMP:20260422T184732
CREATED:20250724T140124Z
LAST-MODIFIED:20250728T124030Z
UID:10002009-1857492000-1857495600@www.ecsautoecole.fr
SUMMARY:Cours de code à Sablé
DESCRIPTION:
URL:https://www.ecsautoecole.fr/event/cours-de-code-3/2028-11-10/
LOCATION:sablé sur sarthe\, 48 rue du mans\, sablé sur sarthe\, 72300\, France
CATEGORIES:Cours de Code
END:VEVENT
BEGIN:VEVENT
DTSTART;TZID=Europe/Paris:20281110T180000
DTEND;TZID=Europe/Paris:20281110T190000
DTSTAMP:20260422T184732
CREATED:20250731T154800Z
LAST-MODIFIED:20250731T154800Z
UID:10009591-1857492000-1857495600@www.ecsautoecole.fr
SUMMARY:Cours de code AMC Formation
DESCRIPTION:
URL:https://www.ecsautoecole.fr/event/cours-de-code-la-fleche/2028-11-10/
LOCATION:AMC FORMATION la flèche
CATEGORIES:Cours de Code
END:VEVENT
BEGIN:VEVENT
DTSTART;TZID=Europe/Paris:20281111T100000
DTEND;TZID=Europe/Paris:20281111T110000
DTSTAMP:20260422T184732
CREATED:20250731T155102Z
LAST-MODIFIED:20250731T155102Z
UID:10010637-1857549600-1857553200@www.ecsautoecole.fr
SUMMARY:Cours de code AMC Formation
DESCRIPTION:
URL:https://www.ecsautoecole.fr/event/cours-de-code-6/2028-11-11/
LOCATION:AMC FORMATION la flèche
CATEGORIES:Cours de Code
END:VEVENT
BEGIN:VEVENT
DTSTART;TZID=Europe/Paris:20281111T130000
DTEND;TZID=Europe/Paris:20281111T140000
DTSTAMP:20260422T184732
CREATED:20250724T140337Z
LAST-MODIFIED:20250728T124054Z
UID:10004356-1857560400-1857564000@www.ecsautoecole.fr
SUMMARY:Cours de code à Sablé
DESCRIPTION:
URL:https://www.ecsautoecole.fr/event/cours-de-code-4/2028-11-11/
LOCATION:sablé sur sarthe\, 48 rue du mans\, sablé sur sarthe\, 72300\, France
CATEGORIES:Cours de Code
END:VEVENT
BEGIN:VEVENT
DTSTART;TZID=Europe/Paris:20281114T180000
DTEND;TZID=Europe/Paris:20281114T190000
DTSTAMP:20260422T184732
CREATED:20250724T072037Z
LAST-MODIFIED:20250728T124113Z
UID:10000183-1857837600-1857841200@www.ecsautoecole.fr
SUMMARY:Cours de code à Sablé
DESCRIPTION:
URL:https://www.ecsautoecole.fr/event/cours-de-code/2028-11-14/
LOCATION:sablé sur sarthe\, 48 rue du mans\, sablé sur sarthe\, 72300\, France
CATEGORIES:Cours de Code
END:VEVENT
BEGIN:VEVENT
DTSTART;TZID=Europe/Paris:20281115T180000
DTEND;TZID=Europe/Paris:20281115T190000
DTSTAMP:20260422T184732
CREATED:20250724T110200Z
LAST-MODIFIED:20250728T124123Z
UID:10000966-1857924000-1857927600@www.ecsautoecole.fr
SUMMARY:cours de code à Sablé
DESCRIPTION:
URL:https://www.ecsautoecole.fr/event/cours-de-code-2/2028-11-15/
LOCATION:sablé sur sarthe\, 48 rue du mans\, sablé sur sarthe\, 72300\, France
CATEGORIES:Cours de Code
END:VEVENT
BEGIN:VEVENT
DTSTART;TZID=Europe/Paris:20281115T180000
DTEND;TZID=Europe/Paris:20281115T190000
DTSTAMP:20260422T184732
CREATED:20250731T154643Z
LAST-MODIFIED:20250731T154643Z
UID:10009068-1857924000-1857927600@www.ecsautoecole.fr
SUMMARY:Cours de code AMC Formation
DESCRIPTION:
URL:https://www.ecsautoecole.fr/event/cours-de-code-amc-formation/2028-11-15/
LOCATION:AMC FORMATION la flèche
CATEGORIES:Cours de Code
END:VEVENT
BEGIN:VEVENT
DTSTART;TZID=Europe/Paris:20281117T180000
DTEND;TZID=Europe/Paris:20281117T190000
DTSTAMP:20260422T184732
CREATED:20250724T140124Z
LAST-MODIFIED:20250728T124030Z
UID:10002010-1858096800-1858100400@www.ecsautoecole.fr
SUMMARY:Cours de code à Sablé
DESCRIPTION:
URL:https://www.ecsautoecole.fr/event/cours-de-code-3/2028-11-17/
LOCATION:sablé sur sarthe\, 48 rue du mans\, sablé sur sarthe\, 72300\, France
CATEGORIES:Cours de Code
END:VEVENT
BEGIN:VEVENT
DTSTART;TZID=Europe/Paris:20281117T180000
DTEND;TZID=Europe/Paris:20281117T190000
DTSTAMP:20260422T184732
CREATED:20250731T154800Z
LAST-MODIFIED:20250731T154800Z
UID:10009592-1858096800-1858100400@www.ecsautoecole.fr
SUMMARY:Cours de code AMC Formation
DESCRIPTION:
URL:https://www.ecsautoecole.fr/event/cours-de-code-la-fleche/2028-11-17/
LOCATION:AMC FORMATION la flèche
CATEGORIES:Cours de Code
END:VEVENT
BEGIN:VEVENT
DTSTART;TZID=Europe/Paris:20281118T100000
DTEND;TZID=Europe/Paris:20281118T110000
DTSTAMP:20260422T184732
CREATED:20250731T155102Z
LAST-MODIFIED:20250731T155102Z
UID:10010638-1858154400-1858158000@www.ecsautoecole.fr
SUMMARY:Cours de code AMC Formation
DESCRIPTION:
URL:https://www.ecsautoecole.fr/event/cours-de-code-6/2028-11-18/
LOCATION:AMC FORMATION la flèche
CATEGORIES:Cours de Code
END:VEVENT
BEGIN:VEVENT
DTSTART;TZID=Europe/Paris:20281118T130000
DTEND;TZID=Europe/Paris:20281118T140000
DTSTAMP:20260422T184732
CREATED:20250724T140337Z
LAST-MODIFIED:20250728T124054Z
UID:10004357-1858165200-1858168800@www.ecsautoecole.fr
SUMMARY:Cours de code à Sablé
DESCRIPTION:
URL:https://www.ecsautoecole.fr/event/cours-de-code-4/2028-11-18/
LOCATION:sablé sur sarthe\, 48 rue du mans\, sablé sur sarthe\, 72300\, France
CATEGORIES:Cours de Code
END:VEVENT
BEGIN:VEVENT
DTSTART;TZID=Europe/Paris:20281121T180000
DTEND;TZID=Europe/Paris:20281121T190000
DTSTAMP:20260422T184732
CREATED:20250724T072037Z
LAST-MODIFIED:20250728T124113Z
UID:10000184-1858442400-1858446000@www.ecsautoecole.fr
SUMMARY:Cours de code à Sablé
DESCRIPTION:
URL:https://www.ecsautoecole.fr/event/cours-de-code/2028-11-21/
LOCATION:sablé sur sarthe\, 48 rue du mans\, sablé sur sarthe\, 72300\, France
CATEGORIES:Cours de Code
END:VEVENT
BEGIN:VEVENT
DTSTART;TZID=Europe/Paris:20281122T180000
DTEND;TZID=Europe/Paris:20281122T190000
DTSTAMP:20260422T184732
CREATED:20250724T110200Z
LAST-MODIFIED:20250728T124123Z
UID:10000967-1858528800-1858532400@www.ecsautoecole.fr
SUMMARY:cours de code à Sablé
DESCRIPTION:
URL:https://www.ecsautoecole.fr/event/cours-de-code-2/2028-11-22/
LOCATION:sablé sur sarthe\, 48 rue du mans\, sablé sur sarthe\, 72300\, France
CATEGORIES:Cours de Code
END:VEVENT
BEGIN:VEVENT
DTSTART;TZID=Europe/Paris:20281122T180000
DTEND;TZID=Europe/Paris:20281122T190000
DTSTAMP:20260422T184732
CREATED:20250731T154643Z
LAST-MODIFIED:20250731T154643Z
UID:10009069-1858528800-1858532400@www.ecsautoecole.fr
SUMMARY:Cours de code AMC Formation
DESCRIPTION:
URL:https://www.ecsautoecole.fr/event/cours-de-code-amc-formation/2028-11-22/
LOCATION:AMC FORMATION la flèche
CATEGORIES:Cours de Code
END:VEVENT
BEGIN:VEVENT
DTSTART;TZID=Europe/Paris:20281124T180000
DTEND;TZID=Europe/Paris:20281124T190000
DTSTAMP:20260422T184732
CREATED:20250724T140124Z
LAST-MODIFIED:20250728T124030Z
UID:10002011-1858701600-1858705200@www.ecsautoecole.fr
SUMMARY:Cours de code à Sablé
DESCRIPTION:
URL:https://www.ecsautoecole.fr/event/cours-de-code-3/2028-11-24/
LOCATION:sablé sur sarthe\, 48 rue du mans\, sablé sur sarthe\, 72300\, France
CATEGORIES:Cours de Code
END:VEVENT
BEGIN:VEVENT
DTSTART;TZID=Europe/Paris:20281124T180000
DTEND;TZID=Europe/Paris:20281124T190000
DTSTAMP:20260422T184732
CREATED:20250731T154800Z
LAST-MODIFIED:20250731T154800Z
UID:10009593-1858701600-1858705200@www.ecsautoecole.fr
SUMMARY:Cours de code AMC Formation
DESCRIPTION:
URL:https://www.ecsautoecole.fr/event/cours-de-code-la-fleche/2028-11-24/
LOCATION:AMC FORMATION la flèche
CATEGORIES:Cours de Code
END:VEVENT
BEGIN:VEVENT
DTSTART;TZID=Europe/Paris:20281125T100000
DTEND;TZID=Europe/Paris:20281125T110000
DTSTAMP:20260422T184732
CREATED:20250731T155102Z
LAST-MODIFIED:20250731T155102Z
UID:10010639-1858759200-1858762800@www.ecsautoecole.fr
SUMMARY:Cours de code AMC Formation
DESCRIPTION:
URL:https://www.ecsautoecole.fr/event/cours-de-code-6/2028-11-25/
LOCATION:AMC FORMATION la flèche
CATEGORIES:Cours de Code
END:VEVENT
BEGIN:VEVENT
DTSTART;TZID=Europe/Paris:20281125T130000
DTEND;TZID=Europe/Paris:20281125T140000
DTSTAMP:20260422T184732
CREATED:20250724T140337Z
LAST-MODIFIED:20250728T124054Z
UID:10004358-1858770000-1858773600@www.ecsautoecole.fr
SUMMARY:Cours de code à Sablé
DESCRIPTION:
URL:https://www.ecsautoecole.fr/event/cours-de-code-4/2028-11-25/
LOCATION:sablé sur sarthe\, 48 rue du mans\, sablé sur sarthe\, 72300\, France
CATEGORIES:Cours de Code
END:VEVENT
BEGIN:VEVENT
DTSTART;TZID=Europe/Paris:20281128T180000
DTEND;TZID=Europe/Paris:20281128T190000
DTSTAMP:20260422T184732
CREATED:20250724T072037Z
LAST-MODIFIED:20250728T124113Z
UID:10000185-1859047200-1859050800@www.ecsautoecole.fr
SUMMARY:Cours de code à Sablé
DESCRIPTION:
URL:https://www.ecsautoecole.fr/event/cours-de-code/2028-11-28/
LOCATION:sablé sur sarthe\, 48 rue du mans\, sablé sur sarthe\, 72300\, France
CATEGORIES:Cours de Code
END:VEVENT
BEGIN:VEVENT
DTSTART;TZID=Europe/Paris:20281129T180000
DTEND;TZID=Europe/Paris:20281129T190000
DTSTAMP:20260422T184732
CREATED:20250724T110200Z
LAST-MODIFIED:20250728T124123Z
UID:10000968-1859133600-1859137200@www.ecsautoecole.fr
SUMMARY:cours de code à Sablé
DESCRIPTION:
URL:https://www.ecsautoecole.fr/event/cours-de-code-2/2028-11-29/
LOCATION:sablé sur sarthe\, 48 rue du mans\, sablé sur sarthe\, 72300\, France
CATEGORIES:Cours de Code
END:VEVENT
BEGIN:VEVENT
DTSTART;TZID=Europe/Paris:20281129T180000
DTEND;TZID=Europe/Paris:20281129T190000
DTSTAMP:20260422T184732
CREATED:20250731T154643Z
LAST-MODIFIED:20250731T154643Z
UID:10009070-1859133600-1859137200@www.ecsautoecole.fr
SUMMARY:Cours de code AMC Formation
DESCRIPTION:
URL:https://www.ecsautoecole.fr/event/cours-de-code-amc-formation/2028-11-29/
LOCATION:AMC FORMATION la flèche
CATEGORIES:Cours de Code
END:VEVENT
END:VCALENDAR