BEGIN:VCALENDAR
VERSION:2.0
PRODID:-//ECS Formation Sabolienne - ECPv6.10.1.1//NONSGML v1.0//EN
CALSCALE:GREGORIAN
METHOD:PUBLISH
X-WR-CALNAME:ECS Formation Sabolienne
X-ORIGINAL-URL:https://www.ecsautoecole.fr
X-WR-CALDESC:Évènements pour ECS Formation Sabolienne
REFRESH-INTERVAL;VALUE=DURATION:PT1H
X-Robots-Tag:noindex
X-PUBLISHED-TTL:PT1H
BEGIN:VTIMEZONE
TZID:Europe/Paris
BEGIN:DAYLIGHT
TZOFFSETFROM:+0100
TZOFFSETTO:+0200
TZNAME:CEST
DTSTART:20290325T010000
END:DAYLIGHT
BEGIN:STANDARD
TZOFFSETFROM:+0200
TZOFFSETTO:+0100
TZNAME:CET
DTSTART:20291028T010000
END:STANDARD
END:VTIMEZONE
BEGIN:VEVENT
DTSTART;TZID=Europe/Paris:20290302T180000
DTEND;TZID=Europe/Paris:20290302T190000
DTSTAMP:20260423T004307
CREATED:20250724T140124Z
LAST-MODIFIED:20250728T124030Z
UID:10002025-1867168800-1867172400@www.ecsautoecole.fr
SUMMARY:Cours de code à Sablé
DESCRIPTION:
URL:https://www.ecsautoecole.fr/event/cours-de-code-3/2029-03-02/
LOCATION:sablé sur sarthe\, 48 rue du mans\, sablé sur sarthe\, 72300\, France
CATEGORIES:Cours de Code
END:VEVENT
BEGIN:VEVENT
DTSTART;TZID=Europe/Paris:20290302T180000
DTEND;TZID=Europe/Paris:20290302T190000
DTSTAMP:20260423T004307
CREATED:20250731T154800Z
LAST-MODIFIED:20250731T154800Z
UID:10009607-1867168800-1867172400@www.ecsautoecole.fr
SUMMARY:Cours de code AMC Formation
DESCRIPTION:
URL:https://www.ecsautoecole.fr/event/cours-de-code-la-fleche/2029-03-02/
LOCATION:AMC FORMATION la flèche
CATEGORIES:Cours de Code
END:VEVENT
BEGIN:VEVENT
DTSTART;TZID=Europe/Paris:20290303T100000
DTEND;TZID=Europe/Paris:20290303T110000
DTSTAMP:20260423T004307
CREATED:20250731T155102Z
LAST-MODIFIED:20250731T155102Z
UID:10010653-1867226400-1867230000@www.ecsautoecole.fr
SUMMARY:Cours de code AMC Formation
DESCRIPTION:
URL:https://www.ecsautoecole.fr/event/cours-de-code-6/2029-03-03/
LOCATION:AMC FORMATION la flèche
CATEGORIES:Cours de Code
END:VEVENT
BEGIN:VEVENT
DTSTART;TZID=Europe/Paris:20290303T130000
DTEND;TZID=Europe/Paris:20290303T140000
DTSTAMP:20260423T004307
CREATED:20250724T140337Z
LAST-MODIFIED:20250728T124054Z
UID:10004372-1867237200-1867240800@www.ecsautoecole.fr
SUMMARY:Cours de code à Sablé
DESCRIPTION:
URL:https://www.ecsautoecole.fr/event/cours-de-code-4/2029-03-03/
LOCATION:sablé sur sarthe\, 48 rue du mans\, sablé sur sarthe\, 72300\, France
CATEGORIES:Cours de Code
END:VEVENT
BEGIN:VEVENT
DTSTART;TZID=Europe/Paris:20290306T180000
DTEND;TZID=Europe/Paris:20290306T190000
DTSTAMP:20260423T004307
CREATED:20250724T072037Z
LAST-MODIFIED:20250728T124113Z
UID:10000199-1867514400-1867518000@www.ecsautoecole.fr
SUMMARY:Cours de code à Sablé
DESCRIPTION:
URL:https://www.ecsautoecole.fr/event/cours-de-code/2029-03-06/
LOCATION:sablé sur sarthe\, 48 rue du mans\, sablé sur sarthe\, 72300\, France
CATEGORIES:Cours de Code
END:VEVENT
BEGIN:VEVENT
DTSTART;TZID=Europe/Paris:20290307T180000
DTEND;TZID=Europe/Paris:20290307T190000
DTSTAMP:20260423T004307
CREATED:20250724T110200Z
LAST-MODIFIED:20250728T124123Z
UID:10000982-1867600800-1867604400@www.ecsautoecole.fr
SUMMARY:cours de code à Sablé
DESCRIPTION:
URL:https://www.ecsautoecole.fr/event/cours-de-code-2/2029-03-07/
LOCATION:sablé sur sarthe\, 48 rue du mans\, sablé sur sarthe\, 72300\, France
CATEGORIES:Cours de Code
END:VEVENT
BEGIN:VEVENT
DTSTART;TZID=Europe/Paris:20290307T180000
DTEND;TZID=Europe/Paris:20290307T190000
DTSTAMP:20260423T004307
CREATED:20250731T154643Z
LAST-MODIFIED:20250731T154643Z
UID:10009084-1867600800-1867604400@www.ecsautoecole.fr
SUMMARY:Cours de code AMC Formation
DESCRIPTION:
URL:https://www.ecsautoecole.fr/event/cours-de-code-amc-formation/2029-03-07/
LOCATION:AMC FORMATION la flèche
CATEGORIES:Cours de Code
END:VEVENT
BEGIN:VEVENT
DTSTART;TZID=Europe/Paris:20290309T180000
DTEND;TZID=Europe/Paris:20290309T190000
DTSTAMP:20260423T004307
CREATED:20250724T140124Z
LAST-MODIFIED:20250728T124030Z
UID:10002026-1867773600-1867777200@www.ecsautoecole.fr
SUMMARY:Cours de code à Sablé
DESCRIPTION:
URL:https://www.ecsautoecole.fr/event/cours-de-code-3/2029-03-09/
LOCATION:sablé sur sarthe\, 48 rue du mans\, sablé sur sarthe\, 72300\, France
CATEGORIES:Cours de Code
END:VEVENT
BEGIN:VEVENT
DTSTART;TZID=Europe/Paris:20290309T180000
DTEND;TZID=Europe/Paris:20290309T190000
DTSTAMP:20260423T004307
CREATED:20250731T154800Z
LAST-MODIFIED:20250731T154800Z
UID:10009608-1867773600-1867777200@www.ecsautoecole.fr
SUMMARY:Cours de code AMC Formation
DESCRIPTION:
URL:https://www.ecsautoecole.fr/event/cours-de-code-la-fleche/2029-03-09/
LOCATION:AMC FORMATION la flèche
CATEGORIES:Cours de Code
END:VEVENT
BEGIN:VEVENT
DTSTART;TZID=Europe/Paris:20290310T100000
DTEND;TZID=Europe/Paris:20290310T110000
DTSTAMP:20260423T004307
CREATED:20250731T155102Z
LAST-MODIFIED:20250731T155102Z
UID:10010654-1867831200-1867834800@www.ecsautoecole.fr
SUMMARY:Cours de code AMC Formation
DESCRIPTION:
URL:https://www.ecsautoecole.fr/event/cours-de-code-6/2029-03-10/
LOCATION:AMC FORMATION la flèche
CATEGORIES:Cours de Code
END:VEVENT
BEGIN:VEVENT
DTSTART;TZID=Europe/Paris:20290310T130000
DTEND;TZID=Europe/Paris:20290310T140000
DTSTAMP:20260423T004307
CREATED:20250724T140337Z
LAST-MODIFIED:20250728T124054Z
UID:10004373-1867842000-1867845600@www.ecsautoecole.fr
SUMMARY:Cours de code à Sablé
DESCRIPTION:
URL:https://www.ecsautoecole.fr/event/cours-de-code-4/2029-03-10/
LOCATION:sablé sur sarthe\, 48 rue du mans\, sablé sur sarthe\, 72300\, France
CATEGORIES:Cours de Code
END:VEVENT
BEGIN:VEVENT
DTSTART;TZID=Europe/Paris:20290313T180000
DTEND;TZID=Europe/Paris:20290313T190000
DTSTAMP:20260423T004307
CREATED:20250724T072037Z
LAST-MODIFIED:20250728T124113Z
UID:10000200-1868119200-1868122800@www.ecsautoecole.fr
SUMMARY:Cours de code à Sablé
DESCRIPTION:
URL:https://www.ecsautoecole.fr/event/cours-de-code/2029-03-13/
LOCATION:sablé sur sarthe\, 48 rue du mans\, sablé sur sarthe\, 72300\, France
CATEGORIES:Cours de Code
END:VEVENT
BEGIN:VEVENT
DTSTART;TZID=Europe/Paris:20290314T180000
DTEND;TZID=Europe/Paris:20290314T190000
DTSTAMP:20260423T004307
CREATED:20250724T110200Z
LAST-MODIFIED:20250728T124123Z
UID:10000983-1868205600-1868209200@www.ecsautoecole.fr
SUMMARY:cours de code à Sablé
DESCRIPTION:
URL:https://www.ecsautoecole.fr/event/cours-de-code-2/2029-03-14/
LOCATION:sablé sur sarthe\, 48 rue du mans\, sablé sur sarthe\, 72300\, France
CATEGORIES:Cours de Code
END:VEVENT
BEGIN:VEVENT
DTSTART;TZID=Europe/Paris:20290314T180000
DTEND;TZID=Europe/Paris:20290314T190000
DTSTAMP:20260423T004307
CREATED:20250731T154643Z
LAST-MODIFIED:20250731T154643Z
UID:10009085-1868205600-1868209200@www.ecsautoecole.fr
SUMMARY:Cours de code AMC Formation
DESCRIPTION:
URL:https://www.ecsautoecole.fr/event/cours-de-code-amc-formation/2029-03-14/
LOCATION:AMC FORMATION la flèche
CATEGORIES:Cours de Code
END:VEVENT
BEGIN:VEVENT
DTSTART;TZID=Europe/Paris:20290316T180000
DTEND;TZID=Europe/Paris:20290316T190000
DTSTAMP:20260423T004307
CREATED:20250724T140124Z
LAST-MODIFIED:20250728T124030Z
UID:10002027-1868378400-1868382000@www.ecsautoecole.fr
SUMMARY:Cours de code à Sablé
DESCRIPTION:
URL:https://www.ecsautoecole.fr/event/cours-de-code-3/2029-03-16/
LOCATION:sablé sur sarthe\, 48 rue du mans\, sablé sur sarthe\, 72300\, France
CATEGORIES:Cours de Code
END:VEVENT
BEGIN:VEVENT
DTSTART;TZID=Europe/Paris:20290316T180000
DTEND;TZID=Europe/Paris:20290316T190000
DTSTAMP:20260423T004307
CREATED:20250731T154800Z
LAST-MODIFIED:20250731T154800Z
UID:10009609-1868378400-1868382000@www.ecsautoecole.fr
SUMMARY:Cours de code AMC Formation
DESCRIPTION:
URL:https://www.ecsautoecole.fr/event/cours-de-code-la-fleche/2029-03-16/
LOCATION:AMC FORMATION la flèche
CATEGORIES:Cours de Code
END:VEVENT
BEGIN:VEVENT
DTSTART;TZID=Europe/Paris:20290317T100000
DTEND;TZID=Europe/Paris:20290317T110000
DTSTAMP:20260423T004307
CREATED:20250731T155102Z
LAST-MODIFIED:20250731T155102Z
UID:10010655-1868436000-1868439600@www.ecsautoecole.fr
SUMMARY:Cours de code AMC Formation
DESCRIPTION:
URL:https://www.ecsautoecole.fr/event/cours-de-code-6/2029-03-17/
LOCATION:AMC FORMATION la flèche
CATEGORIES:Cours de Code
END:VEVENT
BEGIN:VEVENT
DTSTART;TZID=Europe/Paris:20290317T130000
DTEND;TZID=Europe/Paris:20290317T140000
DTSTAMP:20260423T004307
CREATED:20250724T140337Z
LAST-MODIFIED:20250728T124054Z
UID:10004374-1868446800-1868450400@www.ecsautoecole.fr
SUMMARY:Cours de code à Sablé
DESCRIPTION:
URL:https://www.ecsautoecole.fr/event/cours-de-code-4/2029-03-17/
LOCATION:sablé sur sarthe\, 48 rue du mans\, sablé sur sarthe\, 72300\, France
CATEGORIES:Cours de Code
END:VEVENT
BEGIN:VEVENT
DTSTART;TZID=Europe/Paris:20290320T180000
DTEND;TZID=Europe/Paris:20290320T190000
DTSTAMP:20260423T004307
CREATED:20250724T072037Z
LAST-MODIFIED:20250728T124113Z
UID:10000201-1868724000-1868727600@www.ecsautoecole.fr
SUMMARY:Cours de code à Sablé
DESCRIPTION:
URL:https://www.ecsautoecole.fr/event/cours-de-code/2029-03-20/
LOCATION:sablé sur sarthe\, 48 rue du mans\, sablé sur sarthe\, 72300\, France
CATEGORIES:Cours de Code
END:VEVENT
BEGIN:VEVENT
DTSTART;TZID=Europe/Paris:20290321T180000
DTEND;TZID=Europe/Paris:20290321T190000
DTSTAMP:20260423T004307
CREATED:20250724T110200Z
LAST-MODIFIED:20250728T124123Z
UID:10000984-1868810400-1868814000@www.ecsautoecole.fr
SUMMARY:cours de code à Sablé
DESCRIPTION:
URL:https://www.ecsautoecole.fr/event/cours-de-code-2/2029-03-21/
LOCATION:sablé sur sarthe\, 48 rue du mans\, sablé sur sarthe\, 72300\, France
CATEGORIES:Cours de Code
END:VEVENT
BEGIN:VEVENT
DTSTART;TZID=Europe/Paris:20290321T180000
DTEND;TZID=Europe/Paris:20290321T190000
DTSTAMP:20260423T004307
CREATED:20250731T154643Z
LAST-MODIFIED:20250731T154643Z
UID:10009086-1868810400-1868814000@www.ecsautoecole.fr
SUMMARY:Cours de code AMC Formation
DESCRIPTION:
URL:https://www.ecsautoecole.fr/event/cours-de-code-amc-formation/2029-03-21/
LOCATION:AMC FORMATION la flèche
CATEGORIES:Cours de Code
END:VEVENT
BEGIN:VEVENT
DTSTART;TZID=Europe/Paris:20290323T180000
DTEND;TZID=Europe/Paris:20290323T190000
DTSTAMP:20260423T004307
CREATED:20250724T140124Z
LAST-MODIFIED:20250728T124030Z
UID:10002028-1868983200-1868986800@www.ecsautoecole.fr
SUMMARY:Cours de code à Sablé
DESCRIPTION:
URL:https://www.ecsautoecole.fr/event/cours-de-code-3/2029-03-23/
LOCATION:sablé sur sarthe\, 48 rue du mans\, sablé sur sarthe\, 72300\, France
CATEGORIES:Cours de Code
END:VEVENT
BEGIN:VEVENT
DTSTART;TZID=Europe/Paris:20290323T180000
DTEND;TZID=Europe/Paris:20290323T190000
DTSTAMP:20260423T004307
CREATED:20250731T154800Z
LAST-MODIFIED:20250731T154800Z
UID:10009610-1868983200-1868986800@www.ecsautoecole.fr
SUMMARY:Cours de code AMC Formation
DESCRIPTION:
URL:https://www.ecsautoecole.fr/event/cours-de-code-la-fleche/2029-03-23/
LOCATION:AMC FORMATION la flèche
CATEGORIES:Cours de Code
END:VEVENT
BEGIN:VEVENT
DTSTART;TZID=Europe/Paris:20290324T100000
DTEND;TZID=Europe/Paris:20290324T110000
DTSTAMP:20260423T004307
CREATED:20250731T155102Z
LAST-MODIFIED:20250731T155102Z
UID:10010656-1869040800-1869044400@www.ecsautoecole.fr
SUMMARY:Cours de code AMC Formation
DESCRIPTION:
URL:https://www.ecsautoecole.fr/event/cours-de-code-6/2029-03-24/
LOCATION:AMC FORMATION la flèche
CATEGORIES:Cours de Code
END:VEVENT
BEGIN:VEVENT
DTSTART;TZID=Europe/Paris:20290324T130000
DTEND;TZID=Europe/Paris:20290324T140000
DTSTAMP:20260423T004307
CREATED:20250724T140337Z
LAST-MODIFIED:20250728T124054Z
UID:10004375-1869051600-1869055200@www.ecsautoecole.fr
SUMMARY:Cours de code à Sablé
DESCRIPTION:
URL:https://www.ecsautoecole.fr/event/cours-de-code-4/2029-03-24/
LOCATION:sablé sur sarthe\, 48 rue du mans\, sablé sur sarthe\, 72300\, France
CATEGORIES:Cours de Code
END:VEVENT
BEGIN:VEVENT
DTSTART;TZID=Europe/Paris:20290327T180000
DTEND;TZID=Europe/Paris:20290327T190000
DTSTAMP:20260423T004307
CREATED:20250724T072037Z
LAST-MODIFIED:20250728T124113Z
UID:10000202-1869328800-1869332400@www.ecsautoecole.fr
SUMMARY:Cours de code à Sablé
DESCRIPTION:
URL:https://www.ecsautoecole.fr/event/cours-de-code/2029-03-27/
LOCATION:sablé sur sarthe\, 48 rue du mans\, sablé sur sarthe\, 72300\, France
CATEGORIES:Cours de Code
END:VEVENT
BEGIN:VEVENT
DTSTART;TZID=Europe/Paris:20290328T180000
DTEND;TZID=Europe/Paris:20290328T190000
DTSTAMP:20260423T004307
CREATED:20250724T110200Z
LAST-MODIFIED:20250728T124123Z
UID:10000985-1869415200-1869418800@www.ecsautoecole.fr
SUMMARY:cours de code à Sablé
DESCRIPTION:
URL:https://www.ecsautoecole.fr/event/cours-de-code-2/2029-03-28/
LOCATION:sablé sur sarthe\, 48 rue du mans\, sablé sur sarthe\, 72300\, France
CATEGORIES:Cours de Code
END:VEVENT
BEGIN:VEVENT
DTSTART;TZID=Europe/Paris:20290328T180000
DTEND;TZID=Europe/Paris:20290328T190000
DTSTAMP:20260423T004307
CREATED:20250731T154643Z
LAST-MODIFIED:20250731T154643Z
UID:10009087-1869415200-1869418800@www.ecsautoecole.fr
SUMMARY:Cours de code AMC Formation
DESCRIPTION:
URL:https://www.ecsautoecole.fr/event/cours-de-code-amc-formation/2029-03-28/
LOCATION:AMC FORMATION la flèche
CATEGORIES:Cours de Code
END:VEVENT
BEGIN:VEVENT
DTSTART;TZID=Europe/Paris:20290330T180000
DTEND;TZID=Europe/Paris:20290330T190000
DTSTAMP:20260423T004307
CREATED:20250724T140124Z
LAST-MODIFIED:20250728T124030Z
UID:10002029-1869588000-1869591600@www.ecsautoecole.fr
SUMMARY:Cours de code à Sablé
DESCRIPTION:
URL:https://www.ecsautoecole.fr/event/cours-de-code-3/2029-03-30/
LOCATION:sablé sur sarthe\, 48 rue du mans\, sablé sur sarthe\, 72300\, France
CATEGORIES:Cours de Code
END:VEVENT
BEGIN:VEVENT
DTSTART;TZID=Europe/Paris:20290330T180000
DTEND;TZID=Europe/Paris:20290330T190000
DTSTAMP:20260423T004307
CREATED:20250731T154800Z
LAST-MODIFIED:20250731T154800Z
UID:10009611-1869588000-1869591600@www.ecsautoecole.fr
SUMMARY:Cours de code AMC Formation
DESCRIPTION:
URL:https://www.ecsautoecole.fr/event/cours-de-code-la-fleche/2029-03-30/
LOCATION:AMC FORMATION la flèche
CATEGORIES:Cours de Code
END:VEVENT
END:VCALENDAR