BEGIN:VCALENDAR
VERSION:2.0
PRODID:-//ECS Formation Sabolienne - ECPv6.10.1.1//NONSGML v1.0//EN
CALSCALE:GREGORIAN
METHOD:PUBLISH
X-WR-CALNAME:ECS Formation Sabolienne
X-ORIGINAL-URL:https://www.ecsautoecole.fr
X-WR-CALDESC:Évènements pour ECS Formation Sabolienne
REFRESH-INTERVAL;VALUE=DURATION:PT1H
X-Robots-Tag:noindex
X-PUBLISHED-TTL:PT1H
BEGIN:VTIMEZONE
TZID:Europe/Paris
BEGIN:DAYLIGHT
TZOFFSETFROM:+0100
TZOFFSETTO:+0200
TZNAME:CEST
DTSTART:20300331T010000
END:DAYLIGHT
BEGIN:STANDARD
TZOFFSETFROM:+0200
TZOFFSETTO:+0100
TZNAME:CET
DTSTART:20301027T010000
END:STANDARD
END:VTIMEZONE
BEGIN:VEVENT
DTSTART;TZID=Europe/Paris:20300101T180000
DTEND;TZID=Europe/Paris:20300101T190000
DTSTAMP:20260423T213841
CREATED:20250724T072037Z
LAST-MODIFIED:20250728T124113Z
UID:10000242-1893520800-1893524400@www.ecsautoecole.fr
SUMMARY:Cours de code à Sablé
DESCRIPTION:
URL:https://www.ecsautoecole.fr/event/cours-de-code/2030-01-01/
LOCATION:sablé sur sarthe\, 48 rue du mans\, sablé sur sarthe\, 72300\, France
CATEGORIES:Cours de Code
END:VEVENT
BEGIN:VEVENT
DTSTART;TZID=Europe/Paris:20300102T180000
DTEND;TZID=Europe/Paris:20300102T190000
DTSTAMP:20260423T213841
CREATED:20250724T110200Z
LAST-MODIFIED:20250728T124123Z
UID:10001025-1893607200-1893610800@www.ecsautoecole.fr
SUMMARY:cours de code à Sablé
DESCRIPTION:
URL:https://www.ecsautoecole.fr/event/cours-de-code-2/2030-01-02/
LOCATION:sablé sur sarthe\, 48 rue du mans\, sablé sur sarthe\, 72300\, France
CATEGORIES:Cours de Code
END:VEVENT
BEGIN:VEVENT
DTSTART;TZID=Europe/Paris:20300102T180000
DTEND;TZID=Europe/Paris:20300102T190000
DTSTAMP:20260423T213841
CREATED:20250731T154643Z
LAST-MODIFIED:20250731T154643Z
UID:10009127-1893607200-1893610800@www.ecsautoecole.fr
SUMMARY:Cours de code AMC Formation
DESCRIPTION:
URL:https://www.ecsautoecole.fr/event/cours-de-code-amc-formation/2030-01-02/
LOCATION:AMC FORMATION la flèche
CATEGORIES:Cours de Code
END:VEVENT
BEGIN:VEVENT
DTSTART;TZID=Europe/Paris:20300104T180000
DTEND;TZID=Europe/Paris:20300104T190000
DTSTAMP:20260423T213841
CREATED:20250724T140124Z
LAST-MODIFIED:20250728T124030Z
UID:10002069-1893780000-1893783600@www.ecsautoecole.fr
SUMMARY:Cours de code à Sablé
DESCRIPTION:
URL:https://www.ecsautoecole.fr/event/cours-de-code-3/2030-01-04/
LOCATION:sablé sur sarthe\, 48 rue du mans\, sablé sur sarthe\, 72300\, France
CATEGORIES:Cours de Code
END:VEVENT
BEGIN:VEVENT
DTSTART;TZID=Europe/Paris:20300104T180000
DTEND;TZID=Europe/Paris:20300104T190000
DTSTAMP:20260423T213841
CREATED:20250731T154800Z
LAST-MODIFIED:20250731T154800Z
UID:10009651-1893780000-1893783600@www.ecsautoecole.fr
SUMMARY:Cours de code AMC Formation
DESCRIPTION:
URL:https://www.ecsautoecole.fr/event/cours-de-code-la-fleche/2030-01-04/
LOCATION:AMC FORMATION la flèche
CATEGORIES:Cours de Code
END:VEVENT
BEGIN:VEVENT
DTSTART;TZID=Europe/Paris:20300105T100000
DTEND;TZID=Europe/Paris:20300105T110000
DTSTAMP:20260423T213841
CREATED:20250731T155102Z
LAST-MODIFIED:20250731T155102Z
UID:10010697-1893837600-1893841200@www.ecsautoecole.fr
SUMMARY:Cours de code AMC Formation
DESCRIPTION:
URL:https://www.ecsautoecole.fr/event/cours-de-code-6/2030-01-05/
LOCATION:AMC FORMATION la flèche
CATEGORIES:Cours de Code
END:VEVENT
BEGIN:VEVENT
DTSTART;TZID=Europe/Paris:20300105T130000
DTEND;TZID=Europe/Paris:20300105T140000
DTSTAMP:20260423T213841
CREATED:20250724T140337Z
LAST-MODIFIED:20250728T124054Z
UID:10004416-1893848400-1893852000@www.ecsautoecole.fr
SUMMARY:Cours de code à Sablé
DESCRIPTION:
URL:https://www.ecsautoecole.fr/event/cours-de-code-4/2030-01-05/
LOCATION:sablé sur sarthe\, 48 rue du mans\, sablé sur sarthe\, 72300\, France
CATEGORIES:Cours de Code
END:VEVENT
BEGIN:VEVENT
DTSTART;TZID=Europe/Paris:20300108T180000
DTEND;TZID=Europe/Paris:20300108T190000
DTSTAMP:20260423T213841
CREATED:20250724T072037Z
LAST-MODIFIED:20250728T124113Z
UID:10000243-1894125600-1894129200@www.ecsautoecole.fr
SUMMARY:Cours de code à Sablé
DESCRIPTION:
URL:https://www.ecsautoecole.fr/event/cours-de-code/2030-01-08/
LOCATION:sablé sur sarthe\, 48 rue du mans\, sablé sur sarthe\, 72300\, France
CATEGORIES:Cours de Code
END:VEVENT
BEGIN:VEVENT
DTSTART;TZID=Europe/Paris:20300109T180000
DTEND;TZID=Europe/Paris:20300109T190000
DTSTAMP:20260423T213841
CREATED:20250724T110200Z
LAST-MODIFIED:20250728T124123Z
UID:10001026-1894212000-1894215600@www.ecsautoecole.fr
SUMMARY:cours de code à Sablé
DESCRIPTION:
URL:https://www.ecsautoecole.fr/event/cours-de-code-2/2030-01-09/
LOCATION:sablé sur sarthe\, 48 rue du mans\, sablé sur sarthe\, 72300\, France
CATEGORIES:Cours de Code
END:VEVENT
BEGIN:VEVENT
DTSTART;TZID=Europe/Paris:20300109T180000
DTEND;TZID=Europe/Paris:20300109T190000
DTSTAMP:20260423T213841
CREATED:20250731T154643Z
LAST-MODIFIED:20250731T154643Z
UID:10009128-1894212000-1894215600@www.ecsautoecole.fr
SUMMARY:Cours de code AMC Formation
DESCRIPTION:
URL:https://www.ecsautoecole.fr/event/cours-de-code-amc-formation/2030-01-09/
LOCATION:AMC FORMATION la flèche
CATEGORIES:Cours de Code
END:VEVENT
BEGIN:VEVENT
DTSTART;TZID=Europe/Paris:20300111T180000
DTEND;TZID=Europe/Paris:20300111T190000
DTSTAMP:20260423T213841
CREATED:20250724T140124Z
LAST-MODIFIED:20250728T124030Z
UID:10002070-1894384800-1894388400@www.ecsautoecole.fr
SUMMARY:Cours de code à Sablé
DESCRIPTION:
URL:https://www.ecsautoecole.fr/event/cours-de-code-3/2030-01-11/
LOCATION:sablé sur sarthe\, 48 rue du mans\, sablé sur sarthe\, 72300\, France
CATEGORIES:Cours de Code
END:VEVENT
BEGIN:VEVENT
DTSTART;TZID=Europe/Paris:20300111T180000
DTEND;TZID=Europe/Paris:20300111T190000
DTSTAMP:20260423T213841
CREATED:20250731T154800Z
LAST-MODIFIED:20250731T154800Z
UID:10009652-1894384800-1894388400@www.ecsautoecole.fr
SUMMARY:Cours de code AMC Formation
DESCRIPTION:
URL:https://www.ecsautoecole.fr/event/cours-de-code-la-fleche/2030-01-11/
LOCATION:AMC FORMATION la flèche
CATEGORIES:Cours de Code
END:VEVENT
BEGIN:VEVENT
DTSTART;TZID=Europe/Paris:20300112T100000
DTEND;TZID=Europe/Paris:20300112T110000
DTSTAMP:20260423T213841
CREATED:20250731T155102Z
LAST-MODIFIED:20250731T155102Z
UID:10010698-1894442400-1894446000@www.ecsautoecole.fr
SUMMARY:Cours de code AMC Formation
DESCRIPTION:
URL:https://www.ecsautoecole.fr/event/cours-de-code-6/2030-01-12/
LOCATION:AMC FORMATION la flèche
CATEGORIES:Cours de Code
END:VEVENT
BEGIN:VEVENT
DTSTART;TZID=Europe/Paris:20300112T130000
DTEND;TZID=Europe/Paris:20300112T140000
DTSTAMP:20260423T213841
CREATED:20250724T140337Z
LAST-MODIFIED:20250728T124054Z
UID:10004417-1894453200-1894456800@www.ecsautoecole.fr
SUMMARY:Cours de code à Sablé
DESCRIPTION:
URL:https://www.ecsautoecole.fr/event/cours-de-code-4/2030-01-12/
LOCATION:sablé sur sarthe\, 48 rue du mans\, sablé sur sarthe\, 72300\, France
CATEGORIES:Cours de Code
END:VEVENT
BEGIN:VEVENT
DTSTART;TZID=Europe/Paris:20300115T180000
DTEND;TZID=Europe/Paris:20300115T190000
DTSTAMP:20260423T213841
CREATED:20250724T072037Z
LAST-MODIFIED:20250728T124113Z
UID:10000244-1894730400-1894734000@www.ecsautoecole.fr
SUMMARY:Cours de code à Sablé
DESCRIPTION:
URL:https://www.ecsautoecole.fr/event/cours-de-code/2030-01-15/
LOCATION:sablé sur sarthe\, 48 rue du mans\, sablé sur sarthe\, 72300\, France
CATEGORIES:Cours de Code
END:VEVENT
BEGIN:VEVENT
DTSTART;TZID=Europe/Paris:20300116T180000
DTEND;TZID=Europe/Paris:20300116T190000
DTSTAMP:20260423T213841
CREATED:20250724T110200Z
LAST-MODIFIED:20250728T124123Z
UID:10001027-1894816800-1894820400@www.ecsautoecole.fr
SUMMARY:cours de code à Sablé
DESCRIPTION:
URL:https://www.ecsautoecole.fr/event/cours-de-code-2/2030-01-16/
LOCATION:sablé sur sarthe\, 48 rue du mans\, sablé sur sarthe\, 72300\, France
CATEGORIES:Cours de Code
END:VEVENT
BEGIN:VEVENT
DTSTART;TZID=Europe/Paris:20300116T180000
DTEND;TZID=Europe/Paris:20300116T190000
DTSTAMP:20260423T213841
CREATED:20250731T154643Z
LAST-MODIFIED:20250731T154643Z
UID:10009129-1894816800-1894820400@www.ecsautoecole.fr
SUMMARY:Cours de code AMC Formation
DESCRIPTION:
URL:https://www.ecsautoecole.fr/event/cours-de-code-amc-formation/2030-01-16/
LOCATION:AMC FORMATION la flèche
CATEGORIES:Cours de Code
END:VEVENT
BEGIN:VEVENT
DTSTART;TZID=Europe/Paris:20300118T180000
DTEND;TZID=Europe/Paris:20300118T190000
DTSTAMP:20260423T213841
CREATED:20250724T140124Z
LAST-MODIFIED:20250728T124030Z
UID:10002071-1894989600-1894993200@www.ecsautoecole.fr
SUMMARY:Cours de code à Sablé
DESCRIPTION:
URL:https://www.ecsautoecole.fr/event/cours-de-code-3/2030-01-18/
LOCATION:sablé sur sarthe\, 48 rue du mans\, sablé sur sarthe\, 72300\, France
CATEGORIES:Cours de Code
END:VEVENT
BEGIN:VEVENT
DTSTART;TZID=Europe/Paris:20300118T180000
DTEND;TZID=Europe/Paris:20300118T190000
DTSTAMP:20260423T213841
CREATED:20250731T154800Z
LAST-MODIFIED:20250731T154800Z
UID:10009653-1894989600-1894993200@www.ecsautoecole.fr
SUMMARY:Cours de code AMC Formation
DESCRIPTION:
URL:https://www.ecsautoecole.fr/event/cours-de-code-la-fleche/2030-01-18/
LOCATION:AMC FORMATION la flèche
CATEGORIES:Cours de Code
END:VEVENT
BEGIN:VEVENT
DTSTART;TZID=Europe/Paris:20300119T100000
DTEND;TZID=Europe/Paris:20300119T110000
DTSTAMP:20260423T213841
CREATED:20250731T155102Z
LAST-MODIFIED:20250731T155102Z
UID:10010699-1895047200-1895050800@www.ecsautoecole.fr
SUMMARY:Cours de code AMC Formation
DESCRIPTION:
URL:https://www.ecsautoecole.fr/event/cours-de-code-6/2030-01-19/
LOCATION:AMC FORMATION la flèche
CATEGORIES:Cours de Code
END:VEVENT
BEGIN:VEVENT
DTSTART;TZID=Europe/Paris:20300119T130000
DTEND;TZID=Europe/Paris:20300119T140000
DTSTAMP:20260423T213841
CREATED:20250724T140337Z
LAST-MODIFIED:20250728T124054Z
UID:10004418-1895058000-1895061600@www.ecsautoecole.fr
SUMMARY:Cours de code à Sablé
DESCRIPTION:
URL:https://www.ecsautoecole.fr/event/cours-de-code-4/2030-01-19/
LOCATION:sablé sur sarthe\, 48 rue du mans\, sablé sur sarthe\, 72300\, France
CATEGORIES:Cours de Code
END:VEVENT
BEGIN:VEVENT
DTSTART;TZID=Europe/Paris:20300122T180000
DTEND;TZID=Europe/Paris:20300122T190000
DTSTAMP:20260423T213841
CREATED:20250724T072037Z
LAST-MODIFIED:20250728T124113Z
UID:10000245-1895335200-1895338800@www.ecsautoecole.fr
SUMMARY:Cours de code à Sablé
DESCRIPTION:
URL:https://www.ecsautoecole.fr/event/cours-de-code/2030-01-22/
LOCATION:sablé sur sarthe\, 48 rue du mans\, sablé sur sarthe\, 72300\, France
CATEGORIES:Cours de Code
END:VEVENT
BEGIN:VEVENT
DTSTART;TZID=Europe/Paris:20300123T180000
DTEND;TZID=Europe/Paris:20300123T190000
DTSTAMP:20260423T213841
CREATED:20250724T110200Z
LAST-MODIFIED:20250728T124123Z
UID:10001028-1895421600-1895425200@www.ecsautoecole.fr
SUMMARY:cours de code à Sablé
DESCRIPTION:
URL:https://www.ecsautoecole.fr/event/cours-de-code-2/2030-01-23/
LOCATION:sablé sur sarthe\, 48 rue du mans\, sablé sur sarthe\, 72300\, France
CATEGORIES:Cours de Code
END:VEVENT
BEGIN:VEVENT
DTSTART;TZID=Europe/Paris:20300123T180000
DTEND;TZID=Europe/Paris:20300123T190000
DTSTAMP:20260423T213841
CREATED:20250731T154643Z
LAST-MODIFIED:20250731T154643Z
UID:10009130-1895421600-1895425200@www.ecsautoecole.fr
SUMMARY:Cours de code AMC Formation
DESCRIPTION:
URL:https://www.ecsautoecole.fr/event/cours-de-code-amc-formation/2030-01-23/
LOCATION:AMC FORMATION la flèche
CATEGORIES:Cours de Code
END:VEVENT
BEGIN:VEVENT
DTSTART;TZID=Europe/Paris:20300125T180000
DTEND;TZID=Europe/Paris:20300125T190000
DTSTAMP:20260423T213841
CREATED:20250724T140124Z
LAST-MODIFIED:20250728T124030Z
UID:10002072-1895594400-1895598000@www.ecsautoecole.fr
SUMMARY:Cours de code à Sablé
DESCRIPTION:
URL:https://www.ecsautoecole.fr/event/cours-de-code-3/2030-01-25/
LOCATION:sablé sur sarthe\, 48 rue du mans\, sablé sur sarthe\, 72300\, France
CATEGORIES:Cours de Code
END:VEVENT
BEGIN:VEVENT
DTSTART;TZID=Europe/Paris:20300125T180000
DTEND;TZID=Europe/Paris:20300125T190000
DTSTAMP:20260423T213841
CREATED:20250731T154800Z
LAST-MODIFIED:20250731T154800Z
UID:10009654-1895594400-1895598000@www.ecsautoecole.fr
SUMMARY:Cours de code AMC Formation
DESCRIPTION:
URL:https://www.ecsautoecole.fr/event/cours-de-code-la-fleche/2030-01-25/
LOCATION:AMC FORMATION la flèche
CATEGORIES:Cours de Code
END:VEVENT
BEGIN:VEVENT
DTSTART;TZID=Europe/Paris:20300126T100000
DTEND;TZID=Europe/Paris:20300126T110000
DTSTAMP:20260423T213841
CREATED:20250731T155102Z
LAST-MODIFIED:20250731T155102Z
UID:10010700-1895652000-1895655600@www.ecsautoecole.fr
SUMMARY:Cours de code AMC Formation
DESCRIPTION:
URL:https://www.ecsautoecole.fr/event/cours-de-code-6/2030-01-26/
LOCATION:AMC FORMATION la flèche
CATEGORIES:Cours de Code
END:VEVENT
BEGIN:VEVENT
DTSTART;TZID=Europe/Paris:20300126T130000
DTEND;TZID=Europe/Paris:20300126T140000
DTSTAMP:20260423T213841
CREATED:20250724T140337Z
LAST-MODIFIED:20250728T124054Z
UID:10004419-1895662800-1895666400@www.ecsautoecole.fr
SUMMARY:Cours de code à Sablé
DESCRIPTION:
URL:https://www.ecsautoecole.fr/event/cours-de-code-4/2030-01-26/
LOCATION:sablé sur sarthe\, 48 rue du mans\, sablé sur sarthe\, 72300\, France
CATEGORIES:Cours de Code
END:VEVENT
BEGIN:VEVENT
DTSTART;TZID=Europe/Paris:20300129T180000
DTEND;TZID=Europe/Paris:20300129T190000
DTSTAMP:20260423T213841
CREATED:20250724T072037Z
LAST-MODIFIED:20250728T124113Z
UID:10000246-1895940000-1895943600@www.ecsautoecole.fr
SUMMARY:Cours de code à Sablé
DESCRIPTION:
URL:https://www.ecsautoecole.fr/event/cours-de-code/2030-01-29/
LOCATION:sablé sur sarthe\, 48 rue du mans\, sablé sur sarthe\, 72300\, France
CATEGORIES:Cours de Code
END:VEVENT
BEGIN:VEVENT
DTSTART;TZID=Europe/Paris:20300130T180000
DTEND;TZID=Europe/Paris:20300130T190000
DTSTAMP:20260423T213841
CREATED:20250724T110200Z
LAST-MODIFIED:20250728T124123Z
UID:10001029-1896026400-1896030000@www.ecsautoecole.fr
SUMMARY:cours de code à Sablé
DESCRIPTION:
URL:https://www.ecsautoecole.fr/event/cours-de-code-2/2030-01-30/
LOCATION:sablé sur sarthe\, 48 rue du mans\, sablé sur sarthe\, 72300\, France
CATEGORIES:Cours de Code
END:VEVENT
END:VCALENDAR