BEGIN:VCALENDAR
VERSION:2.0
PRODID:-//ECS Formation Sabolienne - ECPv6.10.1.1//NONSGML v1.0//EN
CALSCALE:GREGORIAN
METHOD:PUBLISH
X-WR-CALNAME:ECS Formation Sabolienne
X-ORIGINAL-URL:https://www.ecsautoecole.fr
X-WR-CALDESC:Évènements pour ECS Formation Sabolienne
REFRESH-INTERVAL;VALUE=DURATION:PT1H
X-Robots-Tag:noindex
X-PUBLISHED-TTL:PT1H
BEGIN:VTIMEZONE
TZID:Europe/Paris
BEGIN:DAYLIGHT
TZOFFSETFROM:+0100
TZOFFSETTO:+0200
TZNAME:CEST
DTSTART:20300331T010000
END:DAYLIGHT
BEGIN:STANDARD
TZOFFSETFROM:+0200
TZOFFSETTO:+0100
TZNAME:CET
DTSTART:20301027T010000
END:STANDARD
END:VTIMEZONE
BEGIN:VEVENT
DTSTART;TZID=Europe/Paris:20300601T100000
DTEND;TZID=Europe/Paris:20300601T110000
DTSTAMP:20260424T143536
CREATED:20250731T155102Z
LAST-MODIFIED:20250731T155102Z
UID:10010718-1906538400-1906542000@www.ecsautoecole.fr
SUMMARY:Cours de code AMC Formation
DESCRIPTION:
URL:https://www.ecsautoecole.fr/event/cours-de-code-6/2030-06-01/
LOCATION:AMC FORMATION la flèche
CATEGORIES:Cours de Code
END:VEVENT
BEGIN:VEVENT
DTSTART;TZID=Europe/Paris:20300601T130000
DTEND;TZID=Europe/Paris:20300601T140000
DTSTAMP:20260424T143536
CREATED:20250724T140337Z
LAST-MODIFIED:20250728T124054Z
UID:10004437-1906549200-1906552800@www.ecsautoecole.fr
SUMMARY:Cours de code à Sablé
DESCRIPTION:
URL:https://www.ecsautoecole.fr/event/cours-de-code-4/2030-06-01/
LOCATION:sablé sur sarthe\, 48 rue du mans\, sablé sur sarthe\, 72300\, France
CATEGORIES:Cours de Code
END:VEVENT
BEGIN:VEVENT
DTSTART;TZID=Europe/Paris:20300604T180000
DTEND;TZID=Europe/Paris:20300604T190000
DTSTAMP:20260424T143536
CREATED:20250724T072037Z
LAST-MODIFIED:20250728T124113Z
UID:10000264-1906826400-1906830000@www.ecsautoecole.fr
SUMMARY:Cours de code à Sablé
DESCRIPTION:
URL:https://www.ecsautoecole.fr/event/cours-de-code/2030-06-04/
LOCATION:sablé sur sarthe\, 48 rue du mans\, sablé sur sarthe\, 72300\, France
CATEGORIES:Cours de Code
END:VEVENT
BEGIN:VEVENT
DTSTART;TZID=Europe/Paris:20300605T180000
DTEND;TZID=Europe/Paris:20300605T190000
DTSTAMP:20260424T143536
CREATED:20250724T110200Z
LAST-MODIFIED:20250728T124123Z
UID:10001047-1906912800-1906916400@www.ecsautoecole.fr
SUMMARY:cours de code à Sablé
DESCRIPTION:
URL:https://www.ecsautoecole.fr/event/cours-de-code-2/2030-06-05/
LOCATION:sablé sur sarthe\, 48 rue du mans\, sablé sur sarthe\, 72300\, France
CATEGORIES:Cours de Code
END:VEVENT
BEGIN:VEVENT
DTSTART;TZID=Europe/Paris:20300605T180000
DTEND;TZID=Europe/Paris:20300605T190000
DTSTAMP:20260424T143536
CREATED:20250731T154643Z
LAST-MODIFIED:20250731T154643Z
UID:10009149-1906912800-1906916400@www.ecsautoecole.fr
SUMMARY:Cours de code AMC Formation
DESCRIPTION:
URL:https://www.ecsautoecole.fr/event/cours-de-code-amc-formation/2030-06-05/
LOCATION:AMC FORMATION la flèche
CATEGORIES:Cours de Code
END:VEVENT
BEGIN:VEVENT
DTSTART;TZID=Europe/Paris:20300607T180000
DTEND;TZID=Europe/Paris:20300607T190000
DTSTAMP:20260424T143536
CREATED:20250724T140124Z
LAST-MODIFIED:20250728T124030Z
UID:10002091-1907085600-1907089200@www.ecsautoecole.fr
SUMMARY:Cours de code à Sablé
DESCRIPTION:
URL:https://www.ecsautoecole.fr/event/cours-de-code-3/2030-06-07/
LOCATION:sablé sur sarthe\, 48 rue du mans\, sablé sur sarthe\, 72300\, France
CATEGORIES:Cours de Code
END:VEVENT
BEGIN:VEVENT
DTSTART;TZID=Europe/Paris:20300607T180000
DTEND;TZID=Europe/Paris:20300607T190000
DTSTAMP:20260424T143536
CREATED:20250731T154800Z
LAST-MODIFIED:20250731T154800Z
UID:10009673-1907085600-1907089200@www.ecsautoecole.fr
SUMMARY:Cours de code AMC Formation
DESCRIPTION:
URL:https://www.ecsautoecole.fr/event/cours-de-code-la-fleche/2030-06-07/
LOCATION:AMC FORMATION la flèche
CATEGORIES:Cours de Code
END:VEVENT
BEGIN:VEVENT
DTSTART;TZID=Europe/Paris:20300608T100000
DTEND;TZID=Europe/Paris:20300608T110000
DTSTAMP:20260424T143536
CREATED:20250731T155102Z
LAST-MODIFIED:20250731T155102Z
UID:10010719-1907143200-1907146800@www.ecsautoecole.fr
SUMMARY:Cours de code AMC Formation
DESCRIPTION:
URL:https://www.ecsautoecole.fr/event/cours-de-code-6/2030-06-08/
LOCATION:AMC FORMATION la flèche
CATEGORIES:Cours de Code
END:VEVENT
BEGIN:VEVENT
DTSTART;TZID=Europe/Paris:20300608T130000
DTEND;TZID=Europe/Paris:20300608T140000
DTSTAMP:20260424T143536
CREATED:20250724T140337Z
LAST-MODIFIED:20250728T124054Z
UID:10004438-1907154000-1907157600@www.ecsautoecole.fr
SUMMARY:Cours de code à Sablé
DESCRIPTION:
URL:https://www.ecsautoecole.fr/event/cours-de-code-4/2030-06-08/
LOCATION:sablé sur sarthe\, 48 rue du mans\, sablé sur sarthe\, 72300\, France
CATEGORIES:Cours de Code
END:VEVENT
BEGIN:VEVENT
DTSTART;TZID=Europe/Paris:20300611T180000
DTEND;TZID=Europe/Paris:20300611T190000
DTSTAMP:20260424T143536
CREATED:20250724T072037Z
LAST-MODIFIED:20250728T124113Z
UID:10000265-1907431200-1907434800@www.ecsautoecole.fr
SUMMARY:Cours de code à Sablé
DESCRIPTION:
URL:https://www.ecsautoecole.fr/event/cours-de-code/2030-06-11/
LOCATION:sablé sur sarthe\, 48 rue du mans\, sablé sur sarthe\, 72300\, France
CATEGORIES:Cours de Code
END:VEVENT
BEGIN:VEVENT
DTSTART;TZID=Europe/Paris:20300612T180000
DTEND;TZID=Europe/Paris:20300612T190000
DTSTAMP:20260424T143536
CREATED:20250724T110200Z
LAST-MODIFIED:20250728T124123Z
UID:10001048-1907517600-1907521200@www.ecsautoecole.fr
SUMMARY:cours de code à Sablé
DESCRIPTION:
URL:https://www.ecsautoecole.fr/event/cours-de-code-2/2030-06-12/
LOCATION:sablé sur sarthe\, 48 rue du mans\, sablé sur sarthe\, 72300\, France
CATEGORIES:Cours de Code
END:VEVENT
BEGIN:VEVENT
DTSTART;TZID=Europe/Paris:20300612T180000
DTEND;TZID=Europe/Paris:20300612T190000
DTSTAMP:20260424T143536
CREATED:20250731T154643Z
LAST-MODIFIED:20250731T154643Z
UID:10009150-1907517600-1907521200@www.ecsautoecole.fr
SUMMARY:Cours de code AMC Formation
DESCRIPTION:
URL:https://www.ecsautoecole.fr/event/cours-de-code-amc-formation/2030-06-12/
LOCATION:AMC FORMATION la flèche
CATEGORIES:Cours de Code
END:VEVENT
BEGIN:VEVENT
DTSTART;TZID=Europe/Paris:20300614T180000
DTEND;TZID=Europe/Paris:20300614T190000
DTSTAMP:20260424T143536
CREATED:20250724T140124Z
LAST-MODIFIED:20250728T124030Z
UID:10002092-1907690400-1907694000@www.ecsautoecole.fr
SUMMARY:Cours de code à Sablé
DESCRIPTION:
URL:https://www.ecsautoecole.fr/event/cours-de-code-3/2030-06-14/
LOCATION:sablé sur sarthe\, 48 rue du mans\, sablé sur sarthe\, 72300\, France
CATEGORIES:Cours de Code
END:VEVENT
BEGIN:VEVENT
DTSTART;TZID=Europe/Paris:20300614T180000
DTEND;TZID=Europe/Paris:20300614T190000
DTSTAMP:20260424T143536
CREATED:20250731T154800Z
LAST-MODIFIED:20250731T154800Z
UID:10009674-1907690400-1907694000@www.ecsautoecole.fr
SUMMARY:Cours de code AMC Formation
DESCRIPTION:
URL:https://www.ecsautoecole.fr/event/cours-de-code-la-fleche/2030-06-14/
LOCATION:AMC FORMATION la flèche
CATEGORIES:Cours de Code
END:VEVENT
BEGIN:VEVENT
DTSTART;TZID=Europe/Paris:20300615T100000
DTEND;TZID=Europe/Paris:20300615T110000
DTSTAMP:20260424T143536
CREATED:20250731T155102Z
LAST-MODIFIED:20250731T155102Z
UID:10010720-1907748000-1907751600@www.ecsautoecole.fr
SUMMARY:Cours de code AMC Formation
DESCRIPTION:
URL:https://www.ecsautoecole.fr/event/cours-de-code-6/2030-06-15/
LOCATION:AMC FORMATION la flèche
CATEGORIES:Cours de Code
END:VEVENT
BEGIN:VEVENT
DTSTART;TZID=Europe/Paris:20300615T130000
DTEND;TZID=Europe/Paris:20300615T140000
DTSTAMP:20260424T143536
CREATED:20250724T140337Z
LAST-MODIFIED:20250728T124054Z
UID:10004439-1907758800-1907762400@www.ecsautoecole.fr
SUMMARY:Cours de code à Sablé
DESCRIPTION:
URL:https://www.ecsautoecole.fr/event/cours-de-code-4/2030-06-15/
LOCATION:sablé sur sarthe\, 48 rue du mans\, sablé sur sarthe\, 72300\, France
CATEGORIES:Cours de Code
END:VEVENT
BEGIN:VEVENT
DTSTART;TZID=Europe/Paris:20300618T180000
DTEND;TZID=Europe/Paris:20300618T190000
DTSTAMP:20260424T143536
CREATED:20250724T072037Z
LAST-MODIFIED:20250728T124113Z
UID:10000266-1908036000-1908039600@www.ecsautoecole.fr
SUMMARY:Cours de code à Sablé
DESCRIPTION:
URL:https://www.ecsautoecole.fr/event/cours-de-code/2030-06-18/
LOCATION:sablé sur sarthe\, 48 rue du mans\, sablé sur sarthe\, 72300\, France
CATEGORIES:Cours de Code
END:VEVENT
BEGIN:VEVENT
DTSTART;TZID=Europe/Paris:20300619T180000
DTEND;TZID=Europe/Paris:20300619T190000
DTSTAMP:20260424T143536
CREATED:20250724T110200Z
LAST-MODIFIED:20250728T124123Z
UID:10001049-1908122400-1908126000@www.ecsautoecole.fr
SUMMARY:cours de code à Sablé
DESCRIPTION:
URL:https://www.ecsautoecole.fr/event/cours-de-code-2/2030-06-19/
LOCATION:sablé sur sarthe\, 48 rue du mans\, sablé sur sarthe\, 72300\, France
CATEGORIES:Cours de Code
END:VEVENT
BEGIN:VEVENT
DTSTART;TZID=Europe/Paris:20300619T180000
DTEND;TZID=Europe/Paris:20300619T190000
DTSTAMP:20260424T143536
CREATED:20250731T154643Z
LAST-MODIFIED:20250731T154643Z
UID:10009151-1908122400-1908126000@www.ecsautoecole.fr
SUMMARY:Cours de code AMC Formation
DESCRIPTION:
URL:https://www.ecsautoecole.fr/event/cours-de-code-amc-formation/2030-06-19/
LOCATION:AMC FORMATION la flèche
CATEGORIES:Cours de Code
END:VEVENT
BEGIN:VEVENT
DTSTART;TZID=Europe/Paris:20300621T180000
DTEND;TZID=Europe/Paris:20300621T190000
DTSTAMP:20260424T143536
CREATED:20250724T140124Z
LAST-MODIFIED:20250728T124030Z
UID:10002093-1908295200-1908298800@www.ecsautoecole.fr
SUMMARY:Cours de code à Sablé
DESCRIPTION:
URL:https://www.ecsautoecole.fr/event/cours-de-code-3/2030-06-21/
LOCATION:sablé sur sarthe\, 48 rue du mans\, sablé sur sarthe\, 72300\, France
CATEGORIES:Cours de Code
END:VEVENT
BEGIN:VEVENT
DTSTART;TZID=Europe/Paris:20300621T180000
DTEND;TZID=Europe/Paris:20300621T190000
DTSTAMP:20260424T143536
CREATED:20250731T154800Z
LAST-MODIFIED:20250731T154800Z
UID:10009675-1908295200-1908298800@www.ecsautoecole.fr
SUMMARY:Cours de code AMC Formation
DESCRIPTION:
URL:https://www.ecsautoecole.fr/event/cours-de-code-la-fleche/2030-06-21/
LOCATION:AMC FORMATION la flèche
CATEGORIES:Cours de Code
END:VEVENT
BEGIN:VEVENT
DTSTART;TZID=Europe/Paris:20300622T100000
DTEND;TZID=Europe/Paris:20300622T110000
DTSTAMP:20260424T143536
CREATED:20250731T155102Z
LAST-MODIFIED:20250731T155102Z
UID:10010721-1908352800-1908356400@www.ecsautoecole.fr
SUMMARY:Cours de code AMC Formation
DESCRIPTION:
URL:https://www.ecsautoecole.fr/event/cours-de-code-6/2030-06-22/
LOCATION:AMC FORMATION la flèche
CATEGORIES:Cours de Code
END:VEVENT
BEGIN:VEVENT
DTSTART;TZID=Europe/Paris:20300622T130000
DTEND;TZID=Europe/Paris:20300622T140000
DTSTAMP:20260424T143536
CREATED:20250724T140337Z
LAST-MODIFIED:20250728T124054Z
UID:10004440-1908363600-1908367200@www.ecsautoecole.fr
SUMMARY:Cours de code à Sablé
DESCRIPTION:
URL:https://www.ecsautoecole.fr/event/cours-de-code-4/2030-06-22/
LOCATION:sablé sur sarthe\, 48 rue du mans\, sablé sur sarthe\, 72300\, France
CATEGORIES:Cours de Code
END:VEVENT
BEGIN:VEVENT
DTSTART;TZID=Europe/Paris:20300625T180000
DTEND;TZID=Europe/Paris:20300625T190000
DTSTAMP:20260424T143536
CREATED:20250724T072037Z
LAST-MODIFIED:20250728T124113Z
UID:10000267-1908640800-1908644400@www.ecsautoecole.fr
SUMMARY:Cours de code à Sablé
DESCRIPTION:
URL:https://www.ecsautoecole.fr/event/cours-de-code/2030-06-25/
LOCATION:sablé sur sarthe\, 48 rue du mans\, sablé sur sarthe\, 72300\, France
CATEGORIES:Cours de Code
END:VEVENT
BEGIN:VEVENT
DTSTART;TZID=Europe/Paris:20300626T180000
DTEND;TZID=Europe/Paris:20300626T190000
DTSTAMP:20260424T143536
CREATED:20250724T110200Z
LAST-MODIFIED:20250728T124123Z
UID:10001050-1908727200-1908730800@www.ecsautoecole.fr
SUMMARY:cours de code à Sablé
DESCRIPTION:
URL:https://www.ecsautoecole.fr/event/cours-de-code-2/2030-06-26/
LOCATION:sablé sur sarthe\, 48 rue du mans\, sablé sur sarthe\, 72300\, France
CATEGORIES:Cours de Code
END:VEVENT
BEGIN:VEVENT
DTSTART;TZID=Europe/Paris:20300626T180000
DTEND;TZID=Europe/Paris:20300626T190000
DTSTAMP:20260424T143536
CREATED:20250731T154643Z
LAST-MODIFIED:20250731T154643Z
UID:10009152-1908727200-1908730800@www.ecsautoecole.fr
SUMMARY:Cours de code AMC Formation
DESCRIPTION:
URL:https://www.ecsautoecole.fr/event/cours-de-code-amc-formation/2030-06-26/
LOCATION:AMC FORMATION la flèche
CATEGORIES:Cours de Code
END:VEVENT
BEGIN:VEVENT
DTSTART;TZID=Europe/Paris:20300628T180000
DTEND;TZID=Europe/Paris:20300628T190000
DTSTAMP:20260424T143536
CREATED:20250724T140124Z
LAST-MODIFIED:20250728T124030Z
UID:10002094-1908900000-1908903600@www.ecsautoecole.fr
SUMMARY:Cours de code à Sablé
DESCRIPTION:
URL:https://www.ecsautoecole.fr/event/cours-de-code-3/2030-06-28/
LOCATION:sablé sur sarthe\, 48 rue du mans\, sablé sur sarthe\, 72300\, France
CATEGORIES:Cours de Code
END:VEVENT
BEGIN:VEVENT
DTSTART;TZID=Europe/Paris:20300628T180000
DTEND;TZID=Europe/Paris:20300628T190000
DTSTAMP:20260424T143536
CREATED:20250731T154800Z
LAST-MODIFIED:20250731T154800Z
UID:10009676-1908900000-1908903600@www.ecsautoecole.fr
SUMMARY:Cours de code AMC Formation
DESCRIPTION:
URL:https://www.ecsautoecole.fr/event/cours-de-code-la-fleche/2030-06-28/
LOCATION:AMC FORMATION la flèche
CATEGORIES:Cours de Code
END:VEVENT
BEGIN:VEVENT
DTSTART;TZID=Europe/Paris:20300629T100000
DTEND;TZID=Europe/Paris:20300629T110000
DTSTAMP:20260424T143536
CREATED:20250731T155102Z
LAST-MODIFIED:20250731T155102Z
UID:10010722-1908957600-1908961200@www.ecsautoecole.fr
SUMMARY:Cours de code AMC Formation
DESCRIPTION:
URL:https://www.ecsautoecole.fr/event/cours-de-code-6/2030-06-29/
LOCATION:AMC FORMATION la flèche
CATEGORIES:Cours de Code
END:VEVENT
BEGIN:VEVENT
DTSTART;TZID=Europe/Paris:20300629T130000
DTEND;TZID=Europe/Paris:20300629T140000
DTSTAMP:20260424T143536
CREATED:20250724T140337Z
LAST-MODIFIED:20250728T124054Z
UID:10004441-1908968400-1908972000@www.ecsautoecole.fr
SUMMARY:Cours de code à Sablé
DESCRIPTION:
URL:https://www.ecsautoecole.fr/event/cours-de-code-4/2030-06-29/
LOCATION:sablé sur sarthe\, 48 rue du mans\, sablé sur sarthe\, 72300\, France
CATEGORIES:Cours de Code
END:VEVENT
END:VCALENDAR